Workbook

Sheet Черкаський район (узагальнена)
A1: ДАНІ
A2: щодо забезпечення осіб/сімей, які належать до вразливих груп населення або перебувають у складних життєвих обставинах, соціальними послугами у ЧЕРКАСЬКОМУ РАЙОНІ
A3: Назва соціальної послуги відповідно до переліку соціальних послуг | B3: Кількість осіб, які звертались щодо отримання соціальних послуг, та осіб/сімей, щодо яких надійшли звернення/ повідомлення про потребу в соціальних послугах у звітному періоді* | C3: Кількість осіб/сімей, щодо яких за результатами оцінки потреб особи/сім’ї зроблено висновок про потребу в наданні соціальних послуг* | D3: Кількість осіб/сімей, які отримували соціальні послуги* | E3: Кількість осіб, які звертались щодо отримання соціальних послуг екстрено (кризово), та осіб/сімей, щодо яких надійшли звернення / повідомлення про потребу в соціальних послугах** | H3: Кількість осіб/сімей, які отримували соціальні послуги екстрено(кризово)**
E4: всього осіб/сімей | F4: з них кількість внутрішньо переміщених осіб/сімей | G4: в них дітей | H4: всього осіб/сімей | I4: з них кількість внутрішньо переміщених осіб/сімей | J4: в них дітей
A5: 1 | B5: 2 | C5: 3 | D5: 4 | E5: 5 | F5: 6 | G5: 7 | H5: 8 | I5: 9 | J5: 10
A6: Базові соціальні послуги
A7: Догляд вдома | B7: ='Балаклеївська сільська територі'!B7+'Березняківська сільська територ'!B7+'Білозірська сільська територіал'!B7+'Бобрицька сільська територіальн'!B7+'Будищенська сільська територіал'!B7+'Городищенська міська територіал'!B7+'Кам’янська міська територіальна'!B7+'Канівська міська територіальна '!B7+'Корсунь-Шевченківська міська те'!B7+'Леськівська сільська територіал'!B7+'Ліплявська сільська територіаль'!B7+'Медведівська сільська територіа'!B7+'Михайлівська сільська територіа'!B7+'Мліївська сільська територіальн'!B7+'Мошнівська сільська територіаль'!B7+'Набутівська сільська територіал'!B7+'Ротмістрівська сільська територ'!B7+'Руськополянська сільська терито'!B7+'Сагунівська сільська територіал'!B7+'Смілянська міська територіальна'!B7+'Степанецька сільська територіал'!B7+'Степанківська сільська територі'!B7+'Тернівська сільська територіаль'!B7+'Червонослобідська сільська тери'!B7+'Черкаська міська територіальна '!B7+'Чигиринська міська територіальн'!B7 -> 3577 | C7: ='Балаклеївська сільська територі'!C7+'Березняківська сільська територ'!C7+'Білозірська сільська територіал'!C7+'Бобрицька сільська територіальн'!C7+'Будищенська сільська територіал'!C7+'Городищенська міська територіал'!C7+'Кам’янська міська територіальна'!C7+'Канівська міська територіальна '!C7+'Корсунь-Шевченківська міська те'!C7+'Леськівська сільська територіал'!C7+'Ліплявська сільська територіаль'!C7+'Медведівська сільська територіа'!C7+'Михайлівська сільська територіа'!C7+'Мліївська сільська територіальн'!C7+'Мошнівська сільська територіаль'!C7+'Набутівська сільська територіал'!C7+'Ротмістрівська сільська територ'!C7+'Руськополянська сільська терито'!C7+'Сагунівська сільська територіал'!C7+'Смілянська міська територіальна'!C7+'Степанецька сільська територіал'!C7+'Степанківська сільська територі'!C7+'Тернівська сільська територіаль'!C7+'Червонослобідська сільська тери'!C7+'Черкаська міська територіальна '!C7+'Чигиринська міська територіальн'!C7 -> 3409 | D7: ='Балаклеївська сільська територі'!D7+'Березняківська сільська територ'!D7+'Білозірська сільська територіал'!D7+'Бобрицька сільська територіальн'!D7+'Будищенська сільська територіал'!D7+'Городищенська міська територіал'!D7+'Кам’янська міська територіальна'!D7+'Канівська міська територіальна '!D7+'Корсунь-Шевченківська міська те'!D7+'Леськівська сільська територіал'!D7+'Ліплявська сільська територіаль'!D7+'Медведівська сільська територіа'!D7+'Михайлівська сільська територіа'!D7+'Мліївська сільська територіальн'!D7+'Мошнівська сільська територіаль'!D7+'Набутівська сільська територіал'!D7+'Ротмістрівська сільська територ'!D7+'Руськополянська сільська терито'!D7+'Сагунівська сільська територіал'!D7+'Смілянська міська територіальна'!D7+'Степанецька сільська територіал'!D7+'Степанківська сільська територі'!D7+'Тернівська сільська територіаль'!D7+'Червонослобідська сільська тери'!D7+'Черкаська міська територіальна '!D7+'Чигиринська міська територіальн'!D7 -> 4931 | E7: ='Балаклеївська сільська територі'!E7+'Березняківська сільська територ'!E7+'Білозірська сільська територіал'!E7+'Бобрицька сільська територіальн'!E7+'Будищенська сільська територіал'!E7+'Городищенська міська територіал'!E7+'Кам’янська міська територіальна'!E7+'Канівська міська територіальна '!E7+'Корсунь-Шевченківська міська те'!E7+'Леськівська сільська територіал'!E7+'Ліплявська сільська територіаль'!E7+'Медведівська сільська територіа'!E7+'Михайлівська сільська територіа'!E7+'Мліївська сільська територіальн'!E7+'Мошнівська сільська територіаль'!E7+'Набутівська сільська територіал'!E7+'Ротмістрівська сільська територ'!E7+'Руськополянська сільська терито'!E7+'Сагунівська сільська територіал'!E7+'Смілянська міська територіальна'!E7+'Степанецька сільська територіал'!E7+'Степанківська сільська територі'!E7+'Тернівська сільська територіаль'!E7+'Червонослобідська сільська тери'!E7+'Черкаська міська територіальна '!E7+'Чигиринська міська територіальн'!E7 -> 0 | F7: ='Балаклеївська сільська територі'!F7+'Березняківська сільська територ'!F7+'Білозірська сільська територіал'!F7+'Бобрицька сільська територіальн'!F7+'Будищенська сільська територіал'!F7+'Городищенська міська територіал'!F7+'Кам’янська міська територіальна'!F7+'Канівська міська територіальна '!F7+'Корсунь-Шевченківська міська те'!F7+'Леськівська сільська територіал'!F7+'Ліплявська сільська територіаль'!F7+'Медведівська сільська територіа'!F7+'Михайлівська сільська територіа'!F7+'Мліївська сільська територіальн'!F7+'Мошнівська сільська територіаль'!F7+'Набутівська сільська територіал'!F7+'Ротмістрівська сільська територ'!F7+'Руськополянська сільська терито'!F7+'Сагунівська сільська територіал'!F7+'Смілянська міська територіальна'!F7+'Степанецька сільська територіал'!F7+'Степанківська сільська територі'!F7+'Тернівська сільська територіаль'!F7+'Червонослобідська сільська тери'!F7+'Черкаська міська територіальна '!F7+'Чигиринська міська територіальн'!F7 -> 0 | G7: ='Балаклеївська сільська територі'!G7+'Березняківська сільська територ'!G7+'Білозірська сільська територіал'!G7+'Бобрицька сільська територіальн'!G7+'Будищенська сільська територіал'!G7+'Городищенська міська територіал'!G7+'Кам’янська міська територіальна'!G7+'Канівська міська територіальна '!G7+'Корсунь-Шевченківська міська те'!G7+'Леськівська сільська територіал'!G7+'Ліплявська сільська територіаль'!G7+'Медведівська сільська територіа'!G7+'Михайлівська сільська територіа'!G7+'Мліївська сільська територіальн'!G7+'Мошнівська сільська територіаль'!G7+'Набутівська сільська територіал'!G7+'Ротмістрівська сільська територ'!G7+'Руськополянська сільська терито'!G7+'Сагунівська сільська територіал'!G7+'Смілянська міська територіальна'!G7+'Степанецька сільська територіал'!G7+'Степанківська сільська територі'!G7+'Тернівська сільська територіаль'!G7+'Червонослобідська сільська тери'!G7+'Черкаська міська територіальна '!G7+'Чигиринська міська територіальн'!G7 -> 0 | H7: ='Балаклеївська сільська територі'!H7+'Березняківська сільська територ'!H7+'Білозірська сільська територіал'!H7+'Бобрицька сільська територіальн'!H7+'Будищенська сільська територіал'!H7+'Городищенська міська територіал'!H7+'Кам’янська міська територіальна'!H7+'Канівська міська територіальна '!H7+'Корсунь-Шевченківська міська те'!H7+'Леськівська сільська територіал'!H7+'Ліплявська сільська територіаль'!H7+'Медведівська сільська територіа'!H7+'Михайлівська сільська територіа'!H7+'Мліївська сільська територіальн'!H7+'Мошнівська сільська територіаль'!H7+'Набутівська сільська територіал'!H7+'Ротмістрівська сільська територ'!H7+'Руськополянська сільська терито'!H7+'Сагунівська сільська територіал'!H7+'Смілянська міська територіальна'!H7+'Степанецька сільська територіал'!H7+'Степанківська сільська територі'!H7+'Тернівська сільська територіаль'!H7+'Червонослобідська сільська тери'!H7+'Черкаська міська територіальна '!H7+'Чигиринська міська територіальн'!H7 -> 0 | I7: ='Балаклеївська сільська територі'!I7+'Березняківська сільська територ'!I7+'Білозірська сільська територіал'!I7+'Бобрицька сільська територіальн'!I7+'Будищенська сільська територіал'!I7+'Городищенська міська територіал'!I7+'Кам’янська міська територіальна'!I7+'Канівська міська територіальна '!I7+'Корсунь-Шевченківська міська те'!I7+'Леськівська сільська територіал'!I7+'Ліплявська сільська територіаль'!I7+'Медведівська сільська територіа'!I7+'Михайлівська сільська територіа'!I7+'Мліївська сільська територіальн'!I7+'Мошнівська сільська територіаль'!I7+'Набутівська сільська територіал'!I7+'Ротмістрівська сільська територ'!I7+'Руськополянська сільська терито'!I7+'Сагунівська сільська територіал'!I7+'Смілянська міська територіальна'!I7+'Степанецька сільська територіал'!I7+'Степанківська сільська територі'!I7+'Тернівська сільська територіаль'!I7+'Червонослобідська сільська тери'!I7+'Черкаська міська територіальна '!I7+'Чигиринська міська територіальн'!I7 -> 0 | J7: ='Балаклеївська сільська територі'!J7+'Березняківська сільська територ'!J7+'Білозірська сільська територіал'!J7+'Бобрицька сільська територіальн'!J7+'Будищенська сільська територіал'!J7+'Городищенська міська територіал'!J7+'Кам’янська міська територіальна'!J7+'Канівська міська територіальна '!J7+'Корсунь-Шевченківська міська те'!J7+'Леськівська сільська територіал'!J7+'Ліплявська сільська територіаль'!J7+'Медведівська сільська територіа'!J7+'Михайлівська сільська територіа'!J7+'Мліївська сільська територіальн'!J7+'Мошнівська сільська територіаль'!J7+'Набутівська сільська територіал'!J7+'Ротмістрівська сільська територ'!J7+'Руськополянська сільська терито'!J7+'Сагунівська сільська територіал'!J7+'Смілянська міська територіальна'!J7+'Степанецька сільська територіал'!J7+'Степанківська сільська територі'!J7+'Тернівська сільська територіаль'!J7+'Червонослобідська сільська тери'!J7+'Черкаська міська територіальна '!J7+'Чигиринська міська територіальн'!J7 -> 0
A8: Денний догляд | B8: ='Балаклеївська сільська територі'!B8+'Березняківська сільська територ'!B8+'Білозірська сільська територіал'!B8+'Бобрицька сільська територіальн'!B8+'Будищенська сільська територіал'!B8+'Городищенська міська територіал'!B8+'Кам’янська міська територіальна'!B8+'Канівська міська територіальна '!B8+'Корсунь-Шевченківська міська те'!B8+'Леськівська сільська територіал'!B8+'Ліплявська сільська територіаль'!B8+'Медведівська сільська територіа'!B8+'Михайлівська сільська територіа'!B8+'Мліївська сільська територіальн'!B8+'Мошнівська сільська територіаль'!B8+'Набутівська сільська територіал'!B8+'Ротмістрівська сільська територ'!B8+'Руськополянська сільська терито'!B8+'Сагунівська сільська територіал'!B8+'Смілянська міська територіальна'!B8+'Степанецька сільська територіал'!B8+'Степанківська сільська територі'!B8+'Тернівська сільська територіаль'!B8+'Червонослобідська сільська тери'!B8+'Черкаська міська територіальна '!B8+'Чигиринська міська територіальн'!B8 -> 51 | C8: ='Балаклеївська сільська територі'!C8+'Березняківська сільська територ'!C8+'Білозірська сільська територіал'!C8+'Бобрицька сільська територіальн'!C8+'Будищенська сільська територіал'!C8+'Городищенська міська територіал'!C8+'Кам’янська міська територіальна'!C8+'Канівська міська територіальна '!C8+'Корсунь-Шевченківська міська те'!C8+'Леськівська сільська територіал'!C8+'Ліплявська сільська територіаль'!C8+'Медведівська сільська територіа'!C8+'Михайлівська сільська територіа'!C8+'Мліївська сільська територіальн'!C8+'Мошнівська сільська територіаль'!C8+'Набутівська сільська територіал'!C8+'Ротмістрівська сільська територ'!C8+'Руськополянська сільська терито'!C8+'Сагунівська сільська територіал'!C8+'Смілянська міська територіальна'!C8+'Степанецька сільська територіал'!C8+'Степанківська сільська територі'!C8+'Тернівська сільська територіаль'!C8+'Червонослобідська сільська тери'!C8+'Черкаська міська територіальна '!C8+'Чигиринська міська територіальн'!C8 -> 50 | D8: ='Балаклеївська сільська територі'!D8+'Березняківська сільська територ'!D8+'Білозірська сільська територіал'!D8+'Бобрицька сільська територіальн'!D8+'Будищенська сільська територіал'!D8+'Городищенська міська територіал'!D8+'Кам’янська міська територіальна'!D8+'Канівська міська територіальна '!D8+'Корсунь-Шевченківська міська те'!D8+'Леськівська сільська територіал'!D8+'Ліплявська сільська територіаль'!D8+'Медведівська сільська територіа'!D8+'Михайлівська сільська територіа'!D8+'Мліївська сільська територіальн'!D8+'Мошнівська сільська територіаль'!D8+'Набутівська сільська територіал'!D8+'Ротмістрівська сільська територ'!D8+'Руськополянська сільська терито'!D8+'Сагунівська сільська територіал'!D8+'Смілянська міська територіальна'!D8+'Степанецька сільська територіал'!D8+'Степанківська сільська територі'!D8+'Тернівська сільська територіаль'!D8+'Червонослобідська сільська тери'!D8+'Черкаська міська територіальна '!D8+'Чигиринська міська територіальн'!D8 -> 50 | E8: ='Балаклеївська сільська територі'!E8+'Березняківська сільська територ'!E8+'Білозірська сільська територіал'!E8+'Бобрицька сільська територіальн'!E8+'Будищенська сільська територіал'!E8+'Городищенська міська територіал'!E8+'Кам’янська міська територіальна'!E8+'Канівська міська територіальна '!E8+'Корсунь-Шевченківська міська те'!E8+'Леськівська сільська територіал'!E8+'Ліплявська сільська територіаль'!E8+'Медведівська сільська територіа'!E8+'Михайлівська сільська територіа'!E8+'Мліївська сільська територіальн'!E8+'Мошнівська сільська територіаль'!E8+'Набутівська сільська територіал'!E8+'Ротмістрівська сільська територ'!E8+'Руськополянська сільська терито'!E8+'Сагунівська сільська територіал'!E8+'Смілянська міська територіальна'!E8+'Степанецька сільська територіал'!E8+'Степанківська сільська територі'!E8+'Тернівська сільська територіаль'!E8+'Червонослобідська сільська тери'!E8+'Черкаська міська територіальна '!E8+'Чигиринська міська територіальн'!E8 -> 0 | F8: ='Балаклеївська сільська територі'!F8+'Березняківська сільська територ'!F8+'Білозірська сільська територіал'!F8+'Бобрицька сільська територіальн'!F8+'Будищенська сільська територіал'!F8+'Городищенська міська територіал'!F8+'Кам’янська міська територіальна'!F8+'Канівська міська територіальна '!F8+'Корсунь-Шевченківська міська те'!F8+'Леськівська сільська територіал'!F8+'Ліплявська сільська територіаль'!F8+'Медведівська сільська територіа'!F8+'Михайлівська сільська територіа'!F8+'Мліївська сільська територіальн'!F8+'Мошнівська сільська територіаль'!F8+'Набутівська сільська територіал'!F8+'Ротмістрівська сільська територ'!F8+'Руськополянська сільська терито'!F8+'Сагунівська сільська територіал'!F8+'Смілянська міська територіальна'!F8+'Степанецька сільська територіал'!F8+'Степанківська сільська територі'!F8+'Тернівська сільська територіаль'!F8+'Червонослобідська сільська тери'!F8+'Черкаська міська територіальна '!F8+'Чигиринська міська територіальн'!F8 -> 0 | G8: ='Балаклеївська сільська територі'!G8+'Березняківська сільська територ'!G8+'Білозірська сільська територіал'!G8+'Бобрицька сільська територіальн'!G8+'Будищенська сільська територіал'!G8+'Городищенська міська територіал'!G8+'Кам’янська міська територіальна'!G8+'Канівська міська територіальна '!G8+'Корсунь-Шевченківська міська те'!G8+'Леськівська сільська територіал'!G8+'Ліплявська сільська територіаль'!G8+'Медведівська сільська територіа'!G8+'Михайлівська сільська територіа'!G8+'Мліївська сільська територіальн'!G8+'Мошнівська сільська територіаль'!G8+'Набутівська сільська територіал'!G8+'Ротмістрівська сільська територ'!G8+'Руськополянська сільська терито'!G8+'Сагунівська сільська територіал'!G8+'Смілянська міська територіальна'!G8+'Степанецька сільська територіал'!G8+'Степанківська сільська територі'!G8+'Тернівська сільська територіаль'!G8+'Червонослобідська сільська тери'!G8+'Черкаська міська територіальна '!G8+'Чигиринська міська територіальн'!G8 -> 0 | H8: ='Балаклеївська сільська територі'!H8+'Березняківська сільська територ'!H8+'Білозірська сільська територіал'!H8+'Бобрицька сільська територіальн'!H8+'Будищенська сільська територіал'!H8+'Городищенська міська територіал'!H8+'Кам’янська міська територіальна'!H8+'Канівська міська територіальна '!H8+'Корсунь-Шевченківська міська те'!H8+'Леськівська сільська територіал'!H8+'Ліплявська сільська територіаль'!H8+'Медведівська сільська територіа'!H8+'Михайлівська сільська територіа'!H8+'Мліївська сільська територіальн'!H8+'Мошнівська сільська територіаль'!H8+'Набутівська сільська територіал'!H8+'Ротмістрівська сільська територ'!H8+'Руськополянська сільська терито'!H8+'Сагунівська сільська територіал'!H8+'Смілянська міська територіальна'!H8+'Степанецька сільська територіал'!H8+'Степанківська сільська територі'!H8+'Тернівська сільська територіаль'!H8+'Червонослобідська сільська тери'!H8+'Черкаська міська територіальна '!H8+'Чигиринська міська територіальн'!H8 -> 0 | I8: ='Балаклеївська сільська територі'!I8+'Березняківська сільська територ'!I8+'Білозірська сільська територіал'!I8+'Бобрицька сільська територіальн'!I8+'Будищенська сільська територіал'!I8+'Городищенська міська територіал'!I8+'Кам’янська міська територіальна'!I8+'Канівська міська територіальна '!I8+'Корсунь-Шевченківська міська те'!I8+'Леськівська сільська територіал'!I8+'Ліплявська сільська територіаль'!I8+'Медведівська сільська територіа'!I8+'Михайлівська сільська територіа'!I8+'Мліївська сільська територіальн'!I8+'Мошнівська сільська територіаль'!I8+'Набутівська сільська територіал'!I8+'Ротмістрівська сільська територ'!I8+'Руськополянська сільська терито'!I8+'Сагунівська сільська територіал'!I8+'Смілянська міська територіальна'!I8+'Степанецька сільська територіал'!I8+'Степанківська сільська територі'!I8+'Тернівська сільська територіаль'!I8+'Червонослобідська сільська тери'!I8+'Черкаська міська територіальна '!I8+'Чигиринська міська територіальн'!I8 -> 0 | J8: ='Балаклеївська сільська територі'!J8+'Березняківська сільська територ'!J8+'Білозірська сільська територіал'!J8+'Бобрицька сільська територіальн'!J8+'Будищенська сільська територіал'!J8+'Городищенська міська територіал'!J8+'Кам’янська міська територіальна'!J8+'Канівська міська територіальна '!J8+'Корсунь-Шевченківська міська те'!J8+'Леськівська сільська територіал'!J8+'Ліплявська сільська територіаль'!J8+'Медведівська сільська територіа'!J8+'Михайлівська сільська територіа'!J8+'Мліївська сільська територіальн'!J8+'Мошнівська сільська територіаль'!J8+'Набутівська сільська територіал'!J8+'Ротмістрівська сільська територ'!J8+'Руськополянська сільська терито'!J8+'Сагунівська сільська територіал'!J8+'Смілянська міська територіальна'!J8+'Степанецька сільська територіал'!J8+'Степанківська сільська територі'!J8+'Тернівська сільська територіаль'!J8+'Червонослобідська сільська тери'!J8+'Черкаська міська територіальна '!J8+'Чигиринська міська територіальн'!J8 -> 0
A9: Денний догляд дітей з інвалідністю | B9: ='Балаклеївська сільська територі'!B9+'Березняківська сільська територ'!B9+'Білозірська сільська територіал'!B9+'Бобрицька сільська територіальн'!B9+'Будищенська сільська територіал'!B9+'Городищенська міська територіал'!B9+'Кам’янська міська територіальна'!B9+'Канівська міська територіальна '!B9+'Корсунь-Шевченківська міська те'!B9+'Леськівська сільська територіал'!B9+'Ліплявська сільська територіаль'!B9+'Медведівська сільська територіа'!B9+'Михайлівська сільська територіа'!B9+'Мліївська сільська територіальн'!B9+'Мошнівська сільська територіаль'!B9+'Набутівська сільська територіал'!B9+'Ротмістрівська сільська територ'!B9+'Руськополянська сільська терито'!B9+'Сагунівська сільська територіал'!B9+'Смілянська міська територіальна'!B9+'Степанецька сільська територіал'!B9+'Степанківська сільська територі'!B9+'Тернівська сільська територіаль'!B9+'Червонослобідська сільська тери'!B9+'Черкаська міська територіальна '!B9+'Чигиринська міська територіальн'!B9 -> 60 | C9: ='Балаклеївська сільська територі'!C9+'Березняківська сільська територ'!C9+'Білозірська сільська територіал'!C9+'Бобрицька сільська територіальн'!C9+'Будищенська сільська територіал'!C9+'Городищенська міська територіал'!C9+'Кам’янська міська територіальна'!C9+'Канівська міська територіальна '!C9+'Корсунь-Шевченківська міська те'!C9+'Леськівська сільська територіал'!C9+'Ліплявська сільська територіаль'!C9+'Медведівська сільська територіа'!C9+'Михайлівська сільська територіа'!C9+'Мліївська сільська територіальн'!C9+'Мошнівська сільська територіаль'!C9+'Набутівська сільська територіал'!C9+'Ротмістрівська сільська територ'!C9+'Руськополянська сільська терито'!C9+'Сагунівська сільська територіал'!C9+'Смілянська міська територіальна'!C9+'Степанецька сільська територіал'!C9+'Степанківська сільська територі'!C9+'Тернівська сільська територіаль'!C9+'Червонослобідська сільська тери'!C9+'Черкаська міська територіальна '!C9+'Чигиринська міська територіальн'!C9 -> 51 | D9: ='Балаклеївська сільська територі'!D9+'Березняківська сільська територ'!D9+'Білозірська сільська територіал'!D9+'Бобрицька сільська територіальн'!D9+'Будищенська сільська територіал'!D9+'Городищенська міська територіал'!D9+'Кам’янська міська територіальна'!D9+'Канівська міська територіальна '!D9+'Корсунь-Шевченківська міська те'!D9+'Леськівська сільська територіал'!D9+'Ліплявська сільська територіаль'!D9+'Медведівська сільська територіа'!D9+'Михайлівська сільська територіа'!D9+'Мліївська сільська територіальн'!D9+'Мошнівська сільська територіаль'!D9+'Набутівська сільська територіал'!D9+'Ротмістрівська сільська територ'!D9+'Руськополянська сільська терито'!D9+'Сагунівська сільська територіал'!D9+'Смілянська міська територіальна'!D9+'Степанецька сільська територіал'!D9+'Степанківська сільська територі'!D9+'Тернівська сільська територіаль'!D9+'Червонослобідська сільська тери'!D9+'Черкаська міська територіальна '!D9+'Чигиринська міська територіальн'!D9 -> 102 | E9: ='Балаклеївська сільська територі'!E9+'Березняківська сільська територ'!E9+'Білозірська сільська територіал'!E9+'Бобрицька сільська територіальн'!E9+'Будищенська сільська територіал'!E9+'Городищенська міська територіал'!E9+'Кам’янська міська територіальна'!E9+'Канівська міська територіальна '!E9+'Корсунь-Шевченківська міська те'!E9+'Леськівська сільська територіал'!E9+'Ліплявська сільська територіаль'!E9+'Медведівська сільська територіа'!E9+'Михайлівська сільська територіа'!E9+'Мліївська сільська територіальн'!E9+'Мошнівська сільська територіаль'!E9+'Набутівська сільська територіал'!E9+'Ротмістрівська сільська територ'!E9+'Руськополянська сільська терито'!E9+'Сагунівська сільська територіал'!E9+'Смілянська міська територіальна'!E9+'Степанецька сільська територіал'!E9+'Степанківська сільська територі'!E9+'Тернівська сільська територіаль'!E9+'Червонослобідська сільська тери'!E9+'Черкаська міська територіальна '!E9+'Чигиринська міська територіальн'!E9 -> 0 | F9: ='Балаклеївська сільська територі'!F9+'Березняківська сільська територ'!F9+'Білозірська сільська територіал'!F9+'Бобрицька сільська територіальн'!F9+'Будищенська сільська територіал'!F9+'Городищенська міська територіал'!F9+'Кам’янська міська територіальна'!F9+'Канівська міська територіальна '!F9+'Корсунь-Шевченківська міська те'!F9+'Леськівська сільська територіал'!F9+'Ліплявська сільська територіаль'!F9+'Медведівська сільська територіа'!F9+'Михайлівська сільська територіа'!F9+'Мліївська сільська територіальн'!F9+'Мошнівська сільська територіаль'!F9+'Набутівська сільська територіал'!F9+'Ротмістрівська сільська територ'!F9+'Руськополянська сільська терито'!F9+'Сагунівська сільська територіал'!F9+'Смілянська міська територіальна'!F9+'Степанецька сільська територіал'!F9+'Степанківська сільська територі'!F9+'Тернівська сільська територіаль'!F9+'Червонослобідська сільська тери'!F9+'Черкаська міська територіальна '!F9+'Чигиринська міська територіальн'!F9 -> 0 | G9: ='Балаклеївська сільська територі'!G9+'Березняківська сільська територ'!G9+'Білозірська сільська територіал'!G9+'Бобрицька сільська територіальн'!G9+'Будищенська сільська територіал'!G9+'Городищенська міська територіал'!G9+'Кам’янська міська територіальна'!G9+'Канівська міська територіальна '!G9+'Корсунь-Шевченківська міська те'!G9+'Леськівська сільська територіал'!G9+'Ліплявська сільська територіаль'!G9+'Медведівська сільська територіа'!G9+'Михайлівська сільська територіа'!G9+'Мліївська сільська територіальн'!G9+'Мошнівська сільська територіаль'!G9+'Набутівська сільська територіал'!G9+'Ротмістрівська сільська територ'!G9+'Руськополянська сільська терито'!G9+'Сагунівська сільська територіал'!G9+'Смілянська міська територіальна'!G9+'Степанецька сільська територіал'!G9+'Степанківська сільська територі'!G9+'Тернівська сільська територіаль'!G9+'Червонослобідська сільська тери'!G9+'Черкаська міська територіальна '!G9+'Чигиринська міська територіальн'!G9 -> 0 | H9: ='Балаклеївська сільська територі'!H9+'Березняківська сільська територ'!H9+'Білозірська сільська територіал'!H9+'Бобрицька сільська територіальн'!H9+'Будищенська сільська територіал'!H9+'Городищенська міська територіал'!H9+'Кам’янська міська територіальна'!H9+'Канівська міська територіальна '!H9+'Корсунь-Шевченківська міська те'!H9+'Леськівська сільська територіал'!H9+'Ліплявська сільська територіаль'!H9+'Медведівська сільська територіа'!H9+'Михайлівська сільська територіа'!H9+'Мліївська сільська територіальн'!H9+'Мошнівська сільська територіаль'!H9+'Набутівська сільська територіал'!H9+'Ротмістрівська сільська територ'!H9+'Руськополянська сільська терито'!H9+'Сагунівська сільська територіал'!H9+'Смілянська міська територіальна'!H9+'Степанецька сільська територіал'!H9+'Степанківська сільська територі'!H9+'Тернівська сільська територіаль'!H9+'Червонослобідська сільська тери'!H9+'Черкаська міська територіальна '!H9+'Чигиринська міська територіальн'!H9 -> 0 | I9: ='Балаклеївська сільська територі'!I9+'Березняківська сільська територ'!I9+'Білозірська сільська територіал'!I9+'Бобрицька сільська територіальн'!I9+'Будищенська сільська територіал'!I9+'Городищенська міська територіал'!I9+'Кам’янська міська територіальна'!I9+'Канівська міська територіальна '!I9+'Корсунь-Шевченківська міська те'!I9+'Леськівська сільська територіал'!I9+'Ліплявська сільська територіаль'!I9+'Медведівська сільська територіа'!I9+'Михайлівська сільська територіа'!I9+'Мліївська сільська територіальн'!I9+'Мошнівська сільська територіаль'!I9+'Набутівська сільська територіал'!I9+'Ротмістрівська сільська територ'!I9+'Руськополянська сільська терито'!I9+'Сагунівська сільська територіал'!I9+'Смілянська міська територіальна'!I9+'Степанецька сільська територіал'!I9+'Степанківська сільська територі'!I9+'Тернівська сільська територіаль'!I9+'Червонослобідська сільська тери'!I9+'Черкаська міська територіальна '!I9+'Чигиринська міська територіальн'!I9 -> 0 | J9: ='Балаклеївська сільська територі'!J9+'Березняківська сільська територ'!J9+'Білозірська сільська територіал'!J9+'Бобрицька сільська територіальн'!J9+'Будищенська сільська територіал'!J9+'Городищенська міська територіал'!J9+'Кам’янська міська територіальна'!J9+'Канівська міська територіальна '!J9+'Корсунь-Шевченківська міська те'!J9+'Леськівська сільська територіал'!J9+'Ліплявська сільська територіаль'!J9+'Медведівська сільська територіа'!J9+'Михайлівська сільська територіа'!J9+'Мліївська сільська територіальн'!J9+'Мошнівська сільська територіаль'!J9+'Набутівська сільська територіал'!J9+'Ротмістрівська сільська територ'!J9+'Руськополянська сільська терито'!J9+'Сагунівська сільська територіал'!J9+'Смілянська міська територіальна'!J9+'Степанецька сільська територіал'!J9+'Степанківська сільська територі'!J9+'Тернівська сільська територіаль'!J9+'Червонослобідська сільська тери'!J9+'Черкаська міська територіальна '!J9+'Чигиринська міська територіальн'!J9 -> 0
A10: Підтримане проживання осіб похилого віку та осіб з інвалідністю | B10: ='Балаклеївська сільська територі'!B10+'Березняківська сільська територ'!B10+'Білозірська сільська територіал'!B10+'Бобрицька сільська територіальн'!B10+'Будищенська сільська територіал'!B10+'Городищенська міська територіал'!B10+'Кам’янська міська територіальна'!B10+'Канівська міська територіальна '!B10+'Корсунь-Шевченківська міська те'!B10+'Леськівська сільська територіал'!B10+'Ліплявська сільська територіаль'!B10+'Медведівська сільська територіа'!B10+'Михайлівська сільська територіа'!B10+'Мліївська сільська територіальн'!B10+'Мошнівська сільська територіаль'!B10+'Набутівська сільська територіал'!B10+'Ротмістрівська сільська територ'!B10+'Руськополянська сільська терито'!B10+'Сагунівська сільська територіал'!B10+'Смілянська міська територіальна'!B10+'Степанецька сільська територіал'!B10+'Степанківська сільська територі'!B10+'Тернівська сільська територіаль'!B10+'Червонослобідська сільська тери'!B10+'Черкаська міська територіальна '!B10+'Чигиринська міська територіальн'!B10 -> 0 | C10: ='Балаклеївська сільська територі'!C10+'Березняківська сільська територ'!C10+'Білозірська сільська територіал'!C10+'Бобрицька сільська територіальн'!C10+'Будищенська сільська територіал'!C10+'Городищенська міська територіал'!C10+'Кам’янська міська територіальна'!C10+'Канівська міська територіальна '!C10+'Корсунь-Шевченківська міська те'!C10+'Леськівська сільська територіал'!C10+'Ліплявська сільська територіаль'!C10+'Медведівська сільська територіа'!C10+'Михайлівська сільська територіа'!C10+'Мліївська сільська територіальн'!C10+'Мошнівська сільська територіаль'!C10+'Набутівська сільська територіал'!C10+'Ротмістрівська сільська територ'!C10+'Руськополянська сільська терито'!C10+'Сагунівська сільська територіал'!C10+'Смілянська міська територіальна'!C10+'Степанецька сільська територіал'!C10+'Степанківська сільська територі'!C10+'Тернівська сільська територіаль'!C10+'Червонослобідська сільська тери'!C10+'Черкаська міська територіальна '!C10+'Чигиринська міська територіальн'!C10 -> 0 | D10: ='Балаклеївська сільська територі'!D10+'Березняківська сільська територ'!D10+'Білозірська сільська територіал'!D10+'Бобрицька сільська територіальн'!D10+'Будищенська сільська територіал'!D10+'Городищенська міська територіал'!D10+'Кам’янська міська територіальна'!D10+'Канівська міська територіальна '!D10+'Корсунь-Шевченківська міська те'!D10+'Леськівська сільська територіал'!D10+'Ліплявська сільська територіаль'!D10+'Медведівська сільська територіа'!D10+'Михайлівська сільська територіа'!D10+'Мліївська сільська територіальн'!D10+'Мошнівська сільська територіаль'!D10+'Набутівська сільська територіал'!D10+'Ротмістрівська сільська територ'!D10+'Руськополянська сільська терито'!D10+'Сагунівська сільська територіал'!D10+'Смілянська міська територіальна'!D10+'Степанецька сільська територіал'!D10+'Степанківська сільська територі'!D10+'Тернівська сільська територіаль'!D10+'Червонослобідська сільська тери'!D10+'Черкаська міська територіальна '!D10+'Чигиринська міська територіальн'!D10 -> 0 | E10: ='Балаклеївська сільська територі'!E10+'Березняківська сільська територ'!E10+'Білозірська сільська територіал'!E10+'Бобрицька сільська територіальн'!E10+'Будищенська сільська територіал'!E10+'Городищенська міська територіал'!E10+'Кам’янська міська територіальна'!E10+'Канівська міська територіальна '!E10+'Корсунь-Шевченківська міська те'!E10+'Леськівська сільська територіал'!E10+'Ліплявська сільська територіаль'!E10+'Медведівська сільська територіа'!E10+'Михайлівська сільська територіа'!E10+'Мліївська сільська територіальн'!E10+'Мошнівська сільська територіаль'!E10+'Набутівська сільська територіал'!E10+'Ротмістрівська сільська територ'!E10+'Руськополянська сільська терито'!E10+'Сагунівська сільська територіал'!E10+'Смілянська міська територіальна'!E10+'Степанецька сільська територіал'!E10+'Степанківська сільська територі'!E10+'Тернівська сільська територіаль'!E10+'Червонослобідська сільська тери'!E10+'Черкаська міська територіальна '!E10+'Чигиринська міська територіальн'!E10 -> 0 | F10: ='Балаклеївська сільська територі'!F10+'Березняківська сільська територ'!F10+'Білозірська сільська територіал'!F10+'Бобрицька сільська територіальн'!F10+'Будищенська сільська територіал'!F10+'Городищенська міська територіал'!F10+'Кам’янська міська територіальна'!F10+'Канівська міська територіальна '!F10+'Корсунь-Шевченківська міська те'!F10+'Леськівська сільська територіал'!F10+'Ліплявська сільська територіаль'!F10+'Медведівська сільська територіа'!F10+'Михайлівська сільська територіа'!F10+'Мліївська сільська територіальн'!F10+'Мошнівська сільська територіаль'!F10+'Набутівська сільська територіал'!F10+'Ротмістрівська сільська територ'!F10+'Руськополянська сільська терито'!F10+'Сагунівська сільська територіал'!F10+'Смілянська міська територіальна'!F10+'Степанецька сільська територіал'!F10+'Степанківська сільська територі'!F10+'Тернівська сільська територіаль'!F10+'Червонослобідська сільська тери'!F10+'Черкаська міська територіальна '!F10+'Чигиринська міська територіальн'!F10 -> 0 | G10: ='Балаклеївська сільська територі'!G10+'Березняківська сільська територ'!G10+'Білозірська сільська територіал'!G10+'Бобрицька сільська територіальн'!G10+'Будищенська сільська територіал'!G10+'Городищенська міська територіал'!G10+'Кам’янська міська територіальна'!G10+'Канівська міська територіальна '!G10+'Корсунь-Шевченківська міська те'!G10+'Леськівська сільська територіал'!G10+'Ліплявська сільська територіаль'!G10+'Медведівська сільська територіа'!G10+'Михайлівська сільська територіа'!G10+'Мліївська сільська територіальн'!G10+'Мошнівська сільська територіаль'!G10+'Набутівська сільська територіал'!G10+'Ротмістрівська сільська територ'!G10+'Руськополянська сільська терито'!G10+'Сагунівська сільська територіал'!G10+'Смілянська міська територіальна'!G10+'Степанецька сільська територіал'!G10+'Степанківська сільська територі'!G10+'Тернівська сільська територіаль'!G10+'Червонослобідська сільська тери'!G10+'Черкаська міська територіальна '!G10+'Чигиринська міська територіальн'!G10 -> 0 | H10: ='Балаклеївська сільська територі'!H10+'Березняківська сільська територ'!H10+'Білозірська сільська територіал'!H10+'Бобрицька сільська територіальн'!H10+'Будищенська сільська територіал'!H10+'Городищенська міська територіал'!H10+'Кам’янська міська територіальна'!H10+'Канівська міська територіальна '!H10+'Корсунь-Шевченківська міська те'!H10+'Леськівська сільська територіал'!H10+'Ліплявська сільська територіаль'!H10+'Медведівська сільська територіа'!H10+'Михайлівська сільська територіа'!H10+'Мліївська сільська територіальн'!H10+'Мошнівська сільська територіаль'!H10+'Набутівська сільська територіал'!H10+'Ротмістрівська сільська територ'!H10+'Руськополянська сільська терито'!H10+'Сагунівська сільська територіал'!H10+'Смілянська міська територіальна'!H10+'Степанецька сільська територіал'!H10+'Степанківська сільська територі'!H10+'Тернівська сільська територіаль'!H10+'Червонослобідська сільська тери'!H10+'Черкаська міська територіальна '!H10+'Чигиринська міська територіальн'!H10 -> 0 | I10: ='Балаклеївська сільська територі'!I10+'Березняківська сільська територ'!I10+'Білозірська сільська територіал'!I10+'Бобрицька сільська територіальн'!I10+'Будищенська сільська територіал'!I10+'Городищенська міська територіал'!I10+'Кам’янська міська територіальна'!I10+'Канівська міська територіальна '!I10+'Корсунь-Шевченківська міська те'!I10+'Леськівська сільська територіал'!I10+'Ліплявська сільська територіаль'!I10+'Медведівська сільська територіа'!I10+'Михайлівська сільська територіа'!I10+'Мліївська сільська територіальн'!I10+'Мошнівська сільська територіаль'!I10+'Набутівська сільська територіал'!I10+'Ротмістрівська сільська територ'!I10+'Руськополянська сільська терито'!I10+'Сагунівська сільська територіал'!I10+'Смілянська міська територіальна'!I10+'Степанецька сільська територіал'!I10+'Степанківська сільська територі'!I10+'Тернівська сільська територіаль'!I10+'Червонослобідська сільська тери'!I10+'Черкаська міська територіальна '!I10+'Чигиринська міська територіальн'!I10 -> 0 | J10: ='Балаклеївська сільська територі'!J10+'Березняківська сільська територ'!J10+'Білозірська сільська територіал'!J10+'Бобрицька сільська територіальн'!J10+'Будищенська сільська територіал'!J10+'Городищенська міська територіал'!J10+'Кам’янська міська територіальна'!J10+'Канівська міська територіальна '!J10+'Корсунь-Шевченківська міська те'!J10+'Леськівська сільська територіал'!J10+'Ліплявська сільська територіаль'!J10+'Медведівська сільська територіа'!J10+'Михайлівська сільська територіа'!J10+'Мліївська сільська територіальн'!J10+'Мошнівська сільська територіаль'!J10+'Набутівська сільська територіал'!J10+'Ротмістрівська сільська територ'!J10+'Руськополянська сільська терито'!J10+'Сагунівська сільська територіал'!J10+'Смілянська міська територіальна'!J10+'Степанецька сільська територіал'!J10+'Степанківська сільська територі'!J10+'Тернівська сільська територіаль'!J10+'Червонослобідська сільська тери'!J10+'Черкаська міська територіальна '!J10+'Чигиринська міська територіальн'!J10 -> 0
A11: Підтримане проживання бездомних осіб | B11: ='Балаклеївська сільська територі'!B11+'Березняківська сільська територ'!B11+'Білозірська сільська територіал'!B11+'Бобрицька сільська територіальн'!B11+'Будищенська сільська територіал'!B11+'Городищенська міська територіал'!B11+'Кам’янська міська територіальна'!B11+'Канівська міська територіальна '!B11+'Корсунь-Шевченківська міська те'!B11+'Леськівська сільська територіал'!B11+'Ліплявська сільська територіаль'!B11+'Медведівська сільська територіа'!B11+'Михайлівська сільська територіа'!B11+'Мліївська сільська територіальн'!B11+'Мошнівська сільська територіаль'!B11+'Набутівська сільська територіал'!B11+'Ротмістрівська сільська територ'!B11+'Руськополянська сільська терито'!B11+'Сагунівська сільська територіал'!B11+'Смілянська міська територіальна'!B11+'Степанецька сільська територіал'!B11+'Степанківська сільська територі'!B11+'Тернівська сільська територіаль'!B11+'Червонослобідська сільська тери'!B11+'Черкаська міська територіальна '!B11+'Чигиринська міська територіальн'!B11 -> 0 | C11: ='Балаклеївська сільська територі'!C11+'Березняківська сільська територ'!C11+'Білозірська сільська територіал'!C11+'Бобрицька сільська територіальн'!C11+'Будищенська сільська територіал'!C11+'Городищенська міська територіал'!C11+'Кам’янська міська територіальна'!C11+'Канівська міська територіальна '!C11+'Корсунь-Шевченківська міська те'!C11+'Леськівська сільська територіал'!C11+'Ліплявська сільська територіаль'!C11+'Медведівська сільська територіа'!C11+'Михайлівська сільська територіа'!C11+'Мліївська сільська територіальн'!C11+'Мошнівська сільська територіаль'!C11+'Набутівська сільська територіал'!C11+'Ротмістрівська сільська територ'!C11+'Руськополянська сільська терито'!C11+'Сагунівська сільська територіал'!C11+'Смілянська міська територіальна'!C11+'Степанецька сільська територіал'!C11+'Степанківська сільська територі'!C11+'Тернівська сільська територіаль'!C11+'Червонослобідська сільська тери'!C11+'Черкаська міська територіальна '!C11+'Чигиринська міська територіальн'!C11 -> 0 | D11: ='Балаклеївська сільська територі'!D11+'Березняківська сільська територ'!D11+'Білозірська сільська територіал'!D11+'Бобрицька сільська територіальн'!D11+'Будищенська сільська територіал'!D11+'Городищенська міська територіал'!D11+'Кам’янська міська територіальна'!D11+'Канівська міська територіальна '!D11+'Корсунь-Шевченківська міська те'!D11+'Леськівська сільська територіал'!D11+'Ліплявська сільська територіаль'!D11+'Медведівська сільська територіа'!D11+'Михайлівська сільська територіа'!D11+'Мліївська сільська територіальн'!D11+'Мошнівська сільська територіаль'!D11+'Набутівська сільська територіал'!D11+'Ротмістрівська сільська територ'!D11+'Руськополянська сільська терито'!D11+'Сагунівська сільська територіал'!D11+'Смілянська міська територіальна'!D11+'Степанецька сільська територіал'!D11+'Степанківська сільська територі'!D11+'Тернівська сільська територіаль'!D11+'Червонослобідська сільська тери'!D11+'Черкаська міська територіальна '!D11+'Чигиринська міська територіальн'!D11 -> 0 | E11: ='Балаклеївська сільська територі'!E11+'Березняківська сільська територ'!E11+'Білозірська сільська територіал'!E11+'Бобрицька сільська територіальн'!E11+'Будищенська сільська територіал'!E11+'Городищенська міська територіал'!E11+'Кам’янська міська територіальна'!E11+'Канівська міська територіальна '!E11+'Корсунь-Шевченківська міська те'!E11+'Леськівська сільська територіал'!E11+'Ліплявська сільська територіаль'!E11+'Медведівська сільська територіа'!E11+'Михайлівська сільська територіа'!E11+'Мліївська сільська територіальн'!E11+'Мошнівська сільська територіаль'!E11+'Набутівська сільська територіал'!E11+'Ротмістрівська сільська територ'!E11+'Руськополянська сільська терито'!E11+'Сагунівська сільська територіал'!E11+'Смілянська міська територіальна'!E11+'Степанецька сільська територіал'!E11+'Степанківська сільська територі'!E11+'Тернівська сільська територіаль'!E11+'Червонослобідська сільська тери'!E11+'Черкаська міська територіальна '!E11+'Чигиринська міська територіальн'!E11 -> 0 | F11: ='Балаклеївська сільська територі'!F11+'Березняківська сільська територ'!F11+'Білозірська сільська територіал'!F11+'Бобрицька сільська територіальн'!F11+'Будищенська сільська територіал'!F11+'Городищенська міська територіал'!F11+'Кам’янська міська територіальна'!F11+'Канівська міська територіальна '!F11+'Корсунь-Шевченківська міська те'!F11+'Леськівська сільська територіал'!F11+'Ліплявська сільська територіаль'!F11+'Медведівська сільська територіа'!F11+'Михайлівська сільська територіа'!F11+'Мліївська сільська територіальн'!F11+'Мошнівська сільська територіаль'!F11+'Набутівська сільська територіал'!F11+'Ротмістрівська сільська територ'!F11+'Руськополянська сільська терито'!F11+'Сагунівська сільська територіал'!F11+'Смілянська міська територіальна'!F11+'Степанецька сільська територіал'!F11+'Степанківська сільська територі'!F11+'Тернівська сільська територіаль'!F11+'Червонослобідська сільська тери'!F11+'Черкаська міська територіальна '!F11+'Чигиринська міська територіальн'!F11 -> 0 | G11: ='Балаклеївська сільська територі'!G11+'Березняківська сільська територ'!G11+'Білозірська сільська територіал'!G11+'Бобрицька сільська територіальн'!G11+'Будищенська сільська територіал'!G11+'Городищенська міська територіал'!G11+'Кам’янська міська територіальна'!G11+'Канівська міська територіальна '!G11+'Корсунь-Шевченківська міська те'!G11+'Леськівська сільська територіал'!G11+'Ліплявська сільська територіаль'!G11+'Медведівська сільська територіа'!G11+'Михайлівська сільська територіа'!G11+'Мліївська сільська територіальн'!G11+'Мошнівська сільська територіаль'!G11+'Набутівська сільська територіал'!G11+'Ротмістрівська сільська територ'!G11+'Руськополянська сільська терито'!G11+'Сагунівська сільська територіал'!G11+'Смілянська міська територіальна'!G11+'Степанецька сільська територіал'!G11+'Степанківська сільська територі'!G11+'Тернівська сільська територіаль'!G11+'Червонослобідська сільська тери'!G11+'Черкаська міська територіальна '!G11+'Чигиринська міська територіальн'!G11 -> 0 | H11: ='Балаклеївська сільська територі'!H11+'Березняківська сільська територ'!H11+'Білозірська сільська територіал'!H11+'Бобрицька сільська територіальн'!H11+'Будищенська сільська територіал'!H11+'Городищенська міська територіал'!H11+'Кам’янська міська територіальна'!H11+'Канівська міська територіальна '!H11+'Корсунь-Шевченківська міська те'!H11+'Леськівська сільська територіал'!H11+'Ліплявська сільська територіаль'!H11+'Медведівська сільська територіа'!H11+'Михайлівська сільська територіа'!H11+'Мліївська сільська територіальн'!H11+'Мошнівська сільська територіаль'!H11+'Набутівська сільська територіал'!H11+'Ротмістрівська сільська територ'!H11+'Руськополянська сільська терито'!H11+'Сагунівська сільська територіал'!H11+'Смілянська міська територіальна'!H11+'Степанецька сільська територіал'!H11+'Степанківська сільська територі'!H11+'Тернівська сільська територіаль'!H11+'Червонослобідська сільська тери'!H11+'Черкаська міська територіальна '!H11+'Чигиринська міська територіальн'!H11 -> 0 | I11: ='Балаклеївська сільська територі'!I11+'Березняківська сільська територ'!I11+'Білозірська сільська територіал'!I11+'Бобрицька сільська територіальн'!I11+'Будищенська сільська територіал'!I11+'Городищенська міська територіал'!I11+'Кам’янська міська територіальна'!I11+'Канівська міська територіальна '!I11+'Корсунь-Шевченківська міська те'!I11+'Леськівська сільська територіал'!I11+'Ліплявська сільська територіаль'!I11+'Медведівська сільська територіа'!I11+'Михайлівська сільська територіа'!I11+'Мліївська сільська територіальн'!I11+'Мошнівська сільська територіаль'!I11+'Набутівська сільська територіал'!I11+'Ротмістрівська сільська територ'!I11+'Руськополянська сільська терито'!I11+'Сагунівська сільська територіал'!I11+'Смілянська міська територіальна'!I11+'Степанецька сільська територіал'!I11+'Степанківська сільська територі'!I11+'Тернівська сільська територіаль'!I11+'Червонослобідська сільська тери'!I11+'Черкаська міська територіальна '!I11+'Чигиринська міська територіальн'!I11 -> 0 | J11: ='Балаклеївська сільська територі'!J11+'Березняківська сільська територ'!J11+'Білозірська сільська територіал'!J11+'Бобрицька сільська територіальн'!J11+'Будищенська сільська територіал'!J11+'Городищенська міська територіал'!J11+'Кам’янська міська територіальна'!J11+'Канівська міська територіальна '!J11+'Корсунь-Шевченківська міська те'!J11+'Леськівська сільська територіал'!J11+'Ліплявська сільська територіаль'!J11+'Медведівська сільська територіа'!J11+'Михайлівська сільська територіа'!J11+'Мліївська сільська територіальн'!J11+'Мошнівська сільська територіаль'!J11+'Набутівська сільська територіал'!J11+'Ротмістрівська сільська територ'!J11+'Руськополянська сільська терито'!J11+'Сагунівська сільська територіал'!J11+'Смілянська міська територіальна'!J11+'Степанецька сільська територіал'!J11+'Степанківська сільська територі'!J11+'Тернівська сільська територіаль'!J11+'Червонослобідська сільська тери'!J11+'Черкаська міська територіальна '!J11+'Чигиринська міська територіальн'!J11 -> 0
A12: Транзитне підтримане проживання/ учбова соціальна квартира (будинок) | B12: ='Балаклеївська сільська територі'!B12+'Березняківська сільська територ'!B12+'Білозірська сільська територіал'!B12+'Бобрицька сільська територіальн'!B12+'Будищенська сільська територіал'!B12+'Городищенська міська територіал'!B12+'Кам’янська міська територіальна'!B12+'Канівська міська територіальна '!B12+'Корсунь-Шевченківська міська те'!B12+'Леськівська сільська територіал'!B12+'Ліплявська сільська територіаль'!B12+'Медведівська сільська територіа'!B12+'Михайлівська сільська територіа'!B12+'Мліївська сільська територіальн'!B12+'Мошнівська сільська територіаль'!B12+'Набутівська сільська територіал'!B12+'Ротмістрівська сільська територ'!B12+'Руськополянська сільська терито'!B12+'Сагунівська сільська територіал'!B12+'Смілянська міська територіальна'!B12+'Степанецька сільська територіал'!B12+'Степанківська сільська територі'!B12+'Тернівська сільська територіаль'!B12+'Червонослобідська сільська тери'!B12+'Черкаська міська територіальна '!B12+'Чигиринська міська територіальн'!B12 -> 0 | C12: ='Балаклеївська сільська територі'!C12+'Березняківська сільська територ'!C12+'Білозірська сільська територіал'!C12+'Бобрицька сільська територіальн'!C12+'Будищенська сільська територіал'!C12+'Городищенська міська територіал'!C12+'Кам’янська міська територіальна'!C12+'Канівська міська територіальна '!C12+'Корсунь-Шевченківська міська те'!C12+'Леськівська сільська територіал'!C12+'Ліплявська сільська територіаль'!C12+'Медведівська сільська територіа'!C12+'Михайлівська сільська територіа'!C12+'Мліївська сільська територіальн'!C12+'Мошнівська сільська територіаль'!C12+'Набутівська сільська територіал'!C12+'Ротмістрівська сільська територ'!C12+'Руськополянська сільська терито'!C12+'Сагунівська сільська територіал'!C12+'Смілянська міська територіальна'!C12+'Степанецька сільська територіал'!C12+'Степанківська сільська територі'!C12+'Тернівська сільська територіаль'!C12+'Червонослобідська сільська тери'!C12+'Черкаська міська територіальна '!C12+'Чигиринська міська територіальн'!C12 -> 0 | D12: ='Балаклеївська сільська територі'!D12+'Березняківська сільська територ'!D12+'Білозірська сільська територіал'!D12+'Бобрицька сільська територіальн'!D12+'Будищенська сільська територіал'!D12+'Городищенська міська територіал'!D12+'Кам’янська міська територіальна'!D12+'Канівська міська територіальна '!D12+'Корсунь-Шевченківська міська те'!D12+'Леськівська сільська територіал'!D12+'Ліплявська сільська територіаль'!D12+'Медведівська сільська територіа'!D12+'Михайлівська сільська територіа'!D12+'Мліївська сільська територіальн'!D12+'Мошнівська сільська територіаль'!D12+'Набутівська сільська територіал'!D12+'Ротмістрівська сільська територ'!D12+'Руськополянська сільська терито'!D12+'Сагунівська сільська територіал'!D12+'Смілянська міська територіальна'!D12+'Степанецька сільська територіал'!D12+'Степанківська сільська територі'!D12+'Тернівська сільська територіаль'!D12+'Червонослобідська сільська тери'!D12+'Черкаська міська територіальна '!D12+'Чигиринська міська територіальн'!D12 -> 0 | E12: × | F12: × | G12: × | H12: × | I12: × | J12: ×
A13: Соціальна адаптація | B13: ='Балаклеївська сільська територі'!B13+'Березняківська сільська територ'!B13+'Білозірська сільська територіал'!B13+'Бобрицька сільська територіальн'!B13+'Будищенська сільська територіал'!B13+'Городищенська міська територіал'!B13+'Кам’янська міська територіальна'!B13+'Канівська міська територіальна '!B13+'Корсунь-Шевченківська міська те'!B13+'Леськівська сільська територіал'!B13+'Ліплявська сільська територіаль'!B13+'Медведівська сільська територіа'!B13+'Михайлівська сільська територіа'!B13+'Мліївська сільська територіальн'!B13+'Мошнівська сільська територіаль'!B13+'Набутівська сільська територіал'!B13+'Ротмістрівська сільська територ'!B13+'Руськополянська сільська терито'!B13+'Сагунівська сільська територіал'!B13+'Смілянська міська територіальна'!B13+'Степанецька сільська територіал'!B13+'Степанківська сільська територі'!B13+'Тернівська сільська територіаль'!B13+'Червонослобідська сільська тери'!B13+'Черкаська міська територіальна '!B13+'Чигиринська міська територіальн'!B13 -> 976 | C13: ='Балаклеївська сільська територі'!C13+'Березняківська сільська територ'!C13+'Білозірська сільська територіал'!C13+'Бобрицька сільська територіальн'!C13+'Будищенська сільська територіал'!C13+'Городищенська міська територіал'!C13+'Кам’янська міська територіальна'!C13+'Канівська міська територіальна '!C13+'Корсунь-Шевченківська міська те'!C13+'Леськівська сільська територіал'!C13+'Ліплявська сільська територіаль'!C13+'Медведівська сільська територіа'!C13+'Михайлівська сільська територіа'!C13+'Мліївська сільська територіальн'!C13+'Мошнівська сільська територіаль'!C13+'Набутівська сільська територіал'!C13+'Ротмістрівська сільська територ'!C13+'Руськополянська сільська терито'!C13+'Сагунівська сільська територіал'!C13+'Смілянська міська територіальна'!C13+'Степанецька сільська територіал'!C13+'Степанківська сільська територі'!C13+'Тернівська сільська територіаль'!C13+'Червонослобідська сільська тери'!C13+'Черкаська міська територіальна '!C13+'Чигиринська міська територіальн'!C13 -> 726 | D13: ='Балаклеївська сільська територі'!D13+'Березняківська сільська територ'!D13+'Білозірська сільська територіал'!D13+'Бобрицька сільська територіальн'!D13+'Будищенська сільська територіал'!D13+'Городищенська міська територіал'!D13+'Кам’янська міська територіальна'!D13+'Канівська міська територіальна '!D13+'Корсунь-Шевченківська міська те'!D13+'Леськівська сільська територіал'!D13+'Ліплявська сільська територіаль'!D13+'Медведівська сільська територіа'!D13+'Михайлівська сільська територіа'!D13+'Мліївська сільська територіальн'!D13+'Мошнівська сільська територіаль'!D13+'Набутівська сільська територіал'!D13+'Ротмістрівська сільська територ'!D13+'Руськополянська сільська терито'!D13+'Сагунівська сільська територіал'!D13+'Смілянська міська територіальна'!D13+'Степанецька сільська територіал'!D13+'Степанківська сільська територі'!D13+'Тернівська сільська територіаль'!D13+'Червонослобідська сільська тери'!D13+'Черкаська міська територіальна '!D13+'Чигиринська міська територіальн'!D13 -> 2145 | E13: × | F13: × | G13: × | H13: × | I13: × | J13: ×
A14: Соціальна інтеграція та реінтеграція | B14: ='Балаклеївська сільська територі'!B14+'Березняківська сільська територ'!B14+'Білозірська сільська територіал'!B14+'Бобрицька сільська територіальн'!B14+'Будищенська сільська територіал'!B14+'Городищенська міська територіал'!B14+'Кам’янська міська територіальна'!B14+'Канівська міська територіальна '!B14+'Корсунь-Шевченківська міська те'!B16+'Леськівська сільська територіал'!B14+'Ліплявська сільська територіаль'!B14+'Медведівська сільська територіа'!B14+'Михайлівська сільська територіа'!B14+'Мліївська сільська територіальн'!B14+'Мошнівська сільська територіаль'!B14+'Набутівська сільська територіал'!B14+'Ротмістрівська сільська територ'!B14+'Руськополянська сільська терито'!B14+'Сагунівська сільська територіал'!B14+'Смілянська міська територіальна'!B14+'Степанецька сільська територіал'!B14+'Степанківська сільська територі'!B14+'Тернівська сільська територіаль'!B14+'Червонослобідська сільська тери'!B14+'Черкаська міська територіальна '!B14+'Чигиринська міська територіальн'!B14 -> 520 | C14: ='Балаклеївська сільська територі'!C14+'Березняківська сільська територ'!C14+'Білозірська сільська територіал'!C14+'Бобрицька сільська територіальн'!C14+'Будищенська сільська територіал'!C14+'Городищенська міська територіал'!C14+'Кам’янська міська територіальна'!C14+'Канівська міська територіальна '!C14+'Корсунь-Шевченківська міська те'!C16+'Леськівська сільська територіал'!C14+'Ліплявська сільська територіаль'!C14+'Медведівська сільська територіа'!C14+'Михайлівська сільська територіа'!C14+'Мліївська сільська територіальн'!C14+'Мошнівська сільська територіаль'!C14+'Набутівська сільська територіал'!C14+'Ротмістрівська сільська територ'!C14+'Руськополянська сільська терито'!C14+'Сагунівська сільська територіал'!C14+'Смілянська міська територіальна'!C14+'Степанецька сільська територіал'!C14+'Степанківська сільська територі'!C14+'Тернівська сільська територіаль'!C14+'Червонослобідська сільська тери'!C14+'Черкаська міська територіальна '!C14+'Чигиринська міська територіальн'!C14 -> 509 | D14: ='Балаклеївська сільська територі'!D14+'Березняківська сільська територ'!D14+'Білозірська сільська територіал'!D14+'Бобрицька сільська територіальн'!D14+'Будищенська сільська територіал'!D14+'Городищенська міська територіал'!D14+'Кам’янська міська територіальна'!D14+'Канівська міська територіальна '!D14+'Корсунь-Шевченківська міська те'!D16+'Леськівська сільська територіал'!D14+'Ліплявська сільська територіаль'!D14+'Медведівська сільська територіа'!D14+'Михайлівська сільська територіа'!D14+'Мліївська сільська територіальн'!D14+'Мошнівська сільська територіаль'!D14+'Набутівська сільська територіал'!D14+'Ротмістрівська сільська територ'!D14+'Руськополянська сільська терито'!D14+'Сагунівська сільська територіал'!D14+'Смілянська міська територіальна'!D14+'Степанецька сільська територіал'!D14+'Степанківська сільська територі'!D14+'Тернівська сільська територіаль'!D14+'Червонослобідська сільська тери'!D14+'Черкаська міська територіальна '!D14+'Чигиринська міська територіальн'!D14 -> 520 | E14: × | F14: × | G14: × | H14: × | I14: × | J14: ×
