Workbook

Sheet Черкаський район (узагальнена)
A1: ДАНІ
A2: щодо забезпечення осіб/сімей, які належать до вразливих груп населення або перебувають у складних життєвих обставинах, соціальними послугами у ЧЕРКАСЬКОМУ РАЙОНІ
A3: Назва соціальної послуги відповідно до переліку соціальних послуг | B3: Кількість осіб, які звертались щодо отримання соціальних послуг, та осіб/сімей, щодо яких надійшли звернення/ повідомлення про потребу в соціальних послугах у звітному періоді* | C3: Кількість осіб/сімей, щодо яких за результатами оцінки потреб особи/сім’ї зроблено висновок про потребу в наданні соціальних послуг* | D3: Кількість осіб/сімей, які отримували соціальні послуги* | E3: Кількість осіб, які звертались щодо отримання соціальних послуг екстрено (кризово), та осіб/сімей, щодо яких надійшли звернення / повідомлення про потребу в соціальних послугах** | H3: Кількість осіб/сімей, які отримували соціальні послуги екстрено(кризово)**
E4: всього осіб/сімей | F4: з них кількість внутрішньо переміщених осіб/сімей | G4: в них дітей | H4: всього осіб/сімей | I4: з них кількість внутрішньо переміщених осіб/сімей | J4: в них дітей
A5: 1 | B5: 2 | C5: 3 | D5: 4 | E5: 5 | F5: 6 | G5: 7 | H5: 8 | I5: 9 | J5: 10
A6: Базові соціальні послуги
A7: Догляд вдома | B7: ='Балаклеївська сільська територі'!B7+'Березняківська сільська територ'!B7+'Білозірська сільська територіал'!B7+'Бобрицька сільська територіальн'!B7+'Будищенська сільська територіал'!B7+'Городищенська міська територіал'!B7+'Кам’янська міська територіальна'!B7+'Канівська міська територіальна '!B7+'Корсунь-Шевченківська міська те'!B7+'Леськівська сільська територіал'!B7+'Ліплявська сільська територіаль'!B7+'Медведівська сільська територіа'!B7+'Михайлівська сільська територіа'!B7+'Мліївська сільська територіальн'!B7+'Мошнівська сільська територіаль'!B7+'Набутівська сільська територіал'!B7+'Ротмістрівська сільська територ'!B7+'Руськополянська сільська терито'!B7+'Сагунівська сільська територіал'!B7+'Смілянська міська територіальна'!B7+'Степанецька сільська територіал'!B7+'Степанківська сільська територі'!B7+'Тернівська сільська територіаль'!B7+'Червонослобідська сільська тери'!B7+'Черкаська міська територіальна '!B7+'Чигиринська міська територіальн'!B7 -> 3577 | C7: ='Балаклеївська сільська територі'!C7+'Березняківська сільська територ'!C7+'Білозірська сільська територіал'!C7+'Бобрицька сільська територіальн'!C7+'Будищенська сільська територіал'!C7+'Городищенська міська територіал'!C7+'Кам’янська міська територіальна'!C7+'Канівська міська територіальна '!C7+'Корсунь-Шевченківська міська те'!C7+'Леськівська сільська територіал'!C7+'Ліплявська сільська територіаль'!C7+'Медведівська сільська територіа'!C7+'Михайлівська сільська територіа'!C7+'Мліївська сільська територіальн'!C7+'Мошнівська сільська територіаль'!C7+'Набутівська сільська територіал'!C7+'Ротмістрівська сільська територ'!C7+'Руськополянська сільська терито'!C7+'Сагунівська сільська територіал'!C7+'Смілянська міська територіальна'!C7+'Степанецька сільська територіал'!C7+'Степанківська сільська територі'!C7+'Тернівська сільська територіаль'!C7+'Червонослобідська сільська тери'!C7+'Черкаська міська територіальна '!C7+'Чигиринська міська територіальн'!C7 -> 3409 | D7: ='Балаклеївська сільська територі'!D7+'Березняківська сільська територ'!D7+'Білозірська сільська територіал'!D7+'Бобрицька сільська територіальн'!D7+'Будищенська сільська територіал'!D7+'Городищенська міська територіал'!D7+'Кам’янська міська територіальна'!D7+'Канівська міська територіальна '!D7+'Корсунь-Шевченківська міська те'!D7+'Леськівська сільська територіал'!D7+'Ліплявська сільська територіаль'!D7+'Медведівська сільська територіа'!D7+'Михайлівська сільська територіа'!D7+'Мліївська сільська територіальн'!D7+'Мошнівська сільська територіаль'!D7+'Набутівська сільська територіал'!D7+'Ротмістрівська сільська територ'!D7+'Руськополянська сільська терито'!D7+'Сагунівська сільська територіал'!D7+'Смілянська міська територіальна'!D7+'Степанецька сільська територіал'!D7+'Степанківська сільська територі'!D7+'Тернівська сільська територіаль'!D7+'Червонослобідська сільська тери'!D7+'Черкаська міська територіальна '!D7+'Чигиринська міська територіальн'!D7 -> 4931 | E7: ='Балаклеївська сільська територі'!E7+'Березняківська сільська територ'!E7+'Білозірська сільська територіал'!E7+'Бобрицька сільська територіальн'!E7+'Будищенська сільська територіал'!E7+'Городищенська міська територіал'!E7+'Кам’янська міська територіальна'!E7+'Канівська міська територіальна '!E7+'Корсунь-Шевченківська міська те'!E7+'Леськівська сільська територіал'!E7+'Ліплявська сільська територіаль'!E7+'Медведівська сільська територіа'!E7+'Михайлівська сільська територіа'!E7+'Мліївська сільська територіальн'!E7+'Мошнівська сільська територіаль'!E7+'Набутівська сільська територіал'!E7+'Ротмістрівська сільська територ'!E7+'Руськополянська сільська терито'!E7+'Сагунівська сільська територіал'!E7+'Смілянська міська територіальна'!E7+'Степанецька сільська територіал'!E7+'Степанківська сільська територі'!E7+'Тернівська сільська територіаль'!E7+'Червонослобідська сільська тери'!E7+'Черкаська міська територіальна '!E7+'Чигиринська міська територіальн'!E7 -> 0 | F7: ='Балаклеївська сільська територі'!F7+'Березняківська сільська територ'!F7+'Білозірська сільська територіал'!F7+'Бобрицька сільська територіальн'!F7+'Будищенська сільська територіал'!F7+'Городищенська міська територіал'!F7+'Кам’янська міська територіальна'!F7+'Канівська міська територіальна '!F7+'Корсунь-Шевченківська міська те'!F7+'Леськівська сільська територіал'!F7+'Ліплявська сільська територіаль'!F7+'Медведівська сільська територіа'!F7+'Михайлівська сільська територіа'!F7+'Мліївська сільська територіальн'!F7+'Мошнівська сільська територіаль'!F7+'Набутівська сільська територіал'!F7+'Ротмістрівська сільська територ'!F7+'Руськополянська сільська терито'!F7+'Сагунівська сільська територіал'!F7+'Смілянська міська територіальна'!F7+'Степанецька сільська територіал'!F7+'Степанківська сільська територі'!F7+'Тернівська сільська територіаль'!F7+'Червонослобідська сільська тери'!F7+'Черкаська міська територіальна '!F7+'Чигиринська міська територіальн'!F7 -> 0 | G7: ='Балаклеївська сільська територі'!G7+'Березняківська сільська територ'!G7+'Білозірська сільська територіал'!G7+'Бобрицька сільська територіальн'!G7+'Будищенська сільська територіал'!G7+'Городищенська міська територіал'!G7+'Кам’янська міська територіальна'!G7+'Канівська міська територіальна '!G7+'Корсунь-Шевченківська міська те'!G7+'Леськівська сільська територіал'!G7+'Ліплявська сільська територіаль'!G7+'Медведівська сільська територіа'!G7+'Михайлівська сільська територіа'!G7+'Мліївська сільська територіальн'!G7+'Мошнівська сільська територіаль'!G7+'Набутівська сільська територіал'!G7+'Ротмістрівська сільська територ'!G7+'Руськополянська сільська терито'!G7+'Сагунівська сільська територіал'!G7+'Смілянська міська територіальна'!G7+'Степанецька сільська територіал'!G7+'Степанківська сільська територі'!G7+'Тернівська сільська територіаль'!G7+'Червонослобідська сільська тери'!G7+'Черкаська міська територіальна '!G7+'Чигиринська міська територіальн'!G7 -> 0 | H7: ='Балаклеївська сільська територі'!H7+'Березняківська сільська територ'!H7+'Білозірська сільська територіал'!H7+'Бобрицька сільська територіальн'!H7+'Будищенська сільська територіал'!H7+'Городищенська міська територіал'!H7+'Кам’янська міська територіальна'!H7+'Канівська міська територіальна '!H7+'Корсунь-Шевченківська міська те'!H7+'Леськівська сільська територіал'!H7+'Ліплявська сільська територіаль'!H7+'Медведівська сільська територіа'!H7+'Михайлівська сільська територіа'!H7+'Мліївська сільська територіальн'!H7+'Мошнівська сільська територіаль'!H7+'Набутівська сільська територіал'!H7+'Ротмістрівська сільська територ'!H7+'Руськополянська сільська терито'!H7+'Сагунівська сільська територіал'!H7+'Смілянська міська територіальна'!H7+'Степанецька сільська територіал'!H7+'Степанківська сільська територі'!H7+'Тернівська сільська територіаль'!H7+'Червонослобідська сільська тери'!H7+'Черкаська міська територіальна '!H7+'Чигиринська міська територіальн'!H7 -> 0 | I7: ='Балаклеївська сільська територі'!I7+'Березняківська сільська територ'!I7+'Білозірська сільська територіал'!I7+'Бобрицька сільська територіальн'!I7+'Будищенська сільська територіал'!I7+'Городищенська міська територіал'!I7+'Кам’янська міська територіальна'!I7+'Канівська міська територіальна '!I7+'Корсунь-Шевченківська міська те'!I7+'Леськівська сільська територіал'!I7+'Ліплявська сільська територіаль'!I7+'Медведівська сільська територіа'!I7+'Михайлівська сільська територіа'!I7+'Мліївська сільська територіальн'!I7+'Мошнівська сільська територіаль'!I7+'Набутівська сільська територіал'!I7+'Ротмістрівська сільська територ'!I7+'Руськополянська сільська терито'!I7+'Сагунівська сільська територіал'!I7+'Смілянська міська територіальна'!I7+'Степанецька сільська територіал'!I7+'Степанківська сільська територі'!I7+'Тернівська сільська територіаль'!I7+'Червонослобідська сільська тери'!I7+'Черкаська міська територіальна '!I7+'Чигиринська міська територіальн'!I7 -> 0 | J7: ='Балаклеївська сільська територі'!J7+'Березняківська сільська територ'!J7+'Білозірська сільська територіал'!J7+'Бобрицька сільська територіальн'!J7+'Будищенська сільська територіал'!J7+'Городищенська міська територіал'!J7+'Кам’янська міська територіальна'!J7+'Канівська міська територіальна '!J7+'Корсунь-Шевченківська міська те'!J7+'Леськівська сільська територіал'!J7+'Ліплявська сільська територіаль'!J7+'Медведівська сільська територіа'!J7+'Михайлівська сільська територіа'!J7+'Мліївська сільська територіальн'!J7+'Мошнівська сільська територіаль'!J7+'Набутівська сільська територіал'!J7+'Ротмістрівська сільська територ'!J7+'Руськополянська сільська терито'!J7+'Сагунівська сільська територіал'!J7+'Смілянська міська територіальна'!J7+'Степанецька сільська територіал'!J7+'Степанківська сільська територі'!J7+'Тернівська сільська територіаль'!J7+'Червонослобідська сільська тери'!J7+'Черкаська міська територіальна '!J7+'Чигиринська міська територіальн'!J7 -> 0
A8: Денний догляд | B8: ='Балаклеївська сільська територі'!B8+'Березняківська сільська територ'!B8+'Білозірська сільська територіал'!B8+'Бобрицька сільська територіальн'!B8+'Будищенська сільська територіал'!B8+'Городищенська міська територіал'!B8+'Кам’янська міська територіальна'!B8+'Канівська міська територіальна '!B8+'Корсунь-Шевченківська міська те'!B8+'Леськівська сільська територіал'!B8+'Ліплявська сільська територіаль'!B8+'Медведівська сільська територіа'!B8+'Михайлівська сільська територіа'!B8+'Мліївська сільська територіальн'!B8+'Мошнівська сільська територіаль'!B8+'Набутівська сільська територіал'!B8+'Ротмістрівська сільська територ'!B8+'Руськополянська сільська терито'!B8+'Сагунівська сільська територіал'!B8+'Смілянська міська територіальна'!B8+'Степанецька сільська територіал'!B8+'Степанківська сільська територі'!B8+'Тернівська сільська територіаль'!B8+'Червонослобідська сільська тери'!B8+'Черкаська міська територіальна '!B8+'Чигиринська міська територіальн'!B8 -> 51 | C8: ='Балаклеївська сільська територі'!C8+'Березняківська сільська територ'!C8+'Білозірська сільська територіал'!C8+'Бобрицька сільська територіальн'!C8+'Будищенська сільська територіал'!C8+'Городищенська міська територіал'!C8+'Кам’янська міська територіальна'!C8+'Канівська міська територіальна '!C8+'Корсунь-Шевченківська міська те'!C8+'Леськівська сільська територіал'!C8+'Ліплявська сільська територіаль'!C8+'Медведівська сільська територіа'!C8+'Михайлівська сільська територіа'!C8+'Мліївська сільська територіальн'!C8+'Мошнівська сільська територіаль'!C8+'Набутівська сільська територіал'!C8+'Ротмістрівська сільська територ'!C8+'Руськополянська сільська терито'!C8+'Сагунівська сільська територіал'!C8+'Смілянська міська територіальна'!C8+'Степанецька сільська територіал'!C8+'Степанківська сільська територі'!C8+'Тернівська сільська територіаль'!C8+'Червонослобідська сільська тери'!C8+'Черкаська міська територіальна '!C8+'Чигиринська міська територіальн'!C8 -> 50 | D8: ='Балаклеївська сільська територі'!D8+'Березняківська сільська територ'!D8+'Білозірська сільська територіал'!D8+'Бобрицька сільська територіальн'!D8+'Будищенська сільська територіал'!D8+'Городищенська міська територіал'!D8+'Кам’янська міська територіальна'!D8+'Канівська міська територіальна '!D8+'Корсунь-Шевченківська міська те'!D8+'Леськівська сільська територіал'!D8+'Ліплявська сільська територіаль'!D8+'Медведівська сільська територіа'!D8+'Михайлівська сільська територіа'!D8+'Мліївська сільська територіальн'!D8+'Мошнівська сільська територіаль'!D8+'Набутівська сільська територіал'!D8+'Ротмістрівська сільська територ'!D8+'Руськополянська сільська терито'!D8+'Сагунівська сільська територіал'!D8+'Смілянська міська територіальна'!D8+'Степанецька сільська територіал'!D8+'Степанківська сільська територі'!D8+'Тернівська сільська територіаль'!D8+'Червонослобідська сільська тери'!D8+'Черкаська міська територіальна '!D8+'Чигиринська міська територіальн'!D8 -> 50 | E8: ='Балаклеївська сільська територі'!E8+'Березняківська сільська територ'!E8+'Білозірська сільська територіал'!E8+'Бобрицька сільська територіальн'!E8+'Будищенська сільська територіал'!E8+'Городищенська міська територіал'!E8+'Кам’янська міська територіальна'!E8+'Канівська міська територіальна '!E8+'Корсунь-Шевченківська міська те'!E8+'Леськівська сільська територіал'!E8+'Ліплявська сільська територіаль'!E8+'Медведівська сільська територіа'!E8+'Михайлівська сільська територіа'!E8+'Мліївська сільська територіальн'!E8+'Мошнівська сільська територіаль'!E8+'Набутівська сільська територіал'!E8+'Ротмістрівська сільська територ'!E8+'Руськополянська сільська терито'!E8+'Сагунівська сільська територіал'!E8+'Смілянська міська територіальна'!E8+'Степанецька сільська територіал'!E8+'Степанківська сільська територі'!E8+'Тернівська сільська територіаль'!E8+'Червонослобідська сільська тери'!E8+'Черкаська міська територіальна '!E8+'Чигиринська міська територіальн'!E8 -> 0 | F8: ='Балаклеївська сільська територі'!F8+'Березняківська сільська територ'!F8+'Білозірська сільська територіал'!F8+'Бобрицька сільська територіальн'!F8+'Будищенська сільська територіал'!F8+'Городищенська міська територіал'!F8+'Кам’янська міська територіальна'!F8+'Канівська міська територіальна '!F8+'Корсунь-Шевченківська міська те'!F8+'Леськівська сільська територіал'!F8+'Ліплявська сільська територіаль'!F8+'Медведівська сільська територіа'!F8+'Михайлівська сільська територіа'!F8+'Мліївська сільська територіальн'!F8+'Мошнівська сільська територіаль'!F8+'Набутівська сільська територіал'!F8+'Ротмістрівська сільська територ'!F8+'Руськополянська сільська терито'!F8+'Сагунівська сільська територіал'!F8+'Смілянська міська територіальна'!F8+'Степанецька сільська територіал'!F8+'Степанківська сільська територі'!F8+'Тернівська сільська територіаль'!F8+'Червонослобідська сільська тери'!F8+'Черкаська міська територіальна '!F8+'Чигиринська міська територіальн'!F8 -> 0 | G8: ='Балаклеївська сільська територі'!G8+'Березняківська сільська територ'!G8+'Білозірська сільська територіал'!G8+'Бобрицька сільська територіальн'!G8+'Будищенська сільська територіал'!G8+'Городищенська міська територіал'!G8+'Кам’янська міська територіальна'!G8+'Канівська міська територіальна '!G8+'Корсунь-Шевченківська міська те'!G8+'Леськівська сільська територіал'!G8+'Ліплявська сільська територіаль'!G8+'Медведівська сільська територіа'!G8+'Михайлівська сільська територіа'!G8+'Мліївська сільська територіальн'!G8+'Мошнівська сільська територіаль'!G8+'Набутівська сільська територіал'!G8+'Ротмістрівська сільська територ'!G8+'Руськополянська сільська терито'!G8+'Сагунівська сільська територіал'!G8+'Смілянська міська територіальна'!G8+'Степанецька сільська територіал'!G8+'Степанківська сільська територі'!G8+'Тернівська сільська територіаль'!G8+'Червонослобідська сільська тери'!G8+'Черкаська міська територіальна '!G8+'Чигиринська міська територіальн'!G8 -> 0 | H8: ='Балаклеївська сільська територі'!H8+'Березняківська сільська територ'!H8+'Білозірська сільська територіал'!H8+'Бобрицька сільська територіальн'!H8+'Будищенська сільська територіал'!H8+'Городищенська міська територіал'!H8+'Кам’янська міська територіальна'!H8+'Канівська міська територіальна '!H8+'Корсунь-Шевченківська міська те'!H8+'Леськівська сільська територіал'!H8+'Ліплявська сільська територіаль'!H8+'Медведівська сільська територіа'!H8+'Михайлівська сільська територіа'!H8+'Мліївська сільська територіальн'!H8+'Мошнівська сільська територіаль'!H8+'Набутівська сільська територіал'!H8+'Ротмістрівська сільська територ'!H8+'Руськополянська сільська терито'!H8+'Сагунівська сільська територіал'!H8+'Смілянська міська територіальна'!H8+'Степанецька сільська територіал'!H8+'Степанківська сільська територі'!H8+'Тернівська сільська територіаль'!H8+'Червонослобідська сільська тери'!H8+'Черкаська міська територіальна '!H8+'Чигиринська міська територіальн'!H8 -> 0 | I8: ='Балаклеївська сільська територі'!I8+'Березняківська сільська територ'!I8+'Білозірська сільська територіал'!I8+'Бобрицька сільська територіальн'!I8+'Будищенська сільська територіал'!I8+'Городищенська міська територіал'!I8+'Кам’янська міська територіальна'!I8+'Канівська міська територіальна '!I8+'Корсунь-Шевченківська міська те'!I8+'Леськівська сільська територіал'!I8+'Ліплявська сільська територіаль'!I8+'Медведівська сільська територіа'!I8+'Михайлівська сільська територіа'!I8+'Мліївська сільська територіальн'!I8+'Мошнівська сільська територіаль'!I8+'Набутівська сільська територіал'!I8+'Ротмістрівська сільська територ'!I8+'Руськополянська сільська терито'!I8+'Сагунівська сільська територіал'!I8+'Смілянська міська територіальна'!I8+'Степанецька сільська територіал'!I8+'Степанківська сільська територі'!I8+'Тернівська сільська територіаль'!I8+'Червонослобідська сільська тери'!I8+'Черкаська міська територіальна '!I8+'Чигиринська міська територіальн'!I8 -> 0 | J8: ='Балаклеївська сільська територі'!J8+'Березняківська сільська територ'!J8+'Білозірська сільська територіал'!J8+'Бобрицька сільська територіальн'!J8+'Будищенська сільська територіал'!J8+'Городищенська міська територіал'!J8+'Кам’янська міська територіальна'!J8+'Канівська міська територіальна '!J8+'Корсунь-Шевченківська міська те'!J8+'Леськівська сільська територіал'!J8+'Ліплявська сільська територіаль'!J8+'Медведівська сільська територіа'!J8+'Михайлівська сільська територіа'!J8+'Мліївська сільська територіальн'!J8+'Мошнівська сільська територіаль'!J8+'Набутівська сільська територіал'!J8+'Ротмістрівська сільська територ'!J8+'Руськополянська сільська терито'!J8+'Сагунівська сільська територіал'!J8+'Смілянська міська територіальна'!J8+'Степанецька сільська територіал'!J8+'Степанківська сільська територі'!J8+'Тернівська сільська територіаль'!J8+'Червонослобідська сільська тери'!J8+'Черкаська міська територіальна '!J8+'Чигиринська міська територіальн'!J8 -> 0
A9: Денний догляд дітей з інвалідністю | B9: ='Балаклеївська сільська територі'!B9+'Березняківська сільська територ'!B9+'Білозірська сільська територіал'!B9+'Бобрицька сільська територіальн'!B9+'Будищенська сільська територіал'!B9+'Городищенська міська територіал'!B9+'Кам’янська міська територіальна'!B9+'Канівська міська територіальна '!B9+'Корсунь-Шевченківська міська те'!B9+'Леськівська сільська територіал'!B9+'Ліплявська сільська територіаль'!B9+'Медведівська сільська територіа'!B9+'Михайлівська сільська територіа'!B9+'Мліївська сільська територіальн'!B9+'Мошнівська сільська територіаль'!B9+'Набутівська сільська територіал'!B9+'Ротмістрівська сільська територ'!B9+'Руськополянська сільська терито'!B9+'Сагунівська сільська територіал'!B9+'Смілянська міська територіальна'!B9+'Степанецька сільська територіал'!B9+'Степанківська сільська територі'!B9+'Тернівська сільська територіаль'!B9+'Червонослобідська сільська тери'!B9+'Черкаська міська територіальна '!B9+'Чигиринська міська територіальн'!B9 -> 60 | C9: ='Балаклеївська сільська територі'!C9+'Березняківська сільська територ'!C9+'Білозірська сільська територіал'!C9+'Бобрицька сільська територіальн'!C9+'Будищенська сільська територіал'!C9+'Городищенська міська територіал'!C9+'Кам’янська міська територіальна'!C9+'Канівська міська територіальна '!C9+'Корсунь-Шевченківська міська те'!C9+'Леськівська сільська територіал'!C9+'Ліплявська сільська територіаль'!C9+'Медведівська сільська територіа'!C9+'Михайлівська сільська територіа'!C9+'Мліївська сільська територіальн'!C9+'Мошнівська сільська територіаль'!C9+'Набутівська сільська територіал'!C9+'Ротмістрівська сільська територ'!C9+'Руськополянська сільська терито'!C9+'Сагунівська сільська територіал'!C9+'Смілянська міська територіальна'!C9+'Степанецька сільська територіал'!C9+'Степанківська сільська територі'!C9+'Тернівська сільська територіаль'!C9+'Червонослобідська сільська тери'!C9+'Черкаська міська територіальна '!C9+'Чигиринська міська територіальн'!C9 -> 51 | D9: ='Балаклеївська сільська територі'!D9+'Березняківська сільська територ'!D9+'Білозірська сільська територіал'!D9+'Бобрицька сільська територіальн'!D9+'Будищенська сільська територіал'!D9+'Городищенська міська територіал'!D9+'Кам’янська міська територіальна'!D9+'Канівська міська територіальна '!D9+'Корсунь-Шевченківська міська те'!D9+'Леськівська сільська територіал'!D9+'Ліплявська сільська територіаль'!D9+'Медведівська сільська територіа'!D9+'Михайлівська сільська територіа'!D9+'Мліївська сільська територіальн'!D9+'Мошнівська сільська територіаль'!D9+'Набутівська сільська територіал'!D9+'Ротмістрівська сільська територ'!D9+'Руськополянська сільська терито'!D9+'Сагунівська сільська територіал'!D9+'Смілянська міська територіальна'!D9+'Степанецька сільська територіал'!D9+'Степанківська сільська територі'!D9+'Тернівська сільська територіаль'!D9+'Червонослобідська сільська тери'!D9+'Черкаська міська територіальна '!D9+'Чигиринська міська територіальн'!D9 -> 102 | E9: ='Балаклеївська сільська територі'!E9+'Березняківська сільська територ'!E9+'Білозірська сільська територіал'!E9+'Бобрицька сільська територіальн'!E9+'Будищенська сільська територіал'!E9+'Городищенська міська територіал'!E9+'Кам’янська міська територіальна'!E9+'Канівська міська територіальна '!E9+'Корсунь-Шевченківська міська те'!E9+'Леськівська сільська територіал'!E9+'Ліплявська сільська територіаль'!E9+'Медведівська сільська територіа'!E9+'Михайлівська сільська територіа'!E9+'Мліївська сільська територіальн'!E9+'Мошнівська сільська територіаль'!E9+'Набутівська сільська територіал'!E9+'Ротмістрівська сільська територ'!E9+'Руськополянська сільська терито'!E9+'Сагунівська сільська територіал'!E9+'Смілянська міська територіальна'!E9+'Степанецька сільська територіал'!E9+'Степанківська сільська територі'!E9+'Тернівська сільська територіаль'!E9+'Червонослобідська сільська тери'!E9+'Черкаська міська територіальна '!E9+'Чигиринська міська територіальн'!E9 -> 0 | F9: ='Балаклеївська сільська територі'!F9+'Березняківська сільська територ'!F9+'Білозірська сільська територіал'!F9+'Бобрицька сільська територіальн'!F9+'Будищенська сільська територіал'!F9+'Городищенська міська територіал'!F9+'Кам’янська міська територіальна'!F9+'Канівська міська територіальна '!F9+'Корсунь-Шевченківська міська те'!F9+'Леськівська сільська територіал'!F9+'Ліплявська сільська територіаль'!F9+'Медведівська сільська територіа'!F9+'Михайлівська сільська територіа'!F9+'Мліївська сільська територіальн'!F9+'Мошнівська сільська територіаль'!F9+'Набутівська сільська територіал'!F9+'Ротмістрівська сільська територ'!F9+'Руськополянська сільська терито'!F9+'Сагунівська сільська територіал'!F9+'Смілянська міська територіальна'!F9+'Степанецька сільська територіал'!F9+'Степанківська сільська територі'!F9+'Тернівська сільська територіаль'!F9+'Червонослобідська сільська тери'!F9+'Черкаська міська територіальна '!F9+'Чигиринська міська територіальн'!F9 -> 0 | G9: ='Балаклеївська сільська територі'!G9+'Березняківська сільська територ'!G9+'Білозірська сільська територіал'!G9+'Бобрицька сільська територіальн'!G9+'Будищенська сільська територіал'!G9+'Городищенська міська територіал'!G9+'Кам’янська міська територіальна'!G9+'Канівська міська територіальна '!G9+'Корсунь-Шевченківська міська те'!G9+'Леськівська сільська територіал'!G9+'Ліплявська сільська територіаль'!G9+'Медведівська сільська територіа'!G9+'Михайлівська сільська територіа'!G9+'Мліївська сільська територіальн'!G9+'Мошнівська сільська територіаль'!G9+'Набутівська сільська територіал'!G9+'Ротмістрівська сільська територ'!G9+'Руськополянська сільська терито'!G9+'Сагунівська сільська територіал'!G9+'Смілянська міська територіальна'!G9+'Степанецька сільська територіал'!G9+'Степанківська сільська територі'!G9+'Тернівська сільська територіаль'!G9+'Червонослобідська сільська тери'!G9+'Черкаська міська територіальна '!G9+'Чигиринська міська територіальн'!G9 -> 0 | H9: ='Балаклеївська сільська територі'!H9+'Березняківська сільська територ'!H9+'Білозірська сільська територіал'!H9+'Бобрицька сільська територіальн'!H9+'Будищенська сільська територіал'!H9+'Городищенська міська територіал'!H9+'Кам’янська міська територіальна'!H9+'Канівська міська територіальна '!H9+'Корсунь-Шевченківська міська те'!H9+'Леськівська сільська територіал'!H9+'Ліплявська сільська територіаль'!H9+'Медведівська сільська територіа'!H9+'Михайлівська сільська територіа'!H9+'Мліївська сільська територіальн'!H9+'Мошнівська сільська територіаль'!H9+'Набутівська сільська територіал'!H9+'Ротмістрівська сільська територ'!H9+'Руськополянська сільська терито'!H9+'Сагунівська сільська територіал'!H9+'Смілянська міська територіальна'!H9+'Степанецька сільська територіал'!H9+'Степанківська сільська територі'!H9+'Тернівська сільська територіаль'!H9+'Червонослобідська сільська тери'!H9+'Черкаська міська територіальна '!H9+'Чигиринська міська територіальн'!H9 -> 0 | I9: ='Балаклеївська сільська територі'!I9+'Березняківська сільська територ'!I9+'Білозірська сільська територіал'!I9+'Бобрицька сільська територіальн'!I9+'Будищенська сільська територіал'!I9+'Городищенська міська територіал'!I9+'Кам’янська міська територіальна'!I9+'Канівська міська територіальна '!I9+'Корсунь-Шевченківська міська те'!I9+'Леськівська сільська територіал'!I9+'Ліплявська сільська територіаль'!I9+'Медведівська сільська територіа'!I9+'Михайлівська сільська територіа'!I9+'Мліївська сільська територіальн'!I9+'Мошнівська сільська територіаль'!I9+'Набутівська сільська територіал'!I9+'Ротмістрівська сільська територ'!I9+'Руськополянська сільська терито'!I9+'Сагунівська сільська територіал'!I9+'Смілянська міська територіальна'!I9+'Степанецька сільська територіал'!I9+'Степанківська сільська територі'!I9+'Тернівська сільська територіаль'!I9+'Червонослобідська сільська тери'!I9+'Черкаська міська територіальна '!I9+'Чигиринська міська територіальн'!I9 -> 0 | J9: ='Балаклеївська сільська територі'!J9+'Березняківська сільська територ'!J9+'Білозірська сільська територіал'!J9+'Бобрицька сільська територіальн'!J9+'Будищенська сільська територіал'!J9+'Городищенська міська територіал'!J9+'Кам’янська міська територіальна'!J9+'Канівська міська територіальна '!J9+'Корсунь-Шевченківська міська те'!J9+'Леськівська сільська територіал'!J9+'Ліплявська сільська територіаль'!J9+'Медведівська сільська територіа'!J9+'Михайлівська сільська територіа'!J9+'Мліївська сільська територіальн'!J9+'Мошнівська сільська територіаль'!J9+'Набутівська сільська територіал'!J9+'Ротмістрівська сільська територ'!J9+'Руськополянська сільська терито'!J9+'Сагунівська сільська територіал'!J9+'Смілянська міська територіальна'!J9+'Степанецька сільська територіал'!J9+'Степанківська сільська територі'!J9+'Тернівська сільська територіаль'!J9+'Червонослобідська сільська тери'!J9+'Черкаська міська територіальна '!J9+'Чигиринська міська територіальн'!J9 -> 0
A10: Підтримане проживання осіб похилого віку та осіб з інвалідністю | B10: ='Балаклеївська сільська територі'!B10+'Березняківська сільська територ'!B10+'Білозірська сільська територіал'!B10+'Бобрицька сільська територіальн'!B10+'Будищенська сільська територіал'!B10+'Городищенська міська територіал'!B10+'Кам’янська міська територіальна'!B10+'Канівська міська територіальна '!B10+'Корсунь-Шевченківська міська те'!B10+'Леськівська сільська територіал'!B10+'Ліплявська сільська територіаль'!B10+'Медведівська сільська територіа'!B10+'Михайлівська сільська територіа'!B10+'Мліївська сільська територіальн'!B10+'Мошнівська сільська територіаль'!B10+'Набутівська сільська територіал'!B10+'Ротмістрівська сільська територ'!B10+'Руськополянська сільська терито'!B10+'Сагунівська сільська територіал'!B10+'Смілянська міська територіальна'!B10+'Степанецька сільська територіал'!B10+'Степанківська сільська територі'!B10+'Тернівська сільська територіаль'!B10+'Червонослобідська сільська тери'!B10+'Черкаська міська територіальна '!B10+'Чигиринська міська територіальн'!B10 -> 0 | C10: ='Балаклеївська сільська територі'!C10+'Березняківська сільська територ'!C10+'Білозірська сільська територіал'!C10+'Бобрицька сільська територіальн'!C10+'Будищенська сільська територіал'!C10+'Городищенська міська територіал'!C10+'Кам’янська міська територіальна'!C10+'Канівська міська територіальна '!C10+'Корсунь-Шевченківська міська те'!C10+'Леськівська сільська територіал'!C10+'Ліплявська сільська територіаль'!C10+'Медведівська сільська територіа'!C10+'Михайлівська сільська територіа'!C10+'Мліївська сільська територіальн'!C10+'Мошнівська сільська територіаль'!C10+'Набутівська сільська територіал'!C10+'Ротмістрівська сільська територ'!C10+'Руськополянська сільська терито'!C10+'Сагунівська сільська територіал'!C10+'Смілянська міська територіальна'!C10+'Степанецька сільська територіал'!C10+'Степанківська сільська територі'!C10+'Тернівська сільська територіаль'!C10+'Червонослобідська сільська тери'!C10+'Черкаська міська територіальна '!C10+'Чигиринська міська територіальн'!C10 -> 0 | D10: ='Балаклеївська сільська територі'!D10+'Березняківська сільська територ'!D10+'Білозірська сільська територіал'!D10+'Бобрицька сільська територіальн'!D10+'Будищенська сільська територіал'!D10+'Городищенська міська територіал'!D10+'Кам’янська міська територіальна'!D10+'Канівська міська територіальна '!D10+'Корсунь-Шевченківська міська те'!D10+'Леськівська сільська територіал'!D10+'Ліплявська сільська територіаль'!D10+'Медведівська сільська територіа'!D10+'Михайлівська сільська територіа'!D10+'Мліївська сільська територіальн'!D10+'Мошнівська сільська територіаль'!D10+'Набутівська сільська територіал'!D10+'Ротмістрівська сільська територ'!D10+'Руськополянська сільська терито'!D10+'Сагунівська сільська територіал'!D10+'Смілянська міська територіальна'!D10+'Степанецька сільська територіал'!D10+'Степанківська сільська територі'!D10+'Тернівська сільська територіаль'!D10+'Червонослобідська сільська тери'!D10+'Черкаська міська територіальна '!D10+'Чигиринська міська територіальн'!D10 -> 0 | E10: ='Балаклеївська сільська територі'!E10+'Березняківська сільська територ'!E10+'Білозірська сільська територіал'!E10+'Бобрицька сільська територіальн'!E10+'Будищенська сільська територіал'!E10+'Городищенська міська територіал'!E10+'Кам’янська міська територіальна'!E10+'Канівська міська територіальна '!E10+'Корсунь-Шевченківська міська те'!E10+'Леськівська сільська територіал'!E10+'Ліплявська сільська територіаль'!E10+'Медведівська сільська територіа'!E10+'Михайлівська сільська територіа'!E10+'Мліївська сільська територіальн'!E10+'Мошнівська сільська територіаль'!E10+'Набутівська сільська територіал'!E10+'Ротмістрівська сільська територ'!E10+'Руськополянська сільська терито'!E10+'Сагунівська сільська територіал'!E10+'Смілянська міська територіальна'!E10+'Степанецька сільська територіал'!E10+'Степанківська сільська територі'!E10+'Тернівська сільська територіаль'!E10+'Червонослобідська сільська тери'!E10+'Черкаська міська територіальна '!E10+'Чигиринська міська територіальн'!E10 -> 0 | F10: ='Балаклеївська сільська територі'!F10+'Березняківська сільська територ'!F10+'Білозірська сільська територіал'!F10+'Бобрицька сільська територіальн'!F10+'Будищенська сільська територіал'!F10+'Городищенська міська територіал'!F10+'Кам’янська міська територіальна'!F10+'Канівська міська територіальна '!F10+'Корсунь-Шевченківська міська те'!F10+'Леськівська сільська територіал'!F10+'Ліплявська сільська територіаль'!F10+'Медведівська сільська територіа'!F10+'Михайлівська сільська територіа'!F10+'Мліївська сільська територіальн'!F10+'Мошнівська сільська територіаль'!F10+'Набутівська сільська територіал'!F10+'Ротмістрівська сільська територ'!F10+'Руськополянська сільська терито'!F10+'Сагунівська сільська територіал'!F10+'Смілянська міська територіальна'!F10+'Степанецька сільська територіал'!F10+'Степанківська сільська територі'!F10+'Тернівська сільська територіаль'!F10+'Червонослобідська сільська тери'!F10+'Черкаська міська територіальна '!F10+'Чигиринська міська територіальн'!F10 -> 0 | G10: ='Балаклеївська сільська територі'!G10+'Березняківська сільська територ'!G10+'Білозірська сільська територіал'!G10+'Бобрицька сільська територіальн'!G10+'Будищенська сільська територіал'!G10+'Городищенська міська територіал'!G10+'Кам’янська міська територіальна'!G10+'Канівська міська територіальна '!G10+'Корсунь-Шевченківська міська те'!G10+'Леськівська сільська територіал'!G10+'Ліплявська сільська територіаль'!G10+'Медведівська сільська територіа'!G10+'Михайлівська сільська територіа'!G10+'Мліївська сільська територіальн'!G10+'Мошнівська сільська територіаль'!G10+'Набутівська сільська територіал'!G10+'Ротмістрівська сільська територ'!G10+'Руськополянська сільська терито'!G10+'Сагунівська сільська територіал'!G10+'Смілянська міська територіальна'!G10+'Степанецька сільська територіал'!G10+'Степанківська сільська територі'!G10+'Тернівська сільська територіаль'!G10+'Червонослобідська сільська тери'!G10+'Черкаська міська територіальна '!G10+'Чигиринська міська територіальн'!G10 -> 0 | H10: ='Балаклеївська сільська територі'!H10+'Березняківська сільська територ'!H10+'Білозірська сільська територіал'!H10+'Бобрицька сільська територіальн'!H10+'Будищенська сільська територіал'!H10+'Городищенська міська територіал'!H10+'Кам’янська міська територіальна'!H10+'Канівська міська територіальна '!H10+'Корсунь-Шевченківська міська те'!H10+'Леськівська сільська територіал'!H10+'Ліплявська сільська територіаль'!H10+'Медведівська сільська територіа'!H10+'Михайлівська сільська територіа'!H10+'Мліївська сільська територіальн'!H10+'Мошнівська сільська територіаль'!H10+'Набутівська сільська територіал'!H10+'Ротмістрівська сільська територ'!H10+'Руськополянська сільська терито'!H10+'Сагунівська сільська територіал'!H10+'Смілянська міська територіальна'!H10+'Степанецька сільська територіал'!H10+'Степанківська сільська територі'!H10+'Тернівська сільська територіаль'!H10+'Червонослобідська сільська тери'!H10+'Черкаська міська територіальна '!H10+'Чигиринська міська територіальн'!H10 -> 0 | I10: ='Балаклеївська сільська територі'!I10+'Березняківська сільська територ'!I10+'Білозірська сільська територіал'!I10+'Бобрицька сільська територіальн'!I10+'Будищенська сільська територіал'!I10+'Городищенська міська територіал'!I10+'Кам’янська міська територіальна'!I10+'Канівська міська територіальна '!I10+'Корсунь-Шевченківська міська те'!I10+'Леськівська сільська територіал'!I10+'Ліплявська сільська територіаль'!I10+'Медведівська сільська територіа'!I10+'Михайлівська сільська територіа'!I10+'Мліївська сільська територіальн'!I10+'Мошнівська сільська територіаль'!I10+'Набутівська сільська територіал'!I10+'Ротмістрівська сільська територ'!I10+'Руськополянська сільська терито'!I10+'Сагунівська сільська територіал'!I10+'Смілянська міська територіальна'!I10+'Степанецька сільська територіал'!I10+'Степанківська сільська територі'!I10+'Тернівська сільська територіаль'!I10+'Червонослобідська сільська тери'!I10+'Черкаська міська територіальна '!I10+'Чигиринська міська територіальн'!I10 -> 0 | J10: ='Балаклеївська сільська територі'!J10+'Березняківська сільська територ'!J10+'Білозірська сільська територіал'!J10+'Бобрицька сільська територіальн'!J10+'Будищенська сільська територіал'!J10+'Городищенська міська територіал'!J10+'Кам’янська міська територіальна'!J10+'Канівська міська територіальна '!J10+'Корсунь-Шевченківська міська те'!J10+'Леськівська сільська територіал'!J10+'Ліплявська сільська територіаль'!J10+'Медведівська сільська територіа'!J10+'Михайлівська сільська територіа'!J10+'Мліївська сільська територіальн'!J10+'Мошнівська сільська територіаль'!J10+'Набутівська сільська територіал'!J10+'Ротмістрівська сільська територ'!J10+'Руськополянська сільська терито'!J10+'Сагунівська сільська територіал'!J10+'Смілянська міська територіальна'!J10+'Степанецька сільська територіал'!J10+'Степанківська сільська територі'!J10+'Тернівська сільська територіаль'!J10+'Червонослобідська сільська тери'!J10+'Черкаська міська територіальна '!J10+'Чигиринська міська територіальн'!J10 -> 0
A11: Підтримане проживання бездомних осіб | B11: ='Балаклеївська сільська територі'!B11+'Березняківська сільська територ'!B11+'Білозірська сільська територіал'!B11+'Бобрицька сільська територіальн'!B11+'Будищенська сільська територіал'!B11+'Городищенська міська територіал'!B11+'Кам’янська міська територіальна'!B11+'Канівська міська територіальна '!B11+'Корсунь-Шевченківська міська те'!B11+'Леськівська сільська територіал'!B11+'Ліплявська сільська територіаль'!B11+'Медведівська сільська територіа'!B11+'Михайлівська сільська територіа'!B11+'Мліївська сільська територіальн'!B11+'Мошнівська сільська територіаль'!B11+'Набутівська сільська територіал'!B11+'Ротмістрівська сільська територ'!B11+'Руськополянська сільська терито'!B11+'Сагунівська сільська територіал'!B11+'Смілянська міська територіальна'!B11+'Степанецька сільська територіал'!B11+'Степанківська сільська територі'!B11+'Тернівська сільська територіаль'!B11+'Червонослобідська сільська тери'!B11+'Черкаська міська територіальна '!B11+'Чигиринська міська територіальн'!B11 -> 0 | C11: ='Балаклеївська сільська територі'!C11+'Березняківська сільська територ'!C11+'Білозірська сільська територіал'!C11+'Бобрицька сільська територіальн'!C11+'Будищенська сільська територіал'!C11+'Городищенська міська територіал'!C11+'Кам’янська міська територіальна'!C11+'Канівська міська територіальна '!C11+'Корсунь-Шевченківська міська те'!C11+'Леськівська сільська територіал'!C11+'Ліплявська сільська територіаль'!C11+'Медведівська сільська територіа'!C11+'Михайлівська сільська територіа'!C11+'Мліївська сільська територіальн'!C11+'Мошнівська сільська територіаль'!C11+'Набутівська сільська територіал'!C11+'Ротмістрівська сільська територ'!C11+'Руськополянська сільська терито'!C11+'Сагунівська сільська територіал'!C11+'Смілянська міська територіальна'!C11+'Степанецька сільська територіал'!C11+'Степанківська сільська територі'!C11+'Тернівська сільська територіаль'!C11+'Червонослобідська сільська тери'!C11+'Черкаська міська територіальна '!C11+'Чигиринська міська територіальн'!C11 -> 0 | D11: ='Балаклеївська сільська територі'!D11+'Березняківська сільська територ'!D11+'Білозірська сільська територіал'!D11+'Бобрицька сільська територіальн'!D11+'Будищенська сільська територіал'!D11+'Городищенська міська територіал'!D11+'Кам’янська міська територіальна'!D11+'Канівська міська територіальна '!D11+'Корсунь-Шевченківська міська те'!D11+'Леськівська сільська територіал'!D11+'Ліплявська сільська територіаль'!D11+'Медведівська сільська територіа'!D11+'Михайлівська сільська територіа'!D11+'Мліївська сільська територіальн'!D11+'Мошнівська сільська територіаль'!D11+'Набутівська сільська територіал'!D11+'Ротмістрівська сільська територ'!D11+'Руськополянська сільська терито'!D11+'Сагунівська сільська територіал'!D11+'Смілянська міська територіальна'!D11+'Степанецька сільська територіал'!D11+'Степанківська сільська територі'!D11+'Тернівська сільська територіаль'!D11+'Червонослобідська сільська тери'!D11+'Черкаська міська територіальна '!D11+'Чигиринська міська територіальн'!D11 -> 0 | E11: ='Балаклеївська сільська територі'!E11+'Березняківська сільська територ'!E11+'Білозірська сільська територіал'!E11+'Бобрицька сільська територіальн'!E11+'Будищенська сільська територіал'!E11+'Городищенська міська територіал'!E11+'Кам’янська міська територіальна'!E11+'Канівська міська територіальна '!E11+'Корсунь-Шевченківська міська те'!E11+'Леськівська сільська територіал'!E11+'Ліплявська сільська територіаль'!E11+'Медведівська сільська територіа'!E11+'Михайлівська сільська територіа'!E11+'Мліївська сільська територіальн'!E11+'Мошнівська сільська територіаль'!E11+'Набутівська сільська територіал'!E11+'Ротмістрівська сільська територ'!E11+'Руськополянська сільська терито'!E11+'Сагунівська сільська територіал'!E11+'Смілянська міська територіальна'!E11+'Степанецька сільська територіал'!E11+'Степанківська сільська територі'!E11+'Тернівська сільська територіаль'!E11+'Червонослобідська сільська тери'!E11+'Черкаська міська територіальна '!E11+'Чигиринська міська територіальн'!E11 -> 0 | F11: ='Балаклеївська сільська територі'!F11+'Березняківська сільська територ'!F11+'Білозірська сільська територіал'!F11+'Бобрицька сільська територіальн'!F11+'Будищенська сільська територіал'!F11+'Городищенська міська територіал'!F11+'Кам’янська міська територіальна'!F11+'Канівська міська територіальна '!F11+'Корсунь-Шевченківська міська те'!F11+'Леськівська сільська територіал'!F11+'Ліплявська сільська територіаль'!F11+'Медведівська сільська територіа'!F11+'Михайлівська сільська територіа'!F11+'Мліївська сільська територіальн'!F11+'Мошнівська сільська територіаль'!F11+'Набутівська сільська територіал'!F11+'Ротмістрівська сільська територ'!F11+'Руськополянська сільська терито'!F11+'Сагунівська сільська територіал'!F11+'Смілянська міська територіальна'!F11+'Степанецька сільська територіал'!F11+'Степанківська сільська територі'!F11+'Тернівська сільська територіаль'!F11+'Червонослобідська сільська тери'!F11+'Черкаська міська територіальна '!F11+'Чигиринська міська територіальн'!F11 -> 0 | G11: ='Балаклеївська сільська територі'!G11+'Березняківська сільська територ'!G11+'Білозірська сільська територіал'!G11+'Бобрицька сільська територіальн'!G11+'Будищенська сільська територіал'!G11+'Городищенська міська територіал'!G11+'Кам’янська міська територіальна'!G11+'Канівська міська територіальна '!G11+'Корсунь-Шевченківська міська те'!G11+'Леськівська сільська територіал'!G11+'Ліплявська сільська територіаль'!G11+'Медведівська сільська територіа'!G11+'Михайлівська сільська територіа'!G11+'Мліївська сільська територіальн'!G11+'Мошнівська сільська територіаль'!G11+'Набутівська сільська територіал'!G11+'Ротмістрівська сільська територ'!G11+'Руськополянська сільська терито'!G11+'Сагунівська сільська територіал'!G11+'Смілянська міська територіальна'!G11+'Степанецька сільська територіал'!G11+'Степанківська сільська територі'!G11+'Тернівська сільська територіаль'!G11+'Червонослобідська сільська тери'!G11+'Черкаська міська територіальна '!G11+'Чигиринська міська територіальн'!G11 -> 0 | H11: ='Балаклеївська сільська територі'!H11+'Березняківська сільська територ'!H11+'Білозірська сільська територіал'!H11+'Бобрицька сільська територіальн'!H11+'Будищенська сільська територіал'!H11+'Городищенська міська територіал'!H11+'Кам’янська міська територіальна'!H11+'Канівська міська територіальна '!H11+'Корсунь-Шевченківська міська те'!H11+'Леськівська сільська територіал'!H11+'Ліплявська сільська територіаль'!H11+'Медведівська сільська територіа'!H11+'Михайлівська сільська територіа'!H11+'Мліївська сільська територіальн'!H11+'Мошнівська сільська територіаль'!H11+'Набутівська сільська територіал'!H11+'Ротмістрівська сільська територ'!H11+'Руськополянська сільська терито'!H11+'Сагунівська сільська територіал'!H11+'Смілянська міська територіальна'!H11+'Степанецька сільська територіал'!H11+'Степанківська сільська територі'!H11+'Тернівська сільська територіаль'!H11+'Червонослобідська сільська тери'!H11+'Черкаська міська територіальна '!H11+'Чигиринська міська територіальн'!H11 -> 0 | I11: ='Балаклеївська сільська територі'!I11+'Березняківська сільська територ'!I11+'Білозірська сільська територіал'!I11+'Бобрицька сільська територіальн'!I11+'Будищенська сільська територіал'!I11+'Городищенська міська територіал'!I11+'Кам’янська міська територіальна'!I11+'Канівська міська територіальна '!I11+'Корсунь-Шевченківська міська те'!I11+'Леськівська сільська територіал'!I11+'Ліплявська сільська територіаль'!I11+'Медведівська сільська територіа'!I11+'Михайлівська сільська територіа'!I11+'Мліївська сільська територіальн'!I11+'Мошнівська сільська територіаль'!I11+'Набутівська сільська територіал'!I11+'Ротмістрівська сільська територ'!I11+'Руськополянська сільська терито'!I11+'Сагунівська сільська територіал'!I11+'Смілянська міська територіальна'!I11+'Степанецька сільська територіал'!I11+'Степанківська сільська територі'!I11+'Тернівська сільська територіаль'!I11+'Червонослобідська сільська тери'!I11+'Черкаська міська територіальна '!I11+'Чигиринська міська територіальн'!I11 -> 0 | J11: ='Балаклеївська сільська територі'!J11+'Березняківська сільська територ'!J11+'Білозірська сільська територіал'!J11+'Бобрицька сільська територіальн'!J11+'Будищенська сільська територіал'!J11+'Городищенська міська територіал'!J11+'Кам’янська міська територіальна'!J11+'Канівська міська територіальна '!J11+'Корсунь-Шевченківська міська те'!J11+'Леськівська сільська територіал'!J11+'Ліплявська сільська територіаль'!J11+'Медведівська сільська територіа'!J11+'Михайлівська сільська територіа'!J11+'Мліївська сільська територіальн'!J11+'Мошнівська сільська територіаль'!J11+'Набутівська сільська територіал'!J11+'Ротмістрівська сільська територ'!J11+'Руськополянська сільська терито'!J11+'Сагунівська сільська територіал'!J11+'Смілянська міська територіальна'!J11+'Степанецька сільська територіал'!J11+'Степанківська сільська територі'!J11+'Тернівська сільська територіаль'!J11+'Червонослобідська сільська тери'!J11+'Черкаська міська територіальна '!J11+'Чигиринська міська територіальн'!J11 -> 0
A12: Транзитне підтримане проживання/ учбова соціальна квартира (будинок) | B12: ='Балаклеївська сільська територі'!B12+'Березняківська сільська територ'!B12+'Білозірська сільська територіал'!B12+'Бобрицька сільська територіальн'!B12+'Будищенська сільська територіал'!B12+'Городищенська міська територіал'!B12+'Кам’янська міська територіальна'!B12+'Канівська міська територіальна '!B12+'Корсунь-Шевченківська міська те'!B12+'Леськівська сільська територіал'!B12+'Ліплявська сільська територіаль'!B12+'Медведівська сільська територіа'!B12+'Михайлівська сільська територіа'!B12+'Мліївська сільська територіальн'!B12+'Мошнівська сільська територіаль'!B12+'Набутівська сільська територіал'!B12+'Ротмістрівська сільська територ'!B12+'Руськополянська сільська терито'!B12+'Сагунівська сільська територіал'!B12+'Смілянська міська територіальна'!B12+'Степанецька сільська територіал'!B12+'Степанківська сільська територі'!B12+'Тернівська сільська територіаль'!B12+'Червонослобідська сільська тери'!B12+'Черкаська міська територіальна '!B12+'Чигиринська міська територіальн'!B12 -> 0 | C12: ='Балаклеївська сільська територі'!C12+'Березняківська сільська територ'!C12+'Білозірська сільська територіал'!C12+'Бобрицька сільська територіальн'!C12+'Будищенська сільська територіал'!C12+'Городищенська міська територіал'!C12+'Кам’янська міська територіальна'!C12+'Канівська міська територіальна '!C12+'Корсунь-Шевченківська міська те'!C12+'Леськівська сільська територіал'!C12+'Ліплявська сільська територіаль'!C12+'Медведівська сільська територіа'!C12+'Михайлівська сільська територіа'!C12+'Мліївська сільська територіальн'!C12+'Мошнівська сільська територіаль'!C12+'Набутівська сільська територіал'!C12+'Ротмістрівська сільська територ'!C12+'Руськополянська сільська терито'!C12+'Сагунівська сільська територіал'!C12+'Смілянська міська територіальна'!C12+'Степанецька сільська територіал'!C12+'Степанківська сільська територі'!C12+'Тернівська сільська територіаль'!C12+'Червонослобідська сільська тери'!C12+'Черкаська міська територіальна '!C12+'Чигиринська міська територіальн'!C12 -> 0 | D12: ='Балаклеївська сільська територі'!D12+'Березняківська сільська територ'!D12+'Білозірська сільська територіал'!D12+'Бобрицька сільська територіальн'!D12+'Будищенська сільська територіал'!D12+'Городищенська міська територіал'!D12+'Кам’янська міська територіальна'!D12+'Канівська міська територіальна '!D12+'Корсунь-Шевченківська міська те'!D12+'Леськівська сільська територіал'!D12+'Ліплявська сільська територіаль'!D12+'Медведівська сільська територіа'!D12+'Михайлівська сільська територіа'!D12+'Мліївська сільська територіальн'!D12+'Мошнівська сільська територіаль'!D12+'Набутівська сільська територіал'!D12+'Ротмістрівська сільська територ'!D12+'Руськополянська сільська терито'!D12+'Сагунівська сільська територіал'!D12+'Смілянська міська територіальна'!D12+'Степанецька сільська територіал'!D12+'Степанківська сільська територі'!D12+'Тернівська сільська територіаль'!D12+'Червонослобідська сільська тери'!D12+'Черкаська міська територіальна '!D12+'Чигиринська міська територіальн'!D12 -> 0 | E12: × | F12: × | G12: × | H12: × | I12: × | J12: ×
A13: Соціальна адаптація | B13: ='Балаклеївська сільська територі'!B13+'Березняківська сільська територ'!B13+'Білозірська сільська територіал'!B13+'Бобрицька сільська територіальн'!B13+'Будищенська сільська територіал'!B13+'Городищенська міська територіал'!B13+'Кам’янська міська територіальна'!B13+'Канівська міська територіальна '!B13+'Корсунь-Шевченківська міська те'!B13+'Леськівська сільська територіал'!B13+'Ліплявська сільська територіаль'!B13+'Медведівська сільська територіа'!B13+'Михайлівська сільська територіа'!B13+'Мліївська сільська територіальн'!B13+'Мошнівська сільська територіаль'!B13+'Набутівська сільська територіал'!B13+'Ротмістрівська сільська територ'!B13+'Руськополянська сільська терито'!B13+'Сагунівська сільська територіал'!B13+'Смілянська міська територіальна'!B13+'Степанецька сільська територіал'!B13+'Степанківська сільська територі'!B13+'Тернівська сільська територіаль'!B13+'Червонослобідська сільська тери'!B13+'Черкаська міська територіальна '!B13+'Чигиринська міська територіальн'!B13 -> 976 | C13: ='Балаклеївська сільська територі'!C13+'Березняківська сільська територ'!C13+'Білозірська сільська територіал'!C13+'Бобрицька сільська територіальн'!C13+'Будищенська сільська територіал'!C13+'Городищенська міська територіал'!C13+'Кам’янська міська територіальна'!C13+'Канівська міська територіальна '!C13+'Корсунь-Шевченківська міська те'!C13+'Леськівська сільська територіал'!C13+'Ліплявська сільська територіаль'!C13+'Медведівська сільська територіа'!C13+'Михайлівська сільська територіа'!C13+'Мліївська сільська територіальн'!C13+'Мошнівська сільська територіаль'!C13+'Набутівська сільська територіал'!C13+'Ротмістрівська сільська територ'!C13+'Руськополянська сільська терито'!C13+'Сагунівська сільська територіал'!C13+'Смілянська міська територіальна'!C13+'Степанецька сільська територіал'!C13+'Степанківська сільська територі'!C13+'Тернівська сільська територіаль'!C13+'Червонослобідська сільська тери'!C13+'Черкаська міська територіальна '!C13+'Чигиринська міська територіальн'!C13 -> 726 | D13: ='Балаклеївська сільська територі'!D13+'Березняківська сільська територ'!D13+'Білозірська сільська територіал'!D13+'Бобрицька сільська територіальн'!D13+'Будищенська сільська територіал'!D13+'Городищенська міська територіал'!D13+'Кам’янська міська територіальна'!D13+'Канівська міська територіальна '!D13+'Корсунь-Шевченківська міська те'!D13+'Леськівська сільська територіал'!D13+'Ліплявська сільська територіаль'!D13+'Медведівська сільська територіа'!D13+'Михайлівська сільська територіа'!D13+'Мліївська сільська територіальн'!D13+'Мошнівська сільська територіаль'!D13+'Набутівська сільська територіал'!D13+'Ротмістрівська сільська територ'!D13+'Руськополянська сільська терито'!D13+'Сагунівська сільська територіал'!D13+'Смілянська міська територіальна'!D13+'Степанецька сільська територіал'!D13+'Степанківська сільська територі'!D13+'Тернівська сільська територіаль'!D13+'Червонослобідська сільська тери'!D13+'Черкаська міська територіальна '!D13+'Чигиринська міська територіальн'!D13 -> 2145 | E13: × | F13: × | G13: × | H13: × | I13: × | J13: ×
A14: Соціальна інтеграція та реінтеграція | B14: ='Балаклеївська сільська територі'!B14+'Березняківська сільська територ'!B14+'Білозірська сільська територіал'!B14+'Бобрицька сільська територіальн'!B14+'Будищенська сільська територіал'!B14+'Городищенська міська територіал'!B14+'Кам’янська міська територіальна'!B14+'Канівська міська територіальна '!B14+'Корсунь-Шевченківська міська те'!B16+'Леськівська сільська територіал'!B14+'Ліплявська сільська територіаль'!B14+'Медведівська сільська територіа'!B14+'Михайлівська сільська територіа'!B14+'Мліївська сільська територіальн'!B14+'Мошнівська сільська територіаль'!B14+'Набутівська сільська територіал'!B14+'Ротмістрівська сільська територ'!B14+'Руськополянська сільська терито'!B14+'Сагунівська сільська територіал'!B14+'Смілянська міська територіальна'!B14+'Степанецька сільська територіал'!B14+'Степанківська сільська територі'!B14+'Тернівська сільська територіаль'!B14+'Червонослобідська сільська тери'!B14+'Черкаська міська територіальна '!B14+'Чигиринська міська територіальн'!B14 -> 520 | C14: ='Балаклеївська сільська територі'!C14+'Березняківська сільська територ'!C14+'Білозірська сільська територіал'!C14+'Бобрицька сільська територіальн'!C14+'Будищенська сільська територіал'!C14+'Городищенська міська територіал'!C14+'Кам’янська міська територіальна'!C14+'Канівська міська територіальна '!C14+'Корсунь-Шевченківська міська те'!C16+'Леськівська сільська територіал'!C14+'Ліплявська сільська територіаль'!C14+'Медведівська сільська територіа'!C14+'Михайлівська сільська територіа'!C14+'Мліївська сільська територіальн'!C14+'Мошнівська сільська територіаль'!C14+'Набутівська сільська територіал'!C14+'Ротмістрівська сільська територ'!C14+'Руськополянська сільська терито'!C14+'Сагунівська сільська територіал'!C14+'Смілянська міська територіальна'!C14+'Степанецька сільська територіал'!C14+'Степанківська сільська територі'!C14+'Тернівська сільська територіаль'!C14+'Червонослобідська сільська тери'!C14+'Черкаська міська територіальна '!C14+'Чигиринська міська територіальн'!C14 -> 509 | D14: ='Балаклеївська сільська територі'!D14+'Березняківська сільська територ'!D14+'Білозірська сільська територіал'!D14+'Бобрицька сільська територіальн'!D14+'Будищенська сільська територіал'!D14+'Городищенська міська територіал'!D14+'Кам’янська міська територіальна'!D14+'Канівська міська територіальна '!D14+'Корсунь-Шевченківська міська те'!D16+'Леськівська сільська територіал'!D14+'Ліплявська сільська територіаль'!D14+'Медведівська сільська територіа'!D14+'Михайлівська сільська територіа'!D14+'Мліївська сільська територіальн'!D14+'Мошнівська сільська територіаль'!D14+'Набутівська сільська територіал'!D14+'Ротмістрівська сільська територ'!D14+'Руськополянська сільська терито'!D14+'Сагунівська сільська територіал'!D14+'Смілянська міська територіальна'!D14+'Степанецька сільська територіал'!D14+'Степанківська сільська територі'!D14+'Тернівська сільська територіаль'!D14+'Червонослобідська сільська тери'!D14+'Черкаська міська територіальна '!D14+'Чигиринська міська територіальн'!D14 -> 520 | E14: × | F14: × | G14: × | H14: × | I14: × | J14: ×
A15: Надання притулку | B15: ='Балаклеївська сільська територі'!B15+'Березняківська сільська територ'!B15+'Білозірська сільська територіал'!B15+'Бобрицька сільська територіальн'!B15+'Будищенська сільська територіал'!B15+'Городищенська міська територіал'!B15+'Кам’янська міська територіальна'!B15+'Канівська міська територіальна '!B15+'Корсунь-Шевченківська міська те'!B15+'Леськівська сільська територіал'!B15+'Ліплявська сільська територіаль'!B15+'Медведівська сільська територіа'!B15+'Михайлівська сільська територіа'!B15+'Мліївська сільська територіальн'!B15+'Мошнівська сільська територіаль'!B15+'Набутівська сільська територіал'!B15+'Ротмістрівська сільська територ'!B15+'Руськополянська сільська терито'!B15+'Сагунівська сільська територіал'!B15+'Смілянська міська територіальна'!B15+'Степанецька сільська територіал'!B15+'Степанківська сільська територі'!B15+'Тернівська сільська територіаль'!B15+'Червонослобідська сільська тери'!B15+'Черкаська міська територіальна '!B15+'Чигиринська міська територіальн'!B15 -> 317 | C15: ='Балаклеївська сільська територі'!C15+'Березняківська сільська територ'!C15+'Білозірська сільська територіал'!C15+'Бобрицька сільська територіальн'!C15+'Будищенська сільська територіал'!C15+'Городищенська міська територіал'!C15+'Кам’янська міська територіальна'!C15+'Канівська міська територіальна '!C15+'Корсунь-Шевченківська міська те'!C15+'Леськівська сільська територіал'!C15+'Ліплявська сільська територіаль'!C15+'Медведівська сільська територіа'!C15+'Михайлівська сільська територіа'!C15+'Мліївська сільська територіальн'!C15+'Мошнівська сільська територіаль'!C15+'Набутівська сільська територіал'!C15+'Ротмістрівська сільська територ'!C15+'Руськополянська сільська терито'!C15+'Сагунівська сільська територіал'!C15+'Смілянська міська територіальна'!C15+'Степанецька сільська територіал'!C15+'Степанківська сільська територі'!C15+'Тернівська сільська територіаль'!C15+'Червонослобідська сільська тери'!C15+'Черкаська міська територіальна '!C15+'Чигиринська міська територіальн'!C15 -> 317 | D15: ='Балаклеївська сільська територі'!D15+'Березняківська сільська територ'!D15+'Білозірська сільська територіал'!D15+'Бобрицька сільська територіальн'!D15+'Будищенська сільська територіал'!D15+'Городищенська міська територіал'!D15+'Кам’янська міська територіальна'!D15+'Канівська міська територіальна '!D15+'Корсунь-Шевченківська міська те'!D15+'Леськівська сільська територіал'!D15+'Ліплявська сільська територіаль'!D15+'Медведівська сільська територіа'!D15+'Михайлівська сільська територіа'!D15+'Мліївська сільська територіальн'!D15+'Мошнівська сільська територіаль'!D15+'Набутівська сільська територіал'!D15+'Ротмістрівська сільська територ'!D15+'Руськополянська сільська терито'!D15+'Сагунівська сільська територіал'!D15+'Смілянська міська територіальна'!D15+'Степанецька сільська територіал'!D15+'Степанківська сільська територі'!D15+'Тернівська сільська територіаль'!D15+'Червонослобідська сільська тери'!D15+'Черкаська міська територіальна '!D15+'Чигиринська міська територіальн'!D15 -> 317 | E15: ='Балаклеївська сільська територі'!E15+'Березняківська сільська територ'!E15+'Білозірська сільська територіал'!E15+'Бобрицька сільська територіальн'!E15+'Будищенська сільська територіал'!E15+'Городищенська міська територіал'!E15+'Кам’янська міська територіальна'!E15+'Канівська міська територіальна '!E15+'Корсунь-Шевченківська міська те'!E15+'Леськівська сільська територіал'!E15+'Ліплявська сільська територіаль'!E15+'Медведівська сільська територіа'!E15+'Михайлівська сільська територіа'!E15+'Мліївська сільська територіальн'!E15+'Мошнівська сільська територіаль'!E15+'Набутівська сільська територіал'!E15+'Ротмістрівська сільська територ'!E15+'Руськополянська сільська терито'!E15+'Сагунівська сільська територіал'!E15+'Смілянська міська територіальна'!E15+'Степанецька сільська територіал'!E15+'Степанківська сільська територі'!E15+'Тернівська сільська територіаль'!E15+'Червонослобідська сільська тери'!E15+'Черкаська міська територіальна '!E15+'Чигиринська міська територіальн'!E15 -> 0 | F15: ='Балаклеївська сільська територі'!F15+'Березняківська сільська територ'!F15+'Білозірська сільська територіал'!F15+'Бобрицька сільська територіальн'!F15+'Будищенська сільська територіал'!F15+'Городищенська міська територіал'!F15+'Кам’янська міська територіальна'!F15+'Канівська міська територіальна '!F15+'Корсунь-Шевченківська міська те'!F15+'Леськівська сільська територіал'!F15+'Ліплявська сільська територіаль'!F15+'Медведівська сільська територіа'!F15+'Михайлівська сільська територіа'!F15+'Мліївська сільська територіальн'!F15+'Мошнівська сільська територіаль'!F15+'Набутівська сільська територіал'!F15+'Ротмістрівська сільська територ'!F15+'Руськополянська сільська терито'!F15+'Сагунівська сільська територіал'!F15+'Смілянська міська територіальна'!F15+'Степанецька сільська територіал'!F15+'Степанківська сільська територі'!F15+'Тернівська сільська територіаль'!F15+'Червонослобідська сільська тери'!F15+'Черкаська міська територіальна '!F15+'Чигиринська міська територіальн'!F15 -> 0 | G15: ='Балаклеївська сільська територі'!G15+'Березняківська сільська територ'!G15+'Білозірська сільська територіал'!G15+'Бобрицька сільська територіальн'!G15+'Будищенська сільська територіал'!G15+'Городищенська міська територіал'!G15+'Кам’янська міська територіальна'!G15+'Канівська міська територіальна '!G15+'Корсунь-Шевченківська міська те'!G15+'Леськівська сільська територіал'!G15+'Ліплявська сільська територіаль'!G15+'Медведівська сільська територіа'!G15+'Михайлівська сільська територіа'!G15+'Мліївська сільська територіальн'!G15+'Мошнівська сільська територіаль'!G15+'Набутівська сільська територіал'!G15+'Ротмістрівська сільська територ'!G15+'Руськополянська сільська терито'!G15+'Сагунівська сільська територіал'!G15+'Смілянська міська територіальна'!G15+'Степанецька сільська територіал'!G15+'Степанківська сільська територі'!G15+'Тернівська сільська територіаль'!G15+'Червонослобідська сільська тери'!G15+'Черкаська міська територіальна '!G15+'Чигиринська міська територіальн'!G15 -> 0 | H15: ='Балаклеївська сільська територі'!H15+'Березняківська сільська територ'!H15+'Білозірська сільська територіал'!H15+'Бобрицька сільська територіальн'!H15+'Будищенська сільська територіал'!H15+'Городищенська міська територіал'!H15+'Кам’янська міська територіальна'!H15+'Канівська міська територіальна '!H15+'Корсунь-Шевченківська міська те'!H15+'Леськівська сільська територіал'!H15+'Ліплявська сільська територіаль'!H15+'Медведівська сільська територіа'!H15+'Михайлівська сільська територіа'!H15+'Мліївська сільська територіальн'!H15+'Мошнівська сільська територіаль'!H15+'Набутівська сільська територіал'!H15+'Ротмістрівська сільська територ'!H15+'Руськополянська сільська терито'!H15+'Сагунівська сільська територіал'!H15+'Смілянська міська територіальна'!H15+'Степанецька сільська територіал'!H15+'Степанківська сільська територі'!H15+'Тернівська сільська територіаль'!H15+'Червонослобідська сільська тери'!H15+'Черкаська міська територіальна '!H15+'Чигиринська міська територіальн'!H15 -> 0 | I15: ='Балаклеївська сільська територі'!I15+'Березняківська сільська територ'!I15+'Білозірська сільська територіал'!I15+'Бобрицька сільська територіальн'!I15+'Будищенська сільська територіал'!I15+'Городищенська міська територіал'!I15+'Кам’янська міська територіальна'!I15+'Канівська міська територіальна '!I15+'Корсунь-Шевченківська міська те'!I15+'Леськівська сільська територіал'!I15+'Ліплявська сільська територіаль'!I15+'Медведівська сільська територіа'!I15+'Михайлівська сільська територіа'!I15+'Мліївська сільська територіальн'!I15+'Мошнівська сільська територіаль'!I15+'Набутівська сільська територіал'!I15+'Ротмістрівська сільська територ'!I15+'Руськополянська сільська терито'!I15+'Сагунівська сільська територіал'!I15+'Смілянська міська територіальна'!I15+'Степанецька сільська територіал'!I15+'Степанківська сільська територі'!I15+'Тернівська сільська територіаль'!I15+'Червонослобідська сільська тери'!I15+'Черкаська міська територіальна '!I15+'Чигиринська міська територіальн'!I15 -> 0 | J15: ='Балаклеївська сільська територі'!J15+'Березняківська сільська територ'!J15+'Білозірська сільська територіал'!J15+'Бобрицька сільська територіальн'!J15+'Будищенська сільська територіал'!J15+'Городищенська міська територіал'!J15+'Кам’янська міська територіальна'!J15+'Канівська міська територіальна '!J15+'Корсунь-Шевченківська міська те'!J15+'Леськівська сільська територіал'!J15+'Ліплявська сільська територіаль'!J15+'Медведівська сільська територіа'!J15+'Михайлівська сільська територіа'!J15+'Мліївська сільська територіальн'!J15+'Мошнівська сільська територіаль'!J15+'Набутівська сільська територіал'!J15+'Ротмістрівська сільська територ'!J15+'Руськополянська сільська терито'!J15+'Сагунівська сільська територіал'!J15+'Смілянська міська територіальна'!J15+'Степанецька сільська територіал'!J15+'Степанківська сільська територі'!J15+'Тернівська сільська територіаль'!J15+'Червонослобідська сільська тери'!J15+'Черкаська міська територіальна '!J15+'Чигиринська міська територіальн'!J15 -> 0
A16: Екстрене (кризове) втручання | B16: ='Балаклеївська сільська територі'!B16+'Березняківська сільська територ'!B16+'Білозірська сільська територіал'!B16+'Бобрицька сільська територіальн'!B16+'Будищенська сільська територіал'!B16+'Городищенська міська територіал'!B16+'Кам’янська міська територіальна'!B16+'Канівська міська територіальна '!B16+'Корсунь-Шевченківська міська те'!B16+'Леськівська сільська територіал'!B16+'Ліплявська сільська територіаль'!B16+'Медведівська сільська територіа'!B16+'Михайлівська сільська територіа'!B16+'Мліївська сільська територіальн'!B16+'Мошнівська сільська територіаль'!B16+'Набутівська сільська територіал'!B16+'Ротмістрівська сільська територ'!B16+'Руськополянська сільська терито'!B16+'Сагунівська сільська територіал'!B16+'Смілянська міська територіальна'!B16+'Степанецька сільська територіал'!B16+'Степанківська сільська територі'!B16+'Тернівська сільська територіаль'!B16+'Червонослобідська сільська тери'!B16+'Черкаська міська територіальна '!B16+'Чигиринська міська територіальн'!B16 -> 9 | C16: ='Балаклеївська сільська територі'!C16+'Березняківська сільська територ'!C16+'Білозірська сільська територіал'!C16+'Бобрицька сільська територіальн'!C16+'Будищенська сільська територіал'!C16+'Городищенська міська територіал'!C16+'Кам’янська міська територіальна'!C16+'Канівська міська територіальна '!C16+'Корсунь-Шевченківська міська те'!C16+'Леськівська сільська територіал'!C16+'Ліплявська сільська територіаль'!C16+'Медведівська сільська територіа'!C16+'Михайлівська сільська територіа'!C16+'Мліївська сільська територіальн'!C16+'Мошнівська сільська територіаль'!C16+'Набутівська сільська територіал'!C16+'Ротмістрівська сільська територ'!C16+'Руськополянська сільська терито'!C16+'Сагунівська сільська територіал'!C16+'Смілянська міська територіальна'!C16+'Степанецька сільська територіал'!C16+'Степанківська сільська територі'!C16+'Тернівська сільська територіаль'!C16+'Червонослобідська сільська тери'!C16+'Черкаська міська територіальна '!C16+'Чигиринська міська територіальн'!C16 -> 9 | D16: ='Балаклеївська сільська територі'!D16+'Березняківська сільська територ'!D16+'Білозірська сільська територіал'!D16+'Бобрицька сільська територіальн'!D16+'Будищенська сільська територіал'!D16+'Городищенська міська територіал'!D16+'Кам’янська міська територіальна'!D16+'Канівська міська територіальна '!D16+'Корсунь-Шевченківська міська те'!D16+'Леськівська сільська територіал'!D16+'Ліплявська сільська територіаль'!D16+'Медведівська сільська територіа'!D16+'Михайлівська сільська територіа'!D16+'Мліївська сільська територіальн'!D16+'Мошнівська сільська територіаль'!D16+'Набутівська сільська територіал'!D16+'Ротмістрівська сільська територ'!D16+'Руськополянська сільська терито'!D16+'Сагунівська сільська територіал'!D16+'Смілянська міська територіальна'!D16+'Степанецька сільська територіал'!D16+'Степанківська сільська територі'!D16+'Тернівська сільська територіаль'!D16+'Червонослобідська сільська тери'!D16+'Черкаська міська територіальна '!D16+'Чигиринська міська територіальн'!D16 -> 8 | E16: ='Балаклеївська сільська територі'!E16+'Березняківська сільська територ'!E16+'Білозірська сільська територіал'!E16+'Бобрицька сільська територіальн'!E16+'Будищенська сільська територіал'!E16+'Городищенська міська територіал'!E16+'Кам’янська міська територіальна'!E16+'Канівська міська територіальна '!E16+'Корсунь-Шевченківська міська те'!E16+'Леськівська сільська територіал'!E16+'Ліплявська сільська територіаль'!E16+'Медведівська сільська територіа'!E16+'Михайлівська сільська територіа'!E16+'Мліївська сільська територіальн'!E16+'Мошнівська сільська територіаль'!E16+'Набутівська сільська територіал'!E16+'Ротмістрівська сільська територ'!E16+'Руськополянська сільська терито'!E16+'Сагунівська сільська територіал'!E16+'Смілянська міська територіальна'!E16+'Степанецька сільська територіал'!E16+'Степанківська сільська територі'!E16+'Тернівська сільська територіаль'!E16+'Червонослобідська сільська тери'!E16+'Черкаська міська територіальна '!E16+'Чигиринська міська територіальн'!E16 -> 12 | F16: ='Балаклеївська сільська територі'!F16+'Березняківська сільська територ'!F16+'Білозірська сільська територіал'!F16+'Бобрицька сільська територіальн'!F16+'Будищенська сільська територіал'!F16+'Городищенська міська територіал'!F16+'Кам’янська міська територіальна'!F16+'Канівська міська територіальна '!F16+'Корсунь-Шевченківська міська те'!F16+'Леськівська сільська територіал'!F16+'Ліплявська сільська територіаль'!F16+'Медведівська сільська територіа'!F16+'Михайлівська сільська територіа'!F16+'Мліївська сільська територіальн'!F16+'Мошнівська сільська територіаль'!F16+'Набутівська сільська територіал'!F16+'Ротмістрівська сільська територ'!F16+'Руськополянська сільська терито'!F16+'Сагунівська сільська територіал'!F16+'Смілянська міська територіальна'!F16+'Степанецька сільська територіал'!F16+'Степанківська сільська територі'!F16+'Тернівська сільська територіаль'!F16+'Червонослобідська сільська тери'!F16+'Черкаська міська територіальна '!F16+'Чигиринська міська територіальн'!F16 -> 2 | G16: ='Балаклеївська сільська територі'!G16+'Березняківська сільська територ'!G16+'Білозірська сільська територіал'!G16+'Бобрицька сільська територіальн'!G16+'Будищенська сільська територіал'!G16+'Городищенська міська територіал'!G16+'Кам’янська міська територіальна'!G16+'Канівська міська територіальна '!G16+'Корсунь-Шевченківська міська те'!G16+'Леськівська сільська територіал'!G16+'Ліплявська сільська територіаль'!G16+'Медведівська сільська територіа'!G16+'Михайлівська сільська територіа'!G16+'Мліївська сільська територіальн'!G16+'Мошнівська сільська територіаль'!G16+'Набутівська сільська територіал'!G16+'Ротмістрівська сільська територ'!G16+'Руськополянська сільська терито'!G16+'Сагунівська сільська територіал'!G16+'Смілянська міська територіальна'!G16+'Степанецька сільська територіал'!G16+'Степанківська сільська територі'!G16+'Тернівська сільська територіаль'!G16+'Червонослобідська сільська тери'!G16+'Черкаська міська територіальна '!G16+'Чигиринська міська територіальн'!G16 -> 14 | H16: ='Балаклеївська сільська територі'!H16+'Березняківська сільська територ'!H16+'Білозірська сільська територіал'!H16+'Бобрицька сільська територіальн'!H16+'Будищенська сільська територіал'!H16+'Городищенська міська територіал'!H16+'Кам’янська міська територіальна'!H16+'Канівська міська територіальна '!H16+'Корсунь-Шевченківська міська те'!H16+'Леськівська сільська територіал'!H16+'Ліплявська сільська територіаль'!H16+'Медведівська сільська територіа'!H16+'Михайлівська сільська територіа'!H16+'Мліївська сільська територіальн'!H16+'Мошнівська сільська територіаль'!H16+'Набутівська сільська територіал'!H16+'Ротмістрівська сільська територ'!H16+'Руськополянська сільська терито'!H16+'Сагунівська сільська територіал'!H16+'Смілянська міська територіальна'!H16+'Степанецька сільська територіал'!H16+'Степанківська сільська територі'!H16+'Тернівська сільська територіаль'!H16+'Червонослобідська сільська тери'!H16+'Черкаська міська територіальна '!H16+'Чигиринська міська територіальн'!H16 -> 13 | I16: ='Балаклеївська сільська територі'!I16+'Березняківська сільська територ'!I16+'Білозірська сільська територіал'!I16+'Бобрицька сільська територіальн'!I16+'Будищенська сільська територіал'!I16+'Городищенська міська територіал'!I16+'Кам’янська міська територіальна'!I16+'Канівська міська територіальна '!I16+'Корсунь-Шевченківська міська те'!I16+'Леськівська сільська територіал'!I16+'Ліплявська сільська територіаль'!I16+'Медведівська сільська територіа'!I16+'Михайлівська сільська територіа'!I16+'Мліївська сільська територіальн'!I16+'Мошнівська сільська територіаль'!I16+'Набутівська сільська територіал'!I16+'Ротмістрівська сільська територ'!I16+'Руськополянська сільська терито'!I16+'Сагунівська сільська територіал'!I16+'Смілянська міська територіальна'!I16+'Степанецька сільська територіал'!I16+'Степанківська сільська територі'!I16+'Тернівська сільська територіаль'!I16+'Червонослобідська сільська тери'!I16+'Черкаська міська територіальна '!I16+'Чигиринська міська територіальн'!I16 -> 2 | J16: ='Балаклеївська сільська територі'!J16+'Березняківська сільська територ'!J16+'Білозірська сільська територіал'!J16+'Бобрицька сільська територіальн'!J16+'Будищенська сільська територіал'!J16+'Городищенська міська територіал'!J16+'Кам’янська міська територіальна'!J16+'Канівська міська територіальна '!J16+'Корсунь-Шевченківська міська те'!J16+'Леськівська сільська територіал'!J16+'Ліплявська сільська територіаль'!J16+'Медведівська сільська територіа'!J16+'Михайлівська сільська територіа'!J16+'Мліївська сільська територіальн'!J16+'Мошнівська сільська територіаль'!J16+'Набутівська сільська територіал'!J16+'Ротмістрівська сільська територ'!J16+'Руськополянська сільська терито'!J16+'Сагунівська сільська територіал'!J16+'Смілянська міська територіальна'!J16+'Степанецька сільська територіал'!J16+'Степанківська сільська територі'!J16+'Тернівська сільська територіаль'!J16+'Червонослобідська сільська тери'!J16+'Черкаська міська територіальна '!J16+'Чигиринська міська територіальн'!J16 -> 16
A17: Консультування | B17: ='Балаклеївська сільська територі'!B17+'Березняківська сільська територ'!B17+'Білозірська сільська територіал'!B17+'Бобрицька сільська територіальн'!B17+'Будищенська сільська територіал'!B17+'Городищенська міська територіал'!B17+'Кам’янська міська територіальна'!B17+'Канівська міська територіальна '!B17+'Корсунь-Шевченківська міська те'!B17+'Леськівська сільська територіал'!B17+'Ліплявська сільська територіаль'!B17+'Медведівська сільська територіа'!B17+'Михайлівська сільська територіа'!B17+'Мліївська сільська територіальн'!B17+'Мошнівська сільська територіаль'!B17+'Набутівська сільська територіал'!B17+'Ротмістрівська сільська територ'!B17+'Руськополянська сільська терито'!B17+'Сагунівська сільська територіал'!B17+'Смілянська міська територіальна'!B17+'Степанецька сільська територіал'!B17+'Степанківська сільська територі'!B17+'Тернівська сільська територіаль'!B17+'Червонослобідська сільська тери'!B17+'Черкаська міська територіальна '!B17+'Чигиринська міська територіальн'!B17 -> 3835 | C17: ='Балаклеївська сільська територі'!C17+'Березняківська сільська територ'!C17+'Білозірська сільська територіал'!C17+'Бобрицька сільська територіальн'!C17+'Будищенська сільська територіал'!C17+'Городищенська міська територіал'!C17+'Кам’янська міська територіальна'!C17+'Канівська міська територіальна '!C17+'Корсунь-Шевченківська міська те'!C17+'Леськівська сільська територіал'!C17+'Ліплявська сільська територіаль'!C17+'Медведівська сільська територіа'!C17+'Михайлівська сільська територіа'!C17+'Мліївська сільська територіальн'!C17+'Мошнівська сільська територіаль'!C17+'Набутівська сільська територіал'!C17+'Ротмістрівська сільська територ'!C17+'Руськополянська сільська терито'!C17+'Сагунівська сільська територіал'!C17+'Смілянська міська територіальна'!C17+'Степанецька сільська територіал'!C17+'Степанківська сільська територі'!C17+'Тернівська сільська територіаль'!C17+'Червонослобідська сільська тери'!C17+'Черкаська міська територіальна '!C17+'Чигиринська міська територіальн'!C17 -> 2686 | D17: ='Балаклеївська сільська територі'!D17+'Березняківська сільська територ'!D17+'Білозірська сільська територіал'!D17+'Бобрицька сільська територіальн'!D17+'Будищенська сільська територіал'!D17+'Городищенська міська територіал'!D17+'Кам’янська міська територіальна'!D17+'Канівська міська територіальна '!D17+'Корсунь-Шевченківська міська те'!D17+'Леськівська сільська територіал'!D17+'Ліплявська сільська територіаль'!D17+'Медведівська сільська територіа'!D17+'Михайлівська сільська територіа'!D17+'Мліївська сільська територіальн'!D17+'Мошнівська сільська територіаль'!D17+'Набутівська сільська територіал'!D17+'Ротмістрівська сільська територ'!D17+'Руськополянська сільська терито'!D17+'Сагунівська сільська територіал'!D17+'Смілянська міська територіальна'!D17+'Степанецька сільська територіал'!D17+'Степанківська сільська територі'!D17+'Тернівська сільська територіаль'!D17+'Червонослобідська сільська тери'!D17+'Черкаська міська територіальна '!D17+'Чигиринська міська територіальн'!D17 -> 3758 | E17: ='Балаклеївська сільська територі'!E17+'Березняківська сільська територ'!E17+'Білозірська сільська територіал'!E17+'Бобрицька сільська територіальн'!E17+'Будищенська сільська територіал'!E17+'Городищенська міська територіал'!E17+'Кам’янська міська територіальна'!E17+'Канівська міська територіальна '!E17+'Корсунь-Шевченківська міська те'!E17+'Леськівська сільська територіал'!E17+'Ліплявська сільська територіаль'!E17+'Медведівська сільська територіа'!E17+'Михайлівська сільська територіа'!E17+'Мліївська сільська територіальн'!E17+'Мошнівська сільська територіаль'!E17+'Набутівська сільська територіал'!E17+'Ротмістрівська сільська територ'!E17+'Руськополянська сільська терито'!E17+'Сагунівська сільська територіал'!E17+'Смілянська міська територіальна'!E17+'Степанецька сільська територіал'!E17+'Степанківська сільська територі'!E17+'Тернівська сільська територіаль'!E17+'Червонослобідська сільська тери'!E17+'Черкаська міська територіальна '!E17+'Чигиринська міська територіальн'!E17 -> 0 | F17: ='Балаклеївська сільська територі'!F17+'Березняківська сільська територ'!F17+'Білозірська сільська територіал'!F17+'Бобрицька сільська територіальн'!F17+'Будищенська сільська територіал'!F17+'Городищенська міська територіал'!F17+'Кам’янська міська територіальна'!F17+'Канівська міська територіальна '!F17+'Корсунь-Шевченківська міська те'!F17+'Леськівська сільська територіал'!F17+'Ліплявська сільська територіаль'!F17+'Медведівська сільська територіа'!F17+'Михайлівська сільська територіа'!F17+'Мліївська сільська територіальн'!F17+'Мошнівська сільська територіаль'!F17+'Набутівська сільська територіал'!F17+'Ротмістрівська сільська територ'!F17+'Руськополянська сільська терито'!F17+'Сагунівська сільська територіал'!F17+'Смілянська міська територіальна'!F17+'Степанецька сільська територіал'!F17+'Степанківська сільська територі'!F17+'Тернівська сільська територіаль'!F17+'Червонослобідська сільська тери'!F17+'Черкаська міська територіальна '!F17+'Чигиринська міська територіальн'!F17 -> 0 | G17: ='Балаклеївська сільська територі'!G17+'Березняківська сільська територ'!G17+'Білозірська сільська територіал'!G17+'Бобрицька сільська територіальн'!G17+'Будищенська сільська територіал'!G17+'Городищенська міська територіал'!G17+'Кам’янська міська територіальна'!G17+'Канівська міська територіальна '!G17+'Корсунь-Шевченківська міська те'!G17+'Леськівська сільська територіал'!G17+'Ліплявська сільська територіаль'!G17+'Медведівська сільська територіа'!G17+'Михайлівська сільська територіа'!G17+'Мліївська сільська територіальн'!G17+'Мошнівська сільська територіаль'!G17+'Набутівська сільська територіал'!G17+'Ротмістрівська сільська територ'!G17+'Руськополянська сільська терито'!G17+'Сагунівська сільська територіал'!G17+'Смілянська міська територіальна'!G17+'Степанецька сільська територіал'!G17+'Степанківська сільська територі'!G17+'Тернівська сільська територіаль'!G17+'Червонослобідська сільська тери'!G17+'Черкаська міська територіальна '!G17+'Чигиринська міська територіальн'!G17 -> 0 | H17: ='Балаклеївська сільська територі'!H17+'Березняківська сільська територ'!H17+'Білозірська сільська територіал'!H17+'Бобрицька сільська територіальн'!H17+'Будищенська сільська територіал'!H17+'Городищенська міська територіал'!H17+'Кам’янська міська територіальна'!H17+'Канівська міська територіальна '!H17+'Корсунь-Шевченківська міська те'!H17+'Леськівська сільська територіал'!H17+'Ліплявська сільська територіаль'!H17+'Медведівська сільська територіа'!H17+'Михайлівська сільська територіа'!H17+'Мліївська сільська територіальн'!H17+'Мошнівська сільська територіаль'!H17+'Набутівська сільська територіал'!H17+'Ротмістрівська сільська територ'!H17+'Руськополянська сільська терито'!H17+'Сагунівська сільська територіал'!H17+'Смілянська міська територіальна'!H17+'Степанецька сільська територіал'!H17+'Степанківська сільська територі'!H17+'Тернівська сільська територіаль'!H17+'Червонослобідська сільська тери'!H17+'Черкаська міська територіальна '!H17+'Чигиринська міська територіальн'!H17 -> 0 | I17: ='Балаклеївська сільська територі'!I17+'Березняківська сільська територ'!I17+'Білозірська сільська територіал'!I17+'Бобрицька сільська територіальн'!I17+'Будищенська сільська територіал'!I17+'Городищенська міська територіал'!I17+'Кам’янська міська територіальна'!I17+'Канівська міська територіальна '!I17+'Корсунь-Шевченківська міська те'!I17+'Леськівська сільська територіал'!I17+'Ліплявська сільська територіаль'!I17+'Медведівська сільська територіа'!I17+'Михайлівська сільська територіа'!I17+'Мліївська сільська територіальн'!I17+'Мошнівська сільська територіаль'!I17+'Набутівська сільська територіал'!I17+'Ротмістрівська сільська територ'!I17+'Руськополянська сільська терито'!I17+'Сагунівська сільська територіал'!I17+'Смілянська міська територіальна'!I17+'Степанецька сільська територіал'!I17+'Степанківська сільська територі'!I17+'Тернівська сільська територіаль'!I17+'Червонослобідська сільська тери'!I17+'Черкаська міська територіальна '!I17+'Чигиринська міська територіальн'!I17 -> 0 | J17: ='Балаклеївська сільська територі'!J17+'Березняківська сільська територ'!J17+'Білозірська сільська територіал'!J17+'Бобрицька сільська територіальн'!J17+'Будищенська сільська територіал'!J17+'Городищенська міська територіал'!J17+'Кам’янська міська територіальна'!J17+'Канівська міська територіальна '!J17+'Корсунь-Шевченківська міська те'!J17+'Леськівська сільська територіал'!J17+'Ліплявська сільська територіаль'!J17+'Медведівська сільська територіа'!J17+'Михайлівська сільська територіа'!J17+'Мліївська сільська територіальн'!J17+'Мошнівська сільська територіаль'!J17+'Набутівська сільська територіал'!J17+'Ротмістрівська сільська територ'!J17+'Руськополянська сільська терито'!J17+'Сагунівська сільська територіал'!J17+'Смілянська міська територіальна'!J17+'Степанецька сільська територіал'!J17+'Степанківська сільська територі'!J17+'Тернівська сільська територіаль'!J17+'Червонослобідська сільська тери'!J17+'Черкаська міська територіальна '!J17+'Чигиринська міська територіальн'!J17 -> 0
A18: Соціальний супровід сімей/осіб, які перебувають у складних життєвих обставинах | B18: ='Балаклеївська сільська територі'!B18+'Березняківська сільська територ'!B18+'Білозірська сільська територіал'!B18+'Бобрицька сільська територіальн'!B18+'Будищенська сільська територіал'!B18+'Городищенська міська територіал'!B18+'Кам’янська міська територіальна'!B18+'Канівська міська територіальна '!B18+'Корсунь-Шевченківська міська те'!B18+'Леськівська сільська територіал'!B18+'Ліплявська сільська територіаль'!B18+'Медведівська сільська територіа'!B18+'Михайлівська сільська територіа'!B18+'Мліївська сільська територіальн'!B18+'Мошнівська сільська територіаль'!B18+'Набутівська сільська територіал'!B18+'Ротмістрівська сільська територ'!B18+'Руськополянська сільська терито'!B18+'Сагунівська сільська територіал'!B18+'Смілянська міська територіальна'!B18+'Степанецька сільська територіал'!B18+'Степанківська сільська територі'!B18+'Тернівська сільська територіаль'!B18+'Червонослобідська сільська тери'!B18+'Черкаська міська територіальна '!B18+'Чигиринська міська територіальн'!B18 -> 315 | C18: ='Балаклеївська сільська територі'!C18+'Березняківська сільська територ'!C18+'Білозірська сільська територіал'!C18+'Бобрицька сільська територіальн'!C18+'Будищенська сільська територіал'!C18+'Городищенська міська територіал'!C18+'Кам’янська міська територіальна'!C18+'Канівська міська територіальна '!C18+'Корсунь-Шевченківська міська те'!C18+'Леськівська сільська територіал'!C18+'Ліплявська сільська територіаль'!C18+'Медведівська сільська територіа'!C18+'Михайлівська сільська територіа'!C18+'Мліївська сільська територіальн'!C18+'Мошнівська сільська територіаль'!C18+'Набутівська сільська територіал'!C18+'Ротмістрівська сільська територ'!C18+'Руськополянська сільська терито'!C18+'Сагунівська сільська територіал'!C18+'Смілянська міська територіальна'!C18+'Степанецька сільська територіал'!C18+'Степанківська сільська територі'!C18+'Тернівська сільська територіаль'!C18+'Червонослобідська сільська тери'!C18+'Черкаська міська територіальна '!C18+'Чигиринська міська територіальн'!C18 -> 308 | D18: ='Балаклеївська сільська територі'!D18+'Березняківська сільська територ'!D18+'Білозірська сільська територіал'!D18+'Бобрицька сільська територіальн'!D18+'Будищенська сільська територіал'!D18+'Городищенська міська територіал'!D18+'Кам’янська міська територіальна'!D18+'Канівська міська територіальна '!D18+'Корсунь-Шевченківська міська те'!D18+'Леськівська сільська територіал'!D18+'Ліплявська сільська територіаль'!D18+'Медведівська сільська територіа'!D18+'Михайлівська сільська територіа'!D18+'Мліївська сільська територіальн'!D18+'Мошнівська сільська територіаль'!D18+'Набутівська сільська територіал'!D18+'Ротмістрівська сільська територ'!D18+'Руськополянська сільська терито'!D18+'Сагунівська сільська територіал'!D18+'Смілянська міська територіальна'!D18+'Степанецька сільська територіал'!D18+'Степанківська сільська територі'!D18+'Тернівська сільська територіаль'!D18+'Червонослобідська сільська тери'!D18+'Черкаська міська територіальна '!D18+'Чигиринська міська територіальн'!D18 -> 310 | E18: ='Балаклеївська сільська територі'!E18+'Березняківська сільська територ'!E18+'Білозірська сільська територіал'!E18+'Бобрицька сільська територіальн'!E18+'Будищенська сільська територіал'!E18+'Городищенська міська територіал'!E18+'Кам’янська міська територіальна'!E18+'Канівська міська територіальна '!E18+'Корсунь-Шевченківська міська те'!E18+'Леськівська сільська територіал'!E18+'Ліплявська сільська територіаль'!E18+'Медведівська сільська територіа'!E18+'Михайлівська сільська територіа'!E18+'Мліївська сільська територіальн'!E18+'Мошнівська сільська територіаль'!E18+'Набутівська сільська територіал'!E18+'Ротмістрівська сільська територ'!E18+'Руськополянська сільська терито'!E18+'Сагунівська сільська територіал'!E18+'Смілянська міська територіальна'!E18+'Степанецька сільська територіал'!E18+'Степанківська сільська територі'!E18+'Тернівська сільська територіаль'!E18+'Червонослобідська сільська тери'!E18+'Черкаська міська територіальна '!E18+'Чигиринська міська територіальн'!E18 -> 7 | F18: ='Балаклеївська сільська територі'!F18+'Березняківська сільська територ'!F18+'Білозірська сільська територіал'!F18+'Бобрицька сільська територіальн'!F18+'Будищенська сільська територіал'!F18+'Городищенська міська територіал'!F18+'Кам’янська міська територіальна'!F18+'Канівська міська територіальна '!F18+'Корсунь-Шевченківська міська те'!F18+'Леськівська сільська територіал'!F18+'Ліплявська сільська територіаль'!F18+'Медведівська сільська територіа'!F18+'Михайлівська сільська територіа'!F18+'Мліївська сільська територіальн'!F18+'Мошнівська сільська територіаль'!F18+'Набутівська сільська територіал'!F18+'Ротмістрівська сільська територ'!F18+'Руськополянська сільська терито'!F18+'Сагунівська сільська територіал'!F18+'Смілянська міська територіальна'!F18+'Степанецька сільська територіал'!F18+'Степанківська сільська територі'!F18+'Тернівська сільська територіаль'!F18+'Червонослобідська сільська тери'!F18+'Черкаська міська територіальна '!F18+'Чигиринська міська територіальн'!F18 -> 0 | G18: ='Балаклеївська сільська територі'!G18+'Березняківська сільська територ'!G18+'Білозірська сільська територіал'!G18+'Бобрицька сільська територіальн'!G18+'Будищенська сільська територіал'!G18+'Городищенська міська територіал'!G18+'Кам’янська міська територіальна'!G18+'Канівська міська територіальна '!G18+'Корсунь-Шевченківська міська те'!G18+'Леськівська сільська територіал'!G18+'Ліплявська сільська територіаль'!G18+'Медведівська сільська територіа'!G18+'Михайлівська сільська територіа'!G18+'Мліївська сільська територіальн'!G18+'Мошнівська сільська територіаль'!G18+'Набутівська сільська територіал'!G18+'Ротмістрівська сільська територ'!G18+'Руськополянська сільська терито'!G18+'Сагунівська сільська територіал'!G18+'Смілянська міська територіальна'!G18+'Степанецька сільська територіал'!G18+'Степанківська сільська територі'!G18+'Тернівська сільська територіаль'!G18+'Червонослобідська сільська тери'!G18+'Черкаська міська територіальна '!G18+'Чигиринська міська територіальн'!G18 -> 1 | H18: ='Балаклеївська сільська територі'!H18+'Березняківська сільська територ'!H18+'Білозірська сільська територіал'!H18+'Бобрицька сільська територіальн'!H18+'Будищенська сільська територіал'!H18+'Городищенська міська територіал'!H18+'Кам’янська міська територіальна'!H18+'Канівська міська територіальна '!H18+'Корсунь-Шевченківська міська те'!H18+'Леськівська сільська територіал'!H18+'Ліплявська сільська територіаль'!H18+'Медведівська сільська територіа'!H18+'Михайлівська сільська територіа'!H18+'Мліївська сільська територіальн'!H18+'Мошнівська сільська територіаль'!H18+'Набутівська сільська територіал'!H18+'Ротмістрівська сільська територ'!H18+'Руськополянська сільська терито'!H18+'Сагунівська сільська територіал'!H18+'Смілянська міська територіальна'!H18+'Степанецька сільська територіал'!H18+'Степанківська сільська територі'!H18+'Тернівська сільська територіаль'!H18+'Червонослобідська сільська тери'!H18+'Черкаська міська територіальна '!H18+'Чигиринська міська територіальн'!H18 -> 2 | I18: ='Балаклеївська сільська територі'!I18+'Березняківська сільська територ'!I18+'Білозірська сільська територіал'!I18+'Бобрицька сільська територіальн'!I18+'Будищенська сільська територіал'!I18+'Городищенська міська територіал'!I18+'Кам’янська міська територіальна'!I18+'Канівська міська територіальна '!I18+'Корсунь-Шевченківська міська те'!I18+'Леськівська сільська територіал'!I18+'Ліплявська сільська територіаль'!I18+'Медведівська сільська територіа'!I18+'Михайлівська сільська територіа'!I18+'Мліївська сільська територіальн'!I18+'Мошнівська сільська територіаль'!I18+'Набутівська сільська територіал'!I18+'Ротмістрівська сільська територ'!I18+'Руськополянська сільська терито'!I18+'Сагунівська сільська територіал'!I18+'Смілянська міська територіальна'!I18+'Степанецька сільська територіал'!I18+'Степанківська сільська територі'!I18+'Тернівська сільська територіаль'!I18+'Червонослобідська сільська тери'!I18+'Черкаська міська територіальна '!I18+'Чигиринська міська територіальн'!I18 -> 1 | J18: ='Балаклеївська сільська територі'!J18+'Березняківська сільська територ'!J18+'Білозірська сільська територіал'!J18+'Бобрицька сільська територіальн'!J18+'Будищенська сільська територіал'!J18+'Городищенська міська територіал'!J18+'Кам’янська міська територіальна'!J18+'Канівська міська територіальна '!J18+'Корсунь-Шевченківська міська те'!J18+'Леськівська сільська територіал'!J18+'Ліплявська сільська територіаль'!J18+'Медведівська сільська територіа'!J18+'Михайлівська сільська територіа'!J18+'Мліївська сільська територіальн'!J18+'Мошнівська сільська територіаль'!J18+'Набутівська сільська територіал'!J18+'Ротмістрівська сільська територ'!J18+'Руськополянська сільська терито'!J18+'Сагунівська сільська територіал'!J18+'Смілянська міська територіальна'!J18+'Степанецька сільська територіал'!J18+'Степанківська сільська територі'!J18+'Тернівська сільська територіаль'!J18+'Червонослобідська сільська тери'!J18+'Черкаська міська територіальна '!J18+'Чигиринська міська територіальн'!J18 -> 2
A19: Соціальний супровід сімей, у яких виховуються діти-сироти і діти, позбавлені батьківського піклування | B19: ='Балаклеївська сільська територі'!B19+'Березняківська сільська територ'!B19+'Білозірська сільська територіал'!B19+'Бобрицька сільська територіальн'!B19+'Будищенська сільська територіал'!B19+'Городищенська міська територіал'!B19+'Кам’янська міська територіальна'!B19+'Канівська міська територіальна '!B19+'Корсунь-Шевченківська міська те'!B19+'Леськівська сільська територіал'!B19+'Ліплявська сільська територіаль'!B19+'Медведівська сільська територіа'!B19+'Михайлівська сільська територіа'!B19+'Мліївська сільська територіальн'!B19+'Мошнівська сільська територіаль'!B19+'Набутівська сільська територіал'!B19+'Ротмістрівська сільська територ'!B19+'Руськополянська сільська терито'!B19+'Сагунівська сільська територіал'!B19+'Смілянська міська територіальна'!B19+'Степанецька сільська територіал'!B19+'Степанківська сільська територі'!B19+'Тернівська сільська територіаль'!B19+'Червонослобідська сільська тери'!B19+'Черкаська міська територіальна '!B19+'Чигиринська міська територіальн'!B19 -> 116 | C19: ='Балаклеївська сільська територі'!C19+'Березняківська сільська територ'!C19+'Білозірська сільська територіал'!C19+'Бобрицька сільська територіальн'!C19+'Будищенська сільська територіал'!C19+'Городищенська міська територіал'!C19+'Кам’янська міська територіальна'!C19+'Канівська міська територіальна '!C19+'Корсунь-Шевченківська міська те'!C19+'Леськівська сільська територіал'!C19+'Ліплявська сільська територіаль'!C19+'Медведівська сільська територіа'!C19+'Михайлівська сільська територіа'!C19+'Мліївська сільська територіальн'!C19+'Мошнівська сільська територіаль'!C19+'Набутівська сільська територіал'!C19+'Ротмістрівська сільська територ'!C19+'Руськополянська сільська терито'!C19+'Сагунівська сільська територіал'!C19+'Смілянська міська територіальна'!C19+'Степанецька сільська територіал'!C19+'Степанківська сільська територі'!C19+'Тернівська сільська територіаль'!C19+'Червонослобідська сільська тери'!C19+'Черкаська міська територіальна '!C19+'Чигиринська міська територіальн'!C19 -> 112 | D19: ='Балаклеївська сільська територі'!D19+'Березняківська сільська територ'!D19+'Білозірська сільська територіал'!D19+'Бобрицька сільська територіальн'!D19+'Будищенська сільська територіал'!D19+'Городищенська міська територіал'!D19+'Кам’янська міська територіальна'!D19+'Канівська міська територіальна '!D19+'Корсунь-Шевченківська міська те'!D19+'Леськівська сільська територіал'!D19+'Ліплявська сільська територіаль'!D19+'Медведівська сільська територіа'!D19+'Михайлівська сільська територіа'!D19+'Мліївська сільська територіальн'!D19+'Мошнівська сільська територіаль'!D19+'Набутівська сільська територіал'!D19+'Ротмістрівська сільська територ'!D19+'Руськополянська сільська терито'!D19+'Сагунівська сільська територіал'!D19+'Смілянська міська територіальна'!D19+'Степанецька сільська територіал'!D19+'Степанківська сільська територі'!D19+'Тернівська сільська територіаль'!D19+'Червонослобідська сільська тери'!D19+'Черкаська міська територіальна '!D19+'Чигиринська міська територіальн'!D19 -> 140 | E19: ='Балаклеївська сільська територі'!E19+'Березняківська сільська територ'!E19+'Білозірська сільська територіал'!E19+'Бобрицька сільська територіальн'!E19+'Будищенська сільська територіал'!E19+'Городищенська міська територіал'!E19+'Кам’янська міська територіальна'!E19+'Канівська міська територіальна '!E19+'Корсунь-Шевченківська міська те'!E19+'Леськівська сільська територіал'!E19+'Ліплявська сільська територіаль'!E19+'Медведівська сільська територіа'!E19+'Михайлівська сільська територіа'!E19+'Мліївська сільська територіальн'!E19+'Мошнівська сільська територіаль'!E19+'Набутівська сільська територіал'!E19+'Ротмістрівська сільська територ'!E19+'Руськополянська сільська терито'!E19+'Сагунівська сільська територіал'!E19+'Смілянська міська територіальна'!E19+'Степанецька сільська територіал'!E19+'Степанківська сільська територі'!E19+'Тернівська сільська територіаль'!E19+'Червонослобідська сільська тери'!E19+'Черкаська міська територіальна '!E19+'Чигиринська міська територіальн'!E19 -> 0 | F19: ='Балаклеївська сільська територі'!F19+'Березняківська сільська територ'!F19+'Білозірська сільська територіал'!F19+'Бобрицька сільська територіальн'!F19+'Будищенська сільська територіал'!F19+'Городищенська міська територіал'!F19+'Кам’янська міська територіальна'!F19+'Канівська міська територіальна '!F19+'Корсунь-Шевченківська міська те'!F19+'Леськівська сільська територіал'!F19+'Ліплявська сільська територіаль'!F19+'Медведівська сільська територіа'!F19+'Михайлівська сільська територіа'!F19+'Мліївська сільська територіальн'!F19+'Мошнівська сільська територіаль'!F19+'Набутівська сільська територіал'!F19+'Ротмістрівська сільська територ'!F19+'Руськополянська сільська терито'!F19+'Сагунівська сільська територіал'!F19+'Смілянська міська територіальна'!F19+'Степанецька сільська територіал'!F19+'Степанківська сільська територі'!F19+'Тернівська сільська територіаль'!F19+'Червонослобідська сільська тери'!F19+'Черкаська міська територіальна '!F19+'Чигиринська міська територіальн'!F19 -> 0 | G19: ='Балаклеївська сільська територі'!G19+'Березняківська сільська територ'!G19+'Білозірська сільська територіал'!G19+'Бобрицька сільська територіальн'!G19+'Будищенська сільська територіал'!G19+'Городищенська міська територіал'!G19+'Кам’янська міська територіальна'!G19+'Канівська міська територіальна '!G19+'Корсунь-Шевченківська міська те'!G19+'Леськівська сільська територіал'!G19+'Ліплявська сільська територіаль'!G19+'Медведівська сільська територіа'!G19+'Михайлівська сільська територіа'!G19+'Мліївська сільська територіальн'!G19+'Мошнівська сільська територіаль'!G19+'Набутівська сільська територіал'!G19+'Ротмістрівська сільська територ'!G19+'Руськополянська сільська терито'!G19+'Сагунівська сільська територіал'!G19+'Смілянська міська територіальна'!G19+'Степанецька сільська територіал'!G19+'Степанківська сільська територі'!G19+'Тернівська сільська територіаль'!G19+'Червонослобідська сільська тери'!G19+'Черкаська міська територіальна '!G19+'Чигиринська міська територіальн'!G19 -> 0 | H19: ='Балаклеївська сільська територі'!H19+'Березняківська сільська територ'!H19+'Білозірська сільська територіал'!H19+'Бобрицька сільська територіальн'!H19+'Будищенська сільська територіал'!H19+'Городищенська міська територіал'!H19+'Кам’янська міська територіальна'!H19+'Канівська міська територіальна '!H19+'Корсунь-Шевченківська міська те'!H19+'Леськівська сільська територіал'!H19+'Ліплявська сільська територіаль'!H19+'Медведівська сільська територіа'!H19+'Михайлівська сільська територіа'!H19+'Мліївська сільська територіальн'!H19+'Мошнівська сільська територіаль'!H19+'Набутівська сільська територіал'!H19+'Ротмістрівська сільська територ'!H19+'Руськополянська сільська терито'!H19+'Сагунівська сільська територіал'!H19+'Смілянська міська територіальна'!H19+'Степанецька сільська територіал'!H19+'Степанківська сільська територі'!H19+'Тернівська сільська територіаль'!H19+'Червонослобідська сільська тери'!H19+'Черкаська міська територіальна '!H19+'Чигиринська міська територіальн'!H19 -> 0 | I19: ='Балаклеївська сільська територі'!I19+'Березняківська сільська територ'!I19+'Білозірська сільська територіал'!I19+'Бобрицька сільська територіальн'!I19+'Будищенська сільська територіал'!I19+'Городищенська міська територіал'!I19+'Кам’янська міська територіальна'!I19+'Канівська міська територіальна '!I19+'Корсунь-Шевченківська міська те'!I19+'Леськівська сільська територіал'!I19+'Ліплявська сільська територіаль'!I19+'Медведівська сільська територіа'!I19+'Михайлівська сільська територіа'!I19+'Мліївська сільська територіальн'!I19+'Мошнівська сільська територіаль'!I19+'Набутівська сільська територіал'!I19+'Ротмістрівська сільська територ'!I19+'Руськополянська сільська терито'!I19+'Сагунівська сільська територіал'!I19+'Смілянська міська територіальна'!I19+'Степанецька сільська територіал'!I19+'Степанківська сільська територі'!I19+'Тернівська сільська територіаль'!I19+'Червонослобідська сільська тери'!I19+'Черкаська міська територіальна '!I19+'Чигиринська міська територіальн'!I19 -> 0 | J19: ='Балаклеївська сільська територі'!J19+'Березняківська сільська територ'!J19+'Білозірська сільська територіал'!J19+'Бобрицька сільська територіальн'!J19+'Будищенська сільська територіал'!J19+'Городищенська міська територіал'!J19+'Кам’янська міська територіальна'!J19+'Канівська міська територіальна '!J19+'Корсунь-Шевченківська міська те'!J19+'Леськівська сільська територіал'!J19+'Ліплявська сільська територіаль'!J19+'Медведівська сільська територіа'!J19+'Михайлівська сільська територіа'!J19+'Мліївська сільська територіальн'!J19+'Мошнівська сільська територіаль'!J19+'Набутівська сільська територіал'!J19+'Ротмістрівська сільська територ'!J19+'Руськополянська сільська терито'!J19+'Сагунівська сільська територіал'!J19+'Смілянська міська територіальна'!J19+'Степанецька сільська територіал'!J19+'Степанківська сільська територі'!J19+'Тернівська сільська територіаль'!J19+'Червонослобідська сільська тери'!J19+'Черкаська міська територіальна '!J19+'Чигиринська міська територіальн'!J19 -> 0
A20: Соціальний супровід при працевлаштуванні та на робочому місці | B20: ='Балаклеївська сільська територі'!B20+'Березняківська сільська територ'!B20+'Білозірська сільська територіал'!B20+'Бобрицька сільська територіальн'!B20+'Будищенська сільська територіал'!B20+'Городищенська міська територіал'!B20+'Кам’янська міська територіальна'!B20+'Канівська міська територіальна '!B20+'Корсунь-Шевченківська міська те'!B20+'Леськівська сільська територіал'!B20+'Ліплявська сільська територіаль'!B20+'Медведівська сільська територіа'!B20+'Михайлівська сільська територіа'!B20+'Мліївська сільська територіальн'!B20+'Мошнівська сільська територіаль'!B20+'Набутівська сільська територіал'!B20+'Ротмістрівська сільська територ'!B20+'Руськополянська сільська терито'!B20+'Сагунівська сільська територіал'!B20+'Смілянська міська територіальна'!B20+'Степанецька сільська територіал'!B20+'Степанківська сільська територі'!B20+'Тернівська сільська територіаль'!B20+'Червонослобідська сільська тери'!B20+'Черкаська міська територіальна '!B20+'Чигиринська міська територіальн'!B20 -> 15 | C20: ='Балаклеївська сільська територі'!C20+'Березняківська сільська територ'!C20+'Білозірська сільська територіал'!C20+'Бобрицька сільська територіальн'!C20+'Будищенська сільська територіал'!C20+'Городищенська міська територіал'!C20+'Кам’янська міська територіальна'!C20+'Канівська міська територіальна '!C20+'Корсунь-Шевченківська міська те'!C20+'Леськівська сільська територіал'!C20+'Ліплявська сільська територіаль'!C20+'Медведівська сільська територіа'!C20+'Михайлівська сільська територіа'!C20+'Мліївська сільська територіальн'!C20+'Мошнівська сільська територіаль'!C20+'Набутівська сільська територіал'!C20+'Ротмістрівська сільська територ'!C20+'Руськополянська сільська терито'!C20+'Сагунівська сільська територіал'!C20+'Смілянська міська територіальна'!C20+'Степанецька сільська територіал'!C20+'Степанківська сільська територі'!C20+'Тернівська сільська територіаль'!C20+'Червонослобідська сільська тери'!C20+'Черкаська міська територіальна '!C20+'Чигиринська міська територіальн'!C20 -> 15 | D20: ='Балаклеївська сільська територі'!D20+'Березняківська сільська територ'!D20+'Білозірська сільська територіал'!D20+'Бобрицька сільська територіальн'!D20+'Будищенська сільська територіал'!D20+'Городищенська міська територіал'!D20+'Кам’янська міська територіальна'!D20+'Канівська міська територіальна '!D20+'Корсунь-Шевченківська міська те'!D20+'Леськівська сільська територіал'!D20+'Ліплявська сільська територіаль'!D20+'Медведівська сільська територіа'!D20+'Михайлівська сільська територіа'!D20+'Мліївська сільська територіальн'!D20+'Мошнівська сільська територіаль'!D20+'Набутівська сільська територіал'!D20+'Ротмістрівська сільська територ'!D20+'Руськополянська сільська терито'!D20+'Сагунівська сільська територіал'!D20+'Смілянська міська територіальна'!D20+'Степанецька сільська територіал'!D20+'Степанківська сільська територі'!D20+'Тернівська сільська територіаль'!D20+'Червонослобідська сільська тери'!D20+'Черкаська міська територіальна '!D20+'Чигиринська міська територіальн'!D20 -> 15 | E20: × | F20: × | G20: × | H20: × | I20: × | J20: ×
A21: Представництво інтересів | B21: ='Балаклеївська сільська територі'!B21+'Березняківська сільська територ'!B21+'Білозірська сільська територіал'!B21+'Бобрицька сільська територіальн'!B21+'Будищенська сільська територіал'!B21+'Городищенська міська територіал'!B21+'Кам’янська міська територіальна'!B21+'Канівська міська територіальна '!B21+'Корсунь-Шевченківська міська те'!B21+'Леськівська сільська територіал'!B21+'Ліплявська сільська територіаль'!B21+'Медведівська сільська територіа'!B21+'Михайлівська сільська територіа'!B21+'Мліївська сільська територіальн'!B21+'Мошнівська сільська територіаль'!B21+'Набутівська сільська територіал'!B21+'Ротмістрівська сільська територ'!B21+'Руськополянська сільська терито'!B21+'Сагунівська сільська територіал'!B21+'Смілянська міська територіальна'!B21+'Степанецька сільська територіал'!B21+'Степанківська сільська територі'!B21+'Тернівська сільська територіаль'!B21+'Червонослобідська сільська тери'!B21+'Черкаська міська територіальна '!B21+'Чигиринська міська територіальн'!B21 -> 242 | C21: ='Балаклеївська сільська територі'!C21+'Березняківська сільська територ'!C21+'Білозірська сільська територіал'!C21+'Бобрицька сільська територіальн'!C21+'Будищенська сільська територіал'!C21+'Городищенська міська територіал'!C21+'Кам’янська міська територіальна'!C21+'Канівська міська територіальна '!C21+'Корсунь-Шевченківська міська те'!C21+'Леськівська сільська територіал'!C21+'Ліплявська сільська територіаль'!C21+'Медведівська сільська територіа'!C21+'Михайлівська сільська територіа'!C21+'Мліївська сільська територіальн'!C21+'Мошнівська сільська територіаль'!C21+'Набутівська сільська територіал'!C21+'Ротмістрівська сільська територ'!C21+'Руськополянська сільська терито'!C21+'Сагунівська сільська територіал'!C21+'Смілянська міська територіальна'!C21+'Степанецька сільська територіал'!C21+'Степанківська сільська територі'!C21+'Тернівська сільська територіаль'!C21+'Червонослобідська сільська тери'!C21+'Черкаська міська територіальна '!C21+'Чигиринська міська територіальн'!C21 -> 191 | D21: ='Балаклеївська сільська територі'!D21+'Березняківська сільська територ'!D21+'Білозірська сільська територіал'!D21+'Бобрицька сільська територіальн'!D21+'Будищенська сільська територіал'!D21+'Городищенська міська територіал'!D21+'Кам’янська міська територіальна'!D21+'Канівська міська територіальна '!D21+'Корсунь-Шевченківська міська те'!D21+'Леськівська сільська територіал'!D21+'Ліплявська сільська територіаль'!D21+'Медведівська сільська територіа'!D21+'Михайлівська сільська територіа'!D21+'Мліївська сільська територіальн'!D21+'Мошнівська сільська територіаль'!D21+'Набутівська сільська територіал'!D21+'Ротмістрівська сільська територ'!D21+'Руськополянська сільська терито'!D21+'Сагунівська сільська територіал'!D21+'Смілянська міська територіальна'!D21+'Степанецька сільська територіал'!D21+'Степанківська сільська територі'!D21+'Тернівська сільська територіаль'!D21+'Червонослобідська сільська тери'!D21+'Черкаська міська територіальна '!D21+'Чигиринська міська територіальн'!D21 -> 242 | E21: ='Балаклеївська сільська територі'!E21+'Березняківська сільська територ'!E21+'Білозірська сільська територіал'!E21+'Бобрицька сільська територіальн'!E21+'Будищенська сільська територіал'!E21+'Городищенська міська територіал'!E21+'Кам’янська міська територіальна'!E21+'Канівська міська територіальна '!E21+'Корсунь-Шевченківська міська те'!E21+'Леськівська сільська територіал'!E21+'Ліплявська сільська територіаль'!E21+'Медведівська сільська територіа'!E21+'Михайлівська сільська територіа'!E21+'Мліївська сільська територіальн'!E21+'Мошнівська сільська територіаль'!E21+'Набутівська сільська територіал'!E21+'Ротмістрівська сільська територ'!E21+'Руськополянська сільська терито'!E21+'Сагунівська сільська територіал'!E21+'Смілянська міська територіальна'!E21+'Степанецька сільська територіал'!E21+'Степанківська сільська територі'!E21+'Тернівська сільська територіаль'!E21+'Червонослобідська сільська тери'!E21+'Черкаська міська територіальна '!E21+'Чигиринська міська територіальн'!E21 -> 1 | F21: ='Балаклеївська сільська територі'!F21+'Березняківська сільська територ'!F21+'Білозірська сільська територіал'!F21+'Бобрицька сільська територіальн'!F21+'Будищенська сільська територіал'!F21+'Городищенська міська територіал'!F21+'Кам’янська міська територіальна'!F21+'Канівська міська територіальна '!F21+'Корсунь-Шевченківська міська те'!F21+'Леськівська сільська територіал'!F21+'Ліплявська сільська територіаль'!F21+'Медведівська сільська територіа'!F21+'Михайлівська сільська територіа'!F21+'Мліївська сільська територіальн'!F21+'Мошнівська сільська територіаль'!F21+'Набутівська сільська територіал'!F21+'Ротмістрівська сільська територ'!F21+'Руськополянська сільська терито'!F21+'Сагунівська сільська територіал'!F21+'Смілянська міська територіальна'!F21+'Степанецька сільська територіал'!F21+'Степанківська сільська територі'!F21+'Тернівська сільська територіаль'!F21+'Червонослобідська сільська тери'!F21+'Черкаська міська територіальна '!F21+'Чигиринська міська територіальн'!F21 -> 1 | G21: ='Балаклеївська сільська територі'!G21+'Березняківська сільська територ'!G21+'Білозірська сільська територіал'!G21+'Бобрицька сільська територіальн'!G21+'Будищенська сільська територіал'!G21+'Городищенська міська територіал'!G21+'Кам’янська міська територіальна'!G21+'Канівська міська територіальна '!G21+'Корсунь-Шевченківська міська те'!G21+'Леськівська сільська територіал'!G21+'Ліплявська сільська територіаль'!G21+'Медведівська сільська територіа'!G21+'Михайлівська сільська територіа'!G21+'Мліївська сільська територіальн'!G21+'Мошнівська сільська територіаль'!G21+'Набутівська сільська територіал'!G21+'Ротмістрівська сільська територ'!G21+'Руськополянська сільська терито'!G21+'Сагунівська сільська територіал'!G21+'Смілянська міська територіальна'!G21+'Степанецька сільська територіал'!G21+'Степанківська сільська територі'!G21+'Тернівська сільська територіаль'!G21+'Червонослобідська сільська тери'!G21+'Черкаська міська територіальна '!G21+'Чигиринська міська територіальн'!G21 -> 0 | H21: ='Балаклеївська сільська територі'!H21+'Березняківська сільська територ'!H21+'Білозірська сільська територіал'!H21+'Бобрицька сільська територіальн'!H21+'Будищенська сільська територіал'!H21+'Городищенська міська територіал'!H21+'Кам’янська міська територіальна'!H21+'Канівська міська територіальна '!H21+'Корсунь-Шевченківська міська те'!H21+'Леськівська сільська територіал'!H21+'Ліплявська сільська територіаль'!H21+'Медведівська сільська територіа'!H21+'Михайлівська сільська територіа'!H21+'Мліївська сільська територіальн'!H21+'Мошнівська сільська територіаль'!H21+'Набутівська сільська територіал'!H21+'Ротмістрівська сільська територ'!H21+'Руськополянська сільська терито'!H21+'Сагунівська сільська територіал'!H21+'Смілянська міська територіальна'!H21+'Степанецька сільська територіал'!H21+'Степанківська сільська територі'!H21+'Тернівська сільська територіаль'!H21+'Червонослобідська сільська тери'!H21+'Черкаська міська територіальна '!H21+'Чигиринська міська територіальн'!H21 -> 1 | I21: ='Балаклеївська сільська територі'!I21+'Березняківська сільська територ'!I21+'Білозірська сільська територіал'!I21+'Бобрицька сільська територіальн'!I21+'Будищенська сільська територіал'!I21+'Городищенська міська територіал'!I21+'Кам’янська міська територіальна'!I21+'Канівська міська територіальна '!I21+'Корсунь-Шевченківська міська те'!I21+'Леськівська сільська територіал'!I21+'Ліплявська сільська територіаль'!I21+'Медведівська сільська територіа'!I21+'Михайлівська сільська територіа'!I21+'Мліївська сільська територіальн'!I21+'Мошнівська сільська територіаль'!I21+'Набутівська сільська територіал'!I21+'Ротмістрівська сільська територ'!I21+'Руськополянська сільська терито'!I21+'Сагунівська сільська територіал'!I21+'Смілянська міська територіальна'!I21+'Степанецька сільська територіал'!I21+'Степанківська сільська територі'!I21+'Тернівська сільська територіаль'!I21+'Червонослобідська сільська тери'!I21+'Черкаська міська територіальна '!I21+'Чигиринська міська територіальн'!I21 -> 1 | J21: ='Балаклеївська сільська територі'!J21+'Березняківська сільська територ'!J21+'Білозірська сільська територіал'!J21+'Бобрицька сільська територіальн'!J21+'Будищенська сільська територіал'!J21+'Городищенська міська територіал'!J21+'Кам’янська міська територіальна'!J21+'Канівська міська територіальна '!J21+'Корсунь-Шевченківська міська те'!J21+'Леськівська сільська територіал'!J21+'Ліплявська сільська територіаль'!J21+'Медведівська сільська територіа'!J21+'Михайлівська сільська територіа'!J21+'Мліївська сільська територіальн'!J21+'Мошнівська сільська територіаль'!J21+'Набутівська сільська територіал'!J21+'Ротмістрівська сільська територ'!J21+'Руськополянська сільська терито'!J21+'Сагунівська сільська територіал'!J21+'Смілянська міська територіальна'!J21+'Степанецька сільська територіал'!J21+'Степанківська сільська територі'!J21+'Тернівська сільська територіаль'!J21+'Червонослобідська сільська тери'!J21+'Черкаська міська територіальна '!J21+'Чигиринська міська територіальн'!J21 -> 0
A22: Посередництво | B22: ='Балаклеївська сільська територі'!B22+'Березняківська сільська територ'!B22+'Білозірська сільська територіал'!B22+'Бобрицька сільська територіальн'!B22+'Будищенська сільська територіал'!B22+'Городищенська міська територіал'!B22+'Кам’янська міська територіальна'!B22+'Канівська міська територіальна '!B22+'Корсунь-Шевченківська міська те'!B22+'Леськівська сільська територіал'!B22+'Ліплявська сільська територіаль'!B22+'Медведівська сільська територіа'!B22+'Михайлівська сільська територіа'!B22+'Мліївська сільська територіальн'!B22+'Мошнівська сільська територіаль'!B22+'Набутівська сільська територіал'!B22+'Ротмістрівська сільська територ'!B22+'Руськополянська сільська терито'!B22+'Сагунівська сільська територіал'!B22+'Смілянська міська територіальна'!B22+'Степанецька сільська територіал'!B22+'Степанківська сільська територі'!B22+'Тернівська сільська територіаль'!B22+'Червонослобідська сільська тери'!B22+'Черкаська міська територіальна '!B22+'Чигиринська міська територіальн'!B22 -> 0 | C22: ='Балаклеївська сільська територі'!C22+'Березняківська сільська територ'!C22+'Білозірська сільська територіал'!C22+'Бобрицька сільська територіальн'!C22+'Будищенська сільська територіал'!C22+'Городищенська міська територіал'!C22+'Кам’янська міська територіальна'!C22+'Канівська міська територіальна '!C22+'Корсунь-Шевченківська міська те'!C22+'Леськівська сільська територіал'!C22+'Ліплявська сільська територіаль'!C22+'Медведівська сільська територіа'!C22+'Михайлівська сільська територіа'!C22+'Мліївська сільська територіальн'!C22+'Мошнівська сільська територіаль'!C22+'Набутівська сільська територіал'!C22+'Ротмістрівська сільська територ'!C22+'Руськополянська сільська терито'!C22+'Сагунівська сільська територіал'!C22+'Смілянська міська територіальна'!C22+'Степанецька сільська територіал'!C22+'Степанківська сільська територі'!C22+'Тернівська сільська територіаль'!C22+'Червонослобідська сільська тери'!C22+'Черкаська міська територіальна '!C22+'Чигиринська міська територіальн'!C22 -> 0 | D22: ='Балаклеївська сільська територі'!D22+'Березняківська сільська територ'!D22+'Білозірська сільська територіал'!D22+'Бобрицька сільська територіальн'!D22+'Будищенська сільська територіал'!D22+'Городищенська міська територіал'!D22+'Кам’янська міська територіальна'!D22+'Канівська міська територіальна '!D22+'Корсунь-Шевченківська міська те'!D22+'Леськівська сільська територіал'!D22+'Ліплявська сільська територіаль'!D22+'Медведівська сільська територіа'!D22+'Михайлівська сільська територіа'!D22+'Мліївська сільська територіальн'!D22+'Мошнівська сільська територіаль'!D22+'Набутівська сільська територіал'!D22+'Ротмістрівська сільська територ'!D22+'Руськополянська сільська терито'!D22+'Сагунівська сільська територіал'!D22+'Смілянська міська територіальна'!D22+'Степанецька сільська територіал'!D22+'Степанківська сільська територі'!D22+'Тернівська сільська територіаль'!D22+'Червонослобідська сільська тери'!D22+'Черкаська міська територіальна '!D22+'Чигиринська міська територіальн'!D22 -> 0 | E22: × | F22: × | G22: × | H22: × | I22: × | J22: ×
A23: Соціальна профілактика | B23: ='Балаклеївська сільська територі'!B23+'Березняківська сільська територ'!B23+'Білозірська сільська територіал'!B23+'Бобрицька сільська територіальн'!B23+'Будищенська сільська територіал'!B23+'Городищенська міська територіал'!B23+'Кам’янська міська територіальна'!B23+'Канівська міська територіальна '!B23+'Корсунь-Шевченківська міська те'!B23+'Леськівська сільська територіал'!B23+'Ліплявська сільська територіаль'!B23+'Медведівська сільська територіа'!B23+'Михайлівська сільська територіа'!B23+'Мліївська сільська територіальн'!B23+'Мошнівська сільська територіаль'!B23+'Набутівська сільська територіал'!B23+'Ротмістрівська сільська територ'!B23+'Руськополянська сільська терито'!B23+'Сагунівська сільська територіал'!B23+'Смілянська міська територіальна'!B23+'Степанецька сільська територіал'!B23+'Степанківська сільська територі'!B23+'Тернівська сільська територіаль'!B23+'Червонослобідська сільська тери'!B23+'Черкаська міська територіальна '!B23+'Чигиринська міська територіальн'!B23 -> 10849 | C23: ='Балаклеївська сільська територі'!C23+'Березняківська сільська територ'!C23+'Білозірська сільська територіал'!C23+'Бобрицька сільська територіальн'!C23+'Будищенська сільська територіал'!C23+'Городищенська міська територіал'!C23+'Кам’янська міська територіальна'!C23+'Канівська міська територіальна '!C23+'Корсунь-Шевченківська міська те'!C23+'Леськівська сільська територіал'!C23+'Ліплявська сільська територіаль'!C23+'Медведівська сільська територіа'!C23+'Михайлівська сільська територіа'!C23+'Мліївська сільська територіальн'!C23+'Мошнівська сільська територіаль'!C23+'Набутівська сільська територіал'!C23+'Ротмістрівська сільська територ'!C23+'Руськополянська сільська терито'!C23+'Сагунівська сільська територіал'!C23+'Смілянська міська територіальна'!C23+'Степанецька сільська територіал'!C23+'Степанківська сільська територі'!C23+'Тернівська сільська територіаль'!C23+'Червонослобідська сільська тери'!C23+'Черкаська міська територіальна '!C23+'Чигиринська міська територіальн'!C23 -> 9575 | D23: ='Балаклеївська сільська територі'!D23+'Березняківська сільська територ'!D23+'Білозірська сільська територіал'!D23+'Бобрицька сільська територіальн'!D23+'Будищенська сільська територіал'!D23+'Городищенська міська територіал'!D23+'Кам’янська міська територіальна'!D23+'Канівська міська територіальна '!D23+'Корсунь-Шевченківська міська те'!D23+'Леськівська сільська територіал'!D23+'Ліплявська сільська територіаль'!D23+'Медведівська сільська територіа'!D23+'Михайлівська сільська територіа'!D23+'Мліївська сільська територіальн'!D23+'Мошнівська сільська територіаль'!D23+'Набутівська сільська територіал'!D23+'Ротмістрівська сільська територ'!D23+'Руськополянська сільська терито'!D23+'Сагунівська сільська територіал'!D23+'Смілянська міська територіальна'!D23+'Степанецька сільська територіал'!D23+'Степанківська сільська територі'!D23+'Тернівська сільська територіаль'!D23+'Червонослобідська сільська тери'!D23+'Черкаська міська територіальна '!D23+'Чигиринська міська територіальн'!D23 -> 12406 | E23: × | F23: × | G23: × | H23: × | I23: × | J23: ×
A24: Натуральна допомога | B24: ='Балаклеївська сільська територі'!B24+'Березняківська сільська територ'!B24+'Білозірська сільська територіал'!B24+'Бобрицька сільська територіальн'!B24+'Будищенська сільська територіал'!B24+'Городищенська міська територіал'!B24+'Кам’янська міська територіальна'!B24+'Канівська міська територіальна '!B24+'Корсунь-Шевченківська міська те'!B24+'Леськівська сільська територіал'!B24+'Ліплявська сільська територіаль'!B24+'Медведівська сільська територіа'!B24+'Михайлівська сільська територіа'!B24+'Мліївська сільська територіальн'!B24+'Мошнівська сільська територіаль'!B24+'Набутівська сільська територіал'!B24+'Ротмістрівська сільська територ'!B24+'Руськополянська сільська терито'!B24+'Сагунівська сільська територіал'!B24+'Смілянська міська територіальна'!B24+'Степанецька сільська територіал'!B24+'Степанківська сільська територі'!B24+'Тернівська сільська територіаль'!B24+'Червонослобідська сільська тери'!B24+'Черкаська міська територіальна '!B24+'Чигиринська міська територіальн'!B24 -> 7697 | C24: ='Балаклеївська сільська територі'!C24+'Березняківська сільська територ'!C24+'Білозірська сільська територіал'!C24+'Бобрицька сільська територіальн'!C24+'Будищенська сільська територіал'!C24+'Городищенська міська територіал'!C24+'Кам’янська міська територіальна'!C24+'Канівська міська територіальна '!C24+'Корсунь-Шевченківська міська те'!C24+'Леськівська сільська територіал'!C24+'Ліплявська сільська територіаль'!C24+'Медведівська сільська територіа'!C24+'Михайлівська сільська територіа'!C24+'Мліївська сільська територіальн'!C24+'Мошнівська сільська територіаль'!C24+'Набутівська сільська територіал'!C24+'Ротмістрівська сільська територ'!C24+'Руськополянська сільська терито'!C24+'Сагунівська сільська територіал'!C24+'Смілянська міська територіальна'!C24+'Степанецька сільська територіал'!C24+'Степанківська сільська територі'!C24+'Тернівська сільська територіаль'!C24+'Червонослобідська сільська тери'!C24+'Черкаська міська територіальна '!C24+'Чигиринська міська територіальн'!C24 -> 7386 | D24: ='Балаклеївська сільська територі'!D24+'Березняківська сільська територ'!D24+'Білозірська сільська територіал'!D24+'Бобрицька сільська територіальн'!D24+'Будищенська сільська територіал'!D24+'Городищенська міська територіал'!D24+'Кам’янська міська територіальна'!D24+'Канівська міська територіальна '!D24+'Корсунь-Шевченківська міська те'!D24+'Леськівська сільська територіал'!D24+'Ліплявська сільська територіаль'!D24+'Медведівська сільська територіа'!D24+'Михайлівська сільська територіа'!D24+'Мліївська сільська територіальн'!D24+'Мошнівська сільська територіаль'!D24+'Набутівська сільська територіал'!D24+'Ротмістрівська сільська територ'!D24+'Руськополянська сільська терито'!D24+'Сагунівська сільська територіал'!D24+'Смілянська міська територіальна'!D24+'Степанецька сільська територіал'!D24+'Степанківська сільська територі'!D24+'Тернівська сільська територіаль'!D24+'Червонослобідська сільська тери'!D24+'Черкаська міська територіальна '!D24+'Чигиринська міська територіальн'!D24 -> 9012 | E24: ='Балаклеївська сільська територі'!E24+'Березняківська сільська територ'!E24+'Білозірська сільська територіал'!E24+'Бобрицька сільська територіальн'!E24+'Будищенська сільська територіал'!E24+'Городищенська міська територіал'!E24+'Кам’янська міська територіальна'!E24+'Канівська міська територіальна '!E24+'Корсунь-Шевченківська міська те'!E24+'Леськівська сільська територіал'!E24+'Ліплявська сільська територіаль'!E24+'Медведівська сільська територіа'!E24+'Михайлівська сільська територіа'!E24+'Мліївська сільська територіальн'!E24+'Мошнівська сільська територіаль'!E24+'Набутівська сільська територіал'!E24+'Ротмістрівська сільська територ'!E24+'Руськополянська сільська терито'!E24+'Сагунівська сільська територіал'!E24+'Смілянська міська територіальна'!E24+'Степанецька сільська територіал'!E24+'Степанківська сільська територі'!E24+'Тернівська сільська територіаль'!E24+'Червонослобідська сільська тери'!E24+'Черкаська міська територіальна '!E24+'Чигиринська міська територіальн'!E24 -> 0 | F24: ='Балаклеївська сільська територі'!F24+'Березняківська сільська територ'!F24+'Білозірська сільська територіал'!F24+'Бобрицька сільська територіальн'!F24+'Будищенська сільська територіал'!F24+'Городищенська міська територіал'!F24+'Кам’янська міська територіальна'!F24+'Канівська міська територіальна '!F24+'Корсунь-Шевченківська міська те'!F24+'Леськівська сільська територіал'!F24+'Ліплявська сільська територіаль'!F24+'Медведівська сільська територіа'!F24+'Михайлівська сільська територіа'!F24+'Мліївська сільська територіальн'!F24+'Мошнівська сільська територіаль'!F24+'Набутівська сільська територіал'!F24+'Ротмістрівська сільська територ'!F24+'Руськополянська сільська терито'!F24+'Сагунівська сільська територіал'!F24+'Смілянська міська територіальна'!F24+'Степанецька сільська територіал'!F24+'Степанківська сільська територі'!F24+'Тернівська сільська територіаль'!F24+'Червонослобідська сільська тери'!F24+'Черкаська міська територіальна '!F24+'Чигиринська міська територіальн'!F24 -> 0 | G24: ='Балаклеївська сільська територі'!G24+'Березняківська сільська територ'!G24+'Білозірська сільська територіал'!G24+'Бобрицька сільська територіальн'!G24+'Будищенська сільська територіал'!G24+'Городищенська міська територіал'!G24+'Кам’янська міська територіальна'!G24+'Канівська міська територіальна '!G24+'Корсунь-Шевченківська міська те'!G24+'Леськівська сільська територіал'!G24+'Ліплявська сільська територіаль'!G24+'Медведівська сільська територіа'!G24+'Михайлівська сільська територіа'!G24+'Мліївська сільська територіальн'!G24+'Мошнівська сільська територіаль'!G24+'Набутівська сільська територіал'!G24+'Ротмістрівська сільська територ'!G24+'Руськополянська сільська терито'!G24+'Сагунівська сільська територіал'!G24+'Смілянська міська територіальна'!G24+'Степанецька сільська територіал'!G24+'Степанківська сільська територі'!G24+'Тернівська сільська територіаль'!G24+'Червонослобідська сільська тери'!G24+'Черкаська міська територіальна '!G24+'Чигиринська міська територіальн'!G24 -> 0 | H24: ='Балаклеївська сільська територі'!H24+'Березняківська сільська територ'!H24+'Білозірська сільська територіал'!H24+'Бобрицька сільська територіальн'!H24+'Будищенська сільська територіал'!H24+'Городищенська міська територіал'!H24+'Кам’янська міська територіальна'!H24+'Канівська міська територіальна '!H24+'Корсунь-Шевченківська міська те'!H24+'Леськівська сільська територіал'!H24+'Ліплявська сільська територіаль'!H24+'Медведівська сільська територіа'!H24+'Михайлівська сільська територіа'!H24+'Мліївська сільська територіальн'!H24+'Мошнівська сільська територіаль'!H24+'Набутівська сільська територіал'!H24+'Ротмістрівська сільська територ'!H24+'Руськополянська сільська терито'!H24+'Сагунівська сільська територіал'!H24+'Смілянська міська територіальна'!H24+'Степанецька сільська територіал'!H24+'Степанківська сільська територі'!H24+'Тернівська сільська територіаль'!H24+'Червонослобідська сільська тери'!H24+'Черкаська міська територіальна '!H24+'Чигиринська міська територіальн'!H24 -> 0 | I24: ='Балаклеївська сільська територі'!I24+'Березняківська сільська територ'!I24+'Білозірська сільська територіал'!I24+'Бобрицька сільська територіальн'!I24+'Будищенська сільська територіал'!I24+'Городищенська міська територіал'!I24+'Кам’янська міська територіальна'!I24+'Канівська міська територіальна '!I24+'Корсунь-Шевченківська міська те'!I24+'Леськівська сільська територіал'!I24+'Ліплявська сільська територіаль'!I24+'Медведівська сільська територіа'!I24+'Михайлівська сільська територіа'!I24+'Мліївська сільська територіальн'!I24+'Мошнівська сільська територіаль'!I24+'Набутівська сільська територіал'!I24+'Ротмістрівська сільська територ'!I24+'Руськополянська сільська терито'!I24+'Сагунівська сільська територіал'!I24+'Смілянська міська територіальна'!I24+'Степанецька сільська територіал'!I24+'Степанківська сільська територі'!I24+'Тернівська сільська територіаль'!I24+'Червонослобідська сільська тери'!I24+'Черкаська міська територіальна '!I24+'Чигиринська міська територіальн'!I24 -> 0 | J24: ='Балаклеївська сільська територі'!J24+'Березняківська сільська територ'!J24+'Білозірська сільська територіал'!J24+'Бобрицька сільська територіальн'!J24+'Будищенська сільська територіал'!J24+'Городищенська міська територіал'!J24+'Кам’янська міська територіальна'!J24+'Канівська міська територіальна '!J24+'Корсунь-Шевченківська міська те'!J24+'Леськівська сільська територіал'!J24+'Ліплявська сільська територіаль'!J24+'Медведівська сільська територіа'!J24+'Михайлівська сільська територіа'!J24+'Мліївська сільська територіальн'!J24+'Мошнівська сільська територіаль'!J24+'Набутівська сільська територіал'!J24+'Ротмістрівська сільська територ'!J24+'Руськополянська сільська терито'!J24+'Сагунівська сільська територіал'!J24+'Смілянська міська територіальна'!J24+'Степанецька сільська територіал'!J24+'Степанківська сільська територі'!J24+'Тернівська сільська територіаль'!J24+'Червонослобідська сільська тери'!J24+'Черкаська міська територіальна '!J24+'Чигиринська міська територіальн'!J24 -> 0
A25: Фізичний супровід осіб з інвалідністю, які мають порушення опорно-рухового апарату та пересуваються на кріслах колісних, з інтелектуальним, сенсорними, фізичними, моторними, психічними та поведінковими порушеннями | B25: ='Балаклеївська сільська територі'!B25+'Березняківська сільська територ'!B25+'Білозірська сільська територіал'!B25+'Бобрицька сільська територіальн'!B25+'Будищенська сільська територіал'!B25+'Городищенська міська територіал'!B25+'Кам’янська міська територіальна'!B25+'Канівська міська територіальна '!B25+'Корсунь-Шевченківська міська те'!B25+'Леськівська сільська територіал'!B25+'Ліплявська сільська територіаль'!B25+'Медведівська сільська територіа'!B25+'Михайлівська сільська територіа'!B25+'Мліївська сільська територіальн'!B25+'Мошнівська сільська територіаль'!B25+'Набутівська сільська територіал'!B25+'Ротмістрівська сільська територ'!B25+'Руськополянська сільська терито'!B25+'Сагунівська сільська територіал'!B25+'Смілянська міська територіальна'!B25+'Степанецька сільська територіал'!B25+'Степанківська сільська територі'!B25+'Тернівська сільська територіаль'!B25+'Червонослобідська сільська тери'!B25+'Черкаська міська територіальна '!B25+'Чигиринська міська територіальн'!B25 -> 0 | C25: ='Балаклеївська сільська територі'!C25+'Березняківська сільська територ'!C25+'Білозірська сільська територіал'!C25+'Бобрицька сільська територіальн'!C25+'Будищенська сільська територіал'!C25+'Городищенська міська територіал'!C25+'Кам’янська міська територіальна'!C25+'Канівська міська територіальна '!C25+'Корсунь-Шевченківська міська те'!C25+'Леськівська сільська територіал'!C25+'Ліплявська сільська територіаль'!C25+'Медведівська сільська територіа'!C25+'Михайлівська сільська територіа'!C25+'Мліївська сільська територіальн'!C25+'Мошнівська сільська територіаль'!C25+'Набутівська сільська територіал'!C25+'Ротмістрівська сільська територ'!C25+'Руськополянська сільська терито'!C25+'Сагунівська сільська територіал'!C25+'Смілянська міська територіальна'!C25+'Степанецька сільська територіал'!C25+'Степанківська сільська територі'!C25+'Тернівська сільська територіаль'!C25+'Червонослобідська сільська тери'!C25+'Черкаська міська територіальна '!C25+'Чигиринська міська територіальн'!C25 -> 0 | D25: ='Балаклеївська сільська територі'!D25+'Березняківська сільська територ'!D25+'Білозірська сільська територіал'!D25+'Бобрицька сільська територіальн'!D25+'Будищенська сільська територіал'!D25+'Городищенська міська територіал'!D25+'Кам’янська міська територіальна'!D25+'Канівська міська територіальна '!D25+'Корсунь-Шевченківська міська те'!D25+'Леськівська сільська територіал'!D25+'Ліплявська сільська територіаль'!D25+'Медведівська сільська територіа'!D25+'Михайлівська сільська територіа'!D25+'Мліївська сільська територіальн'!D25+'Мошнівська сільська територіаль'!D25+'Набутівська сільська територіал'!D25+'Ротмістрівська сільська територ'!D25+'Руськополянська сільська терито'!D25+'Сагунівська сільська територіал'!D25+'Смілянська міська територіальна'!D25+'Степанецька сільська територіал'!D25+'Степанківська сільська територі'!D25+'Тернівська сільська територіаль'!D25+'Червонослобідська сільська тери'!D25+'Черкаська міська територіальна '!D25+'Чигиринська міська територіальн'!D25 -> 0 | E25: × | F25: × | G25: × | H25: × | I25: × | J25: ×
A26: Переклад жестовою мовою | B26: ='Балаклеївська сільська територі'!B26+'Березняківська сільська територ'!B26+'Білозірська сільська територіал'!B26+'Бобрицька сільська територіальн'!B26+'Будищенська сільська територіал'!B26+'Городищенська міська територіал'!B26+'Кам’янська міська територіальна'!B26+'Канівська міська територіальна '!B26+'Корсунь-Шевченківська міська те'!B26+'Леськівська сільська територіал'!B26+'Ліплявська сільська територіаль'!B26+'Медведівська сільська територіа'!B26+'Михайлівська сільська територіа'!B26+'Мліївська сільська територіальн'!B26+'Мошнівська сільська територіаль'!B26+'Набутівська сільська територіал'!B26+'Ротмістрівська сільська територ'!B26+'Руськополянська сільська терито'!B26+'Сагунівська сільська територіал'!B26+'Смілянська міська територіальна'!B26+'Степанецька сільська територіал'!B26+'Степанківська сільська територі'!B26+'Тернівська сільська територіаль'!B26+'Червонослобідська сільська тери'!B26+'Черкаська міська територіальна '!B26+'Чигиринська міська територіальн'!B26 -> 0 | C26: ='Балаклеївська сільська територі'!C26+'Березняківська сільська територ'!C26+'Білозірська сільська територіал'!C26+'Бобрицька сільська територіальн'!C26+'Будищенська сільська територіал'!C26+'Городищенська міська територіал'!C26+'Кам’янська міська територіальна'!C26+'Канівська міська територіальна '!C26+'Корсунь-Шевченківська міська те'!C26+'Леськівська сільська територіал'!C26+'Ліплявська сільська територіаль'!C26+'Медведівська сільська територіа'!C26+'Михайлівська сільська територіа'!C26+'Мліївська сільська територіальн'!C26+'Мошнівська сільська територіаль'!C26+'Набутівська сільська територіал'!C26+'Ротмістрівська сільська територ'!C26+'Руськополянська сільська терито'!C26+'Сагунівська сільська територіал'!C26+'Смілянська міська територіальна'!C26+'Степанецька сільська територіал'!C26+'Степанківська сільська територі'!C26+'Тернівська сільська територіаль'!C26+'Червонослобідська сільська тери'!C26+'Черкаська міська територіальна '!C26+'Чигиринська міська територіальн'!C26 -> 0 | D26: ='Балаклеївська сільська територі'!D26+'Березняківська сільська територ'!D26+'Білозірська сільська територіал'!D26+'Бобрицька сільська територіальн'!D26+'Будищенська сільська територіал'!D26+'Городищенська міська територіал'!D26+'Кам’янська міська територіальна'!D26+'Канівська міська територіальна '!D26+'Корсунь-Шевченківська міська те'!D26+'Леськівська сільська територіал'!D26+'Ліплявська сільська територіаль'!D26+'Медведівська сільська територіа'!D26+'Михайлівська сільська територіа'!D26+'Мліївська сільська територіальн'!D26+'Мошнівська сільська територіаль'!D26+'Набутівська сільська територіал'!D26+'Ротмістрівська сільська територ'!D26+'Руськополянська сільська терито'!D26+'Сагунівська сільська територіал'!D26+'Смілянська міська територіальна'!D26+'Степанецька сільська територіал'!D26+'Степанківська сільська територі'!D26+'Тернівська сільська територіаль'!D26+'Червонослобідська сільська тери'!D26+'Черкаська міська територіальна '!D26+'Чигиринська міська територіальн'!D26 -> 0 | E26: ='Балаклеївська сільська територі'!E26+'Березняківська сільська територ'!E26+'Білозірська сільська територіал'!E26+'Бобрицька сільська територіальн'!E26+'Будищенська сільська територіал'!E26+'Городищенська міська територіал'!E26+'Кам’янська міська територіальна'!E26+'Канівська міська територіальна '!E26+'Корсунь-Шевченківська міська те'!E26+'Леськівська сільська територіал'!E26+'Ліплявська сільська територіаль'!E26+'Медведівська сільська територіа'!E26+'Михайлівська сільська територіа'!E26+'Мліївська сільська територіальн'!E26+'Мошнівська сільська територіаль'!E26+'Набутівська сільська територіал'!E26+'Ротмістрівська сільська територ'!E26+'Руськополянська сільська терито'!E26+'Сагунівська сільська територіал'!E26+'Смілянська міська територіальна'!E26+'Степанецька сільська територіал'!E26+'Степанківська сільська територі'!E26+'Тернівська сільська територіаль'!E26+'Червонослобідська сільська тери'!E26+'Черкаська міська територіальна '!E26+'Чигиринська міська територіальн'!E26 -> 0 | F26: ='Балаклеївська сільська територі'!F26+'Березняківська сільська територ'!F26+'Білозірська сільська територіал'!F26+'Бобрицька сільська територіальн'!F26+'Будищенська сільська територіал'!F26+'Городищенська міська територіал'!F26+'Кам’янська міська територіальна'!F26+'Канівська міська територіальна '!F26+'Корсунь-Шевченківська міська те'!F26+'Леськівська сільська територіал'!F26+'Ліплявська сільська територіаль'!F26+'Медведівська сільська територіа'!F26+'Михайлівська сільська територіа'!F26+'Мліївська сільська територіальн'!F26+'Мошнівська сільська територіаль'!F26+'Набутівська сільська територіал'!F26+'Ротмістрівська сільська територ'!F26+'Руськополянська сільська терито'!F26+'Сагунівська сільська територіал'!F26+'Смілянська міська територіальна'!F26+'Степанецька сільська територіал'!F26+'Степанківська сільська територі'!F26+'Тернівська сільська територіаль'!F26+'Червонослобідська сільська тери'!F26+'Черкаська міська територіальна '!F26+'Чигиринська міська територіальн'!F26 -> 0 | G26: ='Балаклеївська сільська територі'!G26+'Березняківська сільська територ'!G26+'Білозірська сільська територіал'!G26+'Бобрицька сільська територіальн'!G26+'Будищенська сільська територіал'!G26+'Городищенська міська територіал'!G26+'Кам’янська міська територіальна'!G26+'Канівська міська територіальна '!G26+'Корсунь-Шевченківська міська те'!G26+'Леськівська сільська територіал'!G26+'Ліплявська сільська територіаль'!G26+'Медведівська сільська територіа'!G26+'Михайлівська сільська територіа'!G26+'Мліївська сільська територіальн'!G26+'Мошнівська сільська територіаль'!G26+'Набутівська сільська територіал'!G26+'Ротмістрівська сільська територ'!G26+'Руськополянська сільська терито'!G26+'Сагунівська сільська територіал'!G26+'Смілянська міська територіальна'!G26+'Степанецька сільська територіал'!G26+'Степанківська сільська територі'!G26+'Тернівська сільська територіаль'!G26+'Червонослобідська сільська тери'!G26+'Черкаська міська територіальна '!G26+'Чигиринська міська територіальн'!G26 -> 0 | H26: ='Балаклеївська сільська територі'!H26+'Березняківська сільська територ'!H26+'Білозірська сільська територіал'!H26+'Бобрицька сільська територіальн'!H26+'Будищенська сільська територіал'!H26+'Городищенська міська територіал'!H26+'Кам’янська міська територіальна'!H26+'Канівська міська територіальна '!H26+'Корсунь-Шевченківська міська те'!H26+'Леськівська сільська територіал'!H26+'Ліплявська сільська територіаль'!H26+'Медведівська сільська територіа'!H26+'Михайлівська сільська територіа'!H26+'Мліївська сільська територіальн'!H26+'Мошнівська сільська територіаль'!H26+'Набутівська сільська територіал'!H26+'Ротмістрівська сільська територ'!H26+'Руськополянська сільська терито'!H26+'Сагунівська сільська територіал'!H26+'Смілянська міська територіальна'!H26+'Степанецька сільська територіал'!H26+'Степанківська сільська територі'!H26+'Тернівська сільська територіаль'!H26+'Червонослобідська сільська тери'!H26+'Черкаська міська територіальна '!H26+'Чигиринська міська територіальн'!H26 -> 0 | I26: ='Балаклеївська сільська територі'!I26+'Березняківська сільська територ'!I26+'Білозірська сільська територіал'!I26+'Бобрицька сільська територіальн'!I26+'Будищенська сільська територіал'!I26+'Городищенська міська територіал'!I26+'Кам’янська міська територіальна'!I26+'Канівська міська територіальна '!I26+'Корсунь-Шевченківська міська те'!I26+'Леськівська сільська територіал'!I26+'Ліплявська сільська територіаль'!I26+'Медведівська сільська територіа'!I26+'Михайлівська сільська територіа'!I26+'Мліївська сільська територіальн'!I26+'Мошнівська сільська територіаль'!I26+'Набутівська сільська територіал'!I26+'Ротмістрівська сільська територ'!I26+'Руськополянська сільська терито'!I26+'Сагунівська сільська територіал'!I26+'Смілянська міська територіальна'!I26+'Степанецька сільська територіал'!I26+'Степанківська сільська територі'!I26+'Тернівська сільська територіаль'!I26+'Червонослобідська сільська тери'!I26+'Черкаська міська територіальна '!I26+'Чигиринська міська територіальн'!I26 -> 0 | J26: ='Балаклеївська сільська територі'!J26+'Березняківська сільська територ'!J26+'Білозірська сільська територіал'!J26+'Бобрицька сільська територіальн'!J26+'Будищенська сільська територіал'!J26+'Городищенська міська територіал'!J26+'Кам’янська міська територіальна'!J26+'Канівська міська територіальна '!J26+'Корсунь-Шевченківська міська те'!J26+'Леськівська сільська територіал'!J26+'Ліплявська сільська територіаль'!J26+'Медведівська сільська територіа'!J26+'Михайлівська сільська територіа'!J26+'Мліївська сільська територіальн'!J26+'Мошнівська сільська територіаль'!J26+'Набутівська сільська територіал'!J26+'Ротмістрівська сільська територ'!J26+'Руськополянська сільська терито'!J26+'Сагунівська сільська територіал'!J26+'Смілянська міська територіальна'!J26+'Степанецька сільська територіал'!J26+'Степанківська сільська територі'!J26+'Тернівська сільська територіаль'!J26+'Червонослобідська сільська тери'!J26+'Черкаська міська територіальна '!J26+'Чигиринська міська територіальн'!J26 -> 0
A27: Догляд та виховання дітей в умовах, наближених до сімейних | B27: ='Балаклеївська сільська територі'!B27+'Березняківська сільська територ'!B27+'Білозірська сільська територіал'!B27+'Бобрицька сільська територіальн'!B27+'Будищенська сільська територіал'!B27+'Городищенська міська територіал'!B27+'Кам’янська міська територіальна'!B27+'Канівська міська територіальна '!B27+'Корсунь-Шевченківська міська те'!B27+'Леськівська сільська територіал'!B27+'Ліплявська сільська територіаль'!B27+'Медведівська сільська територіа'!B27+'Михайлівська сільська територіа'!B27+'Мліївська сільська територіальн'!B27+'Мошнівська сільська територіаль'!B27+'Набутівська сільська територіал'!B27+'Ротмістрівська сільська територ'!B27+'Руськополянська сільська терито'!B27+'Сагунівська сільська територіал'!B27+'Смілянська міська територіальна'!B27+'Степанецька сільська територіал'!B27+'Степанківська сільська територі'!B27+'Тернівська сільська територіаль'!B27+'Червонослобідська сільська тери'!B27+'Черкаська міська територіальна '!B27+'Чигиринська міська територіальн'!B27 -> 2 | C27: ='Балаклеївська сільська територі'!C27+'Березняківська сільська територ'!C27+'Білозірська сільська територіал'!C27+'Бобрицька сільська територіальн'!C27+'Будищенська сільська територіал'!C27+'Городищенська міська територіал'!C27+'Кам’янська міська територіальна'!C27+'Канівська міська територіальна '!C27+'Корсунь-Шевченківська міська те'!C27+'Леськівська сільська територіал'!C27+'Ліплявська сільська територіаль'!C27+'Медведівська сільська територіа'!C27+'Михайлівська сільська територіа'!C27+'Мліївська сільська територіальн'!C27+'Мошнівська сільська територіаль'!C27+'Набутівська сільська територіал'!C27+'Ротмістрівська сільська територ'!C27+'Руськополянська сільська терито'!C27+'Сагунівська сільська територіал'!C27+'Смілянська міська територіальна'!C27+'Степанецька сільська територіал'!C27+'Степанківська сільська територі'!C27+'Тернівська сільська територіаль'!C27+'Червонослобідська сільська тери'!C27+'Черкаська міська територіальна '!C27+'Чигиринська міська територіальн'!C27 -> 2 | D27: ='Балаклеївська сільська територі'!D27+'Березняківська сільська територ'!D27+'Білозірська сільська територіал'!D27+'Бобрицька сільська територіальн'!D27+'Будищенська сільська територіал'!D27+'Городищенська міська територіал'!D27+'Кам’янська міська територіальна'!D27+'Канівська міська територіальна '!D27+'Корсунь-Шевченківська міська те'!D27+'Леськівська сільська територіал'!D27+'Ліплявська сільська територіаль'!D27+'Медведівська сільська територіа'!D27+'Михайлівська сільська територіа'!D27+'Мліївська сільська територіальн'!D27+'Мошнівська сільська територіаль'!D27+'Набутівська сільська територіал'!D27+'Ротмістрівська сільська територ'!D27+'Руськополянська сільська терито'!D27+'Сагунівська сільська територіал'!D27+'Смілянська міська територіальна'!D27+'Степанецька сільська територіал'!D27+'Степанківська сільська територі'!D27+'Тернівська сільська територіаль'!D27+'Червонослобідська сільська тери'!D27+'Черкаська міська територіальна '!D27+'Чигиринська міська територіальн'!D27 -> 7 | E27: × | F27: × | G27: × | H27: × | I27: × | J27: ×
A28: Супровід під час інклюзивного навчання | B28: ='Балаклеївська сільська територі'!B28+'Березняківська сільська територ'!B28+'Білозірська сільська територіал'!B28+'Бобрицька сільська територіальн'!B28+'Будищенська сільська територіал'!B28+'Городищенська міська територіал'!B28+'Кам’янська міська територіальна'!B28+'Канівська міська територіальна '!B28+'Корсунь-Шевченківська міська те'!B28+'Леськівська сільська територіал'!B28+'Ліплявська сільська територіаль'!B28+'Медведівська сільська територіа'!B28+'Михайлівська сільська територіа'!B28+'Мліївська сільська територіальн'!B28+'Мошнівська сільська територіаль'!B28+'Набутівська сільська територіал'!B28+'Ротмістрівська сільська територ'!B28+'Руськополянська сільська терито'!B28+'Сагунівська сільська територіал'!B28+'Смілянська міська територіальна'!B28+'Степанецька сільська територіал'!B28+'Степанківська сільська територі'!B28+'Тернівська сільська територіаль'!B28+'Червонослобідська сільська тери'!B28+'Черкаська міська територіальна '!B28+'Чигиринська міська територіальн'!B28 -> 7 | C28: ='Балаклеївська сільська територі'!C28+'Березняківська сільська територ'!C28+'Білозірська сільська територіал'!C28+'Бобрицька сільська територіальн'!C28+'Будищенська сільська територіал'!C28+'Городищенська міська територіал'!C28+'Кам’янська міська територіальна'!C28+'Канівська міська територіальна '!C28+'Корсунь-Шевченківська міська те'!C28+'Леськівська сільська територіал'!C28+'Ліплявська сільська територіаль'!C28+'Медведівська сільська територіа'!C28+'Михайлівська сільська територіа'!C28+'Мліївська сільська територіальн'!C28+'Мошнівська сільська територіаль'!C28+'Набутівська сільська територіал'!C28+'Ротмістрівська сільська територ'!C28+'Руськополянська сільська терито'!C28+'Сагунівська сільська територіал'!C28+'Смілянська міська територіальна'!C28+'Степанецька сільська територіал'!C28+'Степанківська сільська територі'!C28+'Тернівська сільська територіаль'!C28+'Червонослобідська сільська тери'!C28+'Черкаська міська територіальна '!C28+'Чигиринська міська територіальн'!C28 -> 7 | D28: ='Балаклеївська сільська територі'!D28+'Березняківська сільська територ'!D28+'Білозірська сільська територіал'!D28+'Бобрицька сільська територіальн'!D28+'Будищенська сільська територіал'!D28+'Городищенська міська територіал'!D28+'Кам’янська міська територіальна'!D28+'Канівська міська територіальна '!D28+'Корсунь-Шевченківська міська те'!D28+'Леськівська сільська територіал'!D28+'Ліплявська сільська територіаль'!D28+'Медведівська сільська територіа'!D28+'Михайлівська сільська територіа'!D28+'Мліївська сільська територіальн'!D28+'Мошнівська сільська територіаль'!D28+'Набутівська сільська територіал'!D28+'Ротмістрівська сільська територ'!D28+'Руськополянська сільська терито'!D28+'Сагунівська сільська територіал'!D28+'Смілянська міська територіальна'!D28+'Степанецька сільська територіал'!D28+'Степанківська сільська територі'!D28+'Тернівська сільська територіаль'!D28+'Червонослобідська сільська тери'!D28+'Черкаська міська територіальна '!D28+'Чигиринська міська територіальн'!D28 -> 8 | E28: × | F28: × | G28: × | H28: × | I28: × | J28: ×
A29: Інформування | B29: ='Балаклеївська сільська територі'!B29+'Березняківська сільська територ'!B29+'Білозірська сільська територіал'!B29+'Бобрицька сільська територіальн'!B29+'Будищенська сільська територіал'!B29+'Городищенська міська територіал'!B29+'Кам’янська міська територіальна'!B29+'Канівська міська територіальна '!B29+'Корсунь-Шевченківська міська те'!B29+'Леськівська сільська територіал'!B29+'Ліплявська сільська територіаль'!B29+'Медведівська сільська територіа'!B29+'Михайлівська сільська територіа'!B29+'Мліївська сільська територіальн'!B29+'Мошнівська сільська територіаль'!B29+'Набутівська сільська територіал'!B29+'Ротмістрівська сільська територ'!B29+'Руськополянська сільська терито'!B29+'Сагунівська сільська територіал'!B29+'Смілянська міська територіальна'!B29+'Степанецька сільська територіал'!B29+'Степанківська сільська територі'!B29+'Тернівська сільська територіаль'!B29+'Червонослобідська сільська тери'!B29+'Черкаська міська територіальна '!B29+'Чигиринська міська територіальн'!B29 -> 6289 | C29: ='Балаклеївська сільська територі'!C29+'Березняківська сільська територ'!C29+'Білозірська сільська територіал'!C29+'Бобрицька сільська територіальн'!C29+'Будищенська сільська територіал'!C29+'Городищенська міська територіал'!C29+'Кам’янська міська територіальна'!C29+'Канівська міська територіальна '!C29+'Корсунь-Шевченківська міська те'!C29+'Леськівська сільська територіал'!C29+'Ліплявська сільська територіаль'!C29+'Медведівська сільська територіа'!C29+'Михайлівська сільська територіа'!C29+'Мліївська сільська територіальн'!C29+'Мошнівська сільська територіаль'!C29+'Набутівська сільська територіал'!C29+'Ротмістрівська сільська територ'!C29+'Руськополянська сільська терито'!C29+'Сагунівська сільська територіал'!C29+'Смілянська міська територіальна'!C29+'Степанецька сільська територіал'!C29+'Степанківська сільська територі'!C29+'Тернівська сільська територіаль'!C29+'Червонослобідська сільська тери'!C29+'Черкаська міська територіальна '!C29+'Чигиринська міська територіальн'!C29 -> 3801 | D29: ='Балаклеївська сільська територі'!D29+'Березняківська сільська територ'!D29+'Білозірська сільська територіал'!D29+'Бобрицька сільська територіальн'!D29+'Будищенська сільська територіал'!D29+'Городищенська міська територіал'!D29+'Кам’янська міська територіальна'!D29+'Канівська міська територіальна '!D29+'Корсунь-Шевченківська міська те'!D29+'Леськівська сільська територіал'!D29+'Ліплявська сільська територіаль'!D29+'Медведівська сільська територіа'!D29+'Михайлівська сільська територіа'!D29+'Мліївська сільська територіальн'!D29+'Мошнівська сільська територіаль'!D29+'Набутівська сільська територіал'!D29+'Ротмістрівська сільська територ'!D29+'Руськополянська сільська терито'!D29+'Сагунівська сільська територіал'!D29+'Смілянська міська територіальна'!D29+'Степанецька сільська територіал'!D29+'Степанківська сільська територі'!D29+'Тернівська сільська територіаль'!D29+'Червонослобідська сільська тери'!D29+'Черкаська міська територіальна '!D29+'Чигиринська міська територіальн'!D29 -> 6019 | E29: ='Балаклеївська сільська територі'!E29+'Березняківська сільська територ'!E29+'Білозірська сільська територіал'!E29+'Бобрицька сільська територіальн'!E29+'Будищенська сільська територіал'!E29+'Городищенська міська територіал'!E29+'Кам’янська міська територіальна'!E29+'Канівська міська територіальна '!E29+'Корсунь-Шевченківська міська те'!E29+'Леськівська сільська територіал'!E29+'Ліплявська сільська територіаль'!E29+'Медведівська сільська територіа'!E29+'Михайлівська сільська територіа'!E29+'Мліївська сільська територіальн'!E29+'Мошнівська сільська територіаль'!E29+'Набутівська сільська територіал'!E29+'Ротмістрівська сільська територ'!E29+'Руськополянська сільська терито'!E29+'Сагунівська сільська територіал'!E29+'Смілянська міська територіальна'!E29+'Степанецька сільська територіал'!E29+'Степанківська сільська територі'!E29+'Тернівська сільська територіаль'!E29+'Червонослобідська сільська тери'!E29+'Черкаська міська територіальна '!E29+'Чигиринська міська територіальн'!E29 -> 0 | F29: ='Балаклеївська сільська територі'!F29+'Березняківська сільська територ'!F29+'Білозірська сільська територіал'!F29+'Бобрицька сільська територіальн'!F29+'Будищенська сільська територіал'!F29+'Городищенська міська територіал'!F29+'Кам’янська міська територіальна'!F29+'Канівська міська територіальна '!F29+'Корсунь-Шевченківська міська те'!F29+'Леськівська сільська територіал'!F29+'Ліплявська сільська територіаль'!F29+'Медведівська сільська територіа'!F29+'Михайлівська сільська територіа'!F29+'Мліївська сільська територіальн'!F29+'Мошнівська сільська територіаль'!F29+'Набутівська сільська територіал'!F29+'Ротмістрівська сільська територ'!F29+'Руськополянська сільська терито'!F29+'Сагунівська сільська територіал'!F29+'Смілянська міська територіальна'!F29+'Степанецька сільська територіал'!F29+'Степанківська сільська територі'!F29+'Тернівська сільська територіаль'!F29+'Червонослобідська сільська тери'!F29+'Черкаська міська територіальна '!F29+'Чигиринська міська територіальн'!F29 -> 0 | G29: ='Балаклеївська сільська територі'!G29+'Березняківська сільська територ'!G29+'Білозірська сільська територіал'!G29+'Бобрицька сільська територіальн'!G29+'Будищенська сільська територіал'!G29+'Городищенська міська територіал'!G29+'Кам’янська міська територіальна'!G29+'Канівська міська територіальна '!G29+'Корсунь-Шевченківська міська те'!G29+'Леськівська сільська територіал'!G29+'Ліплявська сільська територіаль'!G29+'Медведівська сільська територіа'!G29+'Михайлівська сільська територіа'!G29+'Мліївська сільська територіальн'!G29+'Мошнівська сільська територіаль'!G29+'Набутівська сільська територіал'!G29+'Ротмістрівська сільська територ'!G29+'Руськополянська сільська терито'!G29+'Сагунівська сільська територіал'!G29+'Смілянська міська територіальна'!G29+'Степанецька сільська територіал'!G29+'Степанківська сільська територі'!G29+'Тернівська сільська територіаль'!G29+'Червонослобідська сільська тери'!G29+'Черкаська міська територіальна '!G29+'Чигиринська міська територіальн'!G29 -> 0 | H29: ='Балаклеївська сільська територі'!H29+'Березняківська сільська територ'!H29+'Білозірська сільська територіал'!H29+'Бобрицька сільська територіальн'!H29+'Будищенська сільська територіал'!H29+'Городищенська міська територіал'!H29+'Кам’янська міська територіальна'!H29+'Канівська міська територіальна '!H29+'Корсунь-Шевченківська міська те'!H29+'Леськівська сільська територіал'!H29+'Ліплявська сільська територіаль'!H29+'Медведівська сільська територіа'!H29+'Михайлівська сільська територіа'!H29+'Мліївська сільська територіальн'!H29+'Мошнівська сільська територіаль'!H29+'Набутівська сільська територіал'!H29+'Ротмістрівська сільська територ'!H29+'Руськополянська сільська терито'!H29+'Сагунівська сільська територіал'!H29+'Смілянська міська територіальна'!H29+'Степанецька сільська територіал'!H29+'Степанківська сільська територі'!H29+'Тернівська сільська територіаль'!H29+'Червонослобідська сільська тери'!H29+'Черкаська міська територіальна '!H29+'Чигиринська міська територіальн'!H29 -> 0 | I29: ='Балаклеївська сільська територі'!I29+'Березняківська сільська територ'!I29+'Білозірська сільська територіал'!I29+'Бобрицька сільська територіальн'!I29+'Будищенська сільська територіал'!I29+'Городищенська міська територіал'!I29+'Кам’янська міська територіальна'!I29+'Канівська міська територіальна '!I29+'Корсунь-Шевченківська міська те'!I29+'Леськівська сільська територіал'!I29+'Ліплявська сільська територіаль'!I29+'Медведівська сільська територіа'!I29+'Михайлівська сільська територіа'!I29+'Мліївська сільська територіальн'!I29+'Мошнівська сільська територіаль'!I29+'Набутівська сільська територіал'!I29+'Ротмістрівська сільська територ'!I29+'Руськополянська сільська терито'!I29+'Сагунівська сільська територіал'!I29+'Смілянська міська територіальна'!I29+'Степанецька сільська територіал'!I29+'Степанківська сільська територі'!I29+'Тернівська сільська територіаль'!I29+'Червонослобідська сільська тери'!I29+'Черкаська міська територіальна '!I29+'Чигиринська міська територіальн'!I29 -> 0 | J29: ='Балаклеївська сільська територі'!J29+'Березняківська сільська територ'!J29+'Білозірська сільська територіал'!J29+'Бобрицька сільська територіальн'!J29+'Будищенська сільська територіал'!J29+'Городищенська міська територіал'!J29+'Кам’янська міська територіальна'!J29+'Канівська міська територіальна '!J29+'Корсунь-Шевченківська міська те'!J29+'Леськівська сільська територіал'!J29+'Ліплявська сільська територіаль'!J29+'Медведівська сільська територіа'!J29+'Михайлівська сільська територіа'!J29+'Мліївська сільська територіальн'!J29+'Мошнівська сільська територіаль'!J29+'Набутівська сільська територіал'!J29+'Ротмістрівська сільська територ'!J29+'Руськополянська сільська терито'!J29+'Сагунівська сільська територіал'!J29+'Смілянська міська територіальна'!J29+'Степанецька сільська територіал'!J29+'Степанківська сільська територі'!J29+'Тернівська сільська територіаль'!J29+'Червонослобідська сільська тери'!J29+'Черкаська міська територіальна '!J29+'Чигиринська міська територіальн'!J29 -> 0
A30: Медіація | B30: ='Балаклеївська сільська територі'!B30+'Березняківська сільська територ'!B30+'Білозірська сільська територіал'!B30+'Бобрицька сільська територіальн'!B30+'Будищенська сільська територіал'!B30+'Городищенська міська територіал'!B30+'Кам’янська міська територіальна'!B30+'Канівська міська територіальна '!B30+'Корсунь-Шевченківська міська те'!B30+'Леськівська сільська територіал'!B30+'Ліплявська сільська територіаль'!B30+'Медведівська сільська територіа'!B30+'Михайлівська сільська територіа'!B30+'Мліївська сільська територіальн'!B30+'Мошнівська сільська територіаль'!B30+'Набутівська сільська територіал'!B30+'Ротмістрівська сільська територ'!B30+'Руськополянська сільська терито'!B30+'Сагунівська сільська територіал'!B30+'Смілянська міська територіальна'!B30+'Степанецька сільська територіал'!B30+'Степанківська сільська територі'!B30+'Тернівська сільська територіаль'!B30+'Червонослобідська сільська тери'!B30+'Черкаська міська територіальна '!B30+'Чигиринська міська територіальн'!B30 -> 19 | C30: ='Балаклеївська сільська територі'!C30+'Березняківська сільська територ'!C30+'Білозірська сільська територіал'!C30+'Бобрицька сільська територіальн'!C30+'Будищенська сільська територіал'!C30+'Городищенська міська територіал'!C30+'Кам’янська міська територіальна'!C30+'Канівська міська територіальна '!C30+'Корсунь-Шевченківська міська те'!C30+'Леськівська сільська територіал'!C30+'Ліплявська сільська територіаль'!C30+'Медведівська сільська територіа'!C30+'Михайлівська сільська територіа'!C30+'Мліївська сільська територіальн'!C30+'Мошнівська сільська територіаль'!C30+'Набутівська сільська територіал'!C30+'Ротмістрівська сільська територ'!C30+'Руськополянська сільська терито'!C30+'Сагунівська сільська територіал'!C30+'Смілянська міська територіальна'!C30+'Степанецька сільська територіал'!C30+'Степанківська сільська територі'!C30+'Тернівська сільська територіаль'!C30+'Червонослобідська сільська тери'!C30+'Черкаська міська територіальна '!C30+'Чигиринська міська територіальн'!C30 -> 19 | D30: ='Балаклеївська сільська територі'!D30+'Березняківська сільська територ'!D30+'Білозірська сільська територіал'!D30+'Бобрицька сільська територіальн'!D30+'Будищенська сільська територіал'!D30+'Городищенська міська територіал'!D30+'Кам’янська міська територіальна'!D30+'Канівська міська територіальна '!D30+'Корсунь-Шевченківська міська те'!D30+'Леськівська сільська територіал'!D30+'Ліплявська сільська територіаль'!D30+'Медведівська сільська територіа'!D30+'Михайлівська сільська територіа'!D30+'Мліївська сільська територіальн'!D30+'Мошнівська сільська територіаль'!D30+'Набутівська сільська територіал'!D30+'Ротмістрівська сільська територ'!D30+'Руськополянська сільська терито'!D30+'Сагунівська сільська територіал'!D30+'Смілянська міська територіальна'!D30+'Степанецька сільська територіал'!D30+'Степанківська сільська територі'!D30+'Тернівська сільська територіаль'!D30+'Червонослобідська сільська тери'!D30+'Черкаська міська територіальна '!D30+'Чигиринська міська територіальн'!D30 -> 19 | E30: × | F30: × | G30: × | H30: × | I30: × | J30: ×
A31: Інші соціальні послуги
A32: Консультативний кризовий телефон | B32: ='Балаклеївська сільська територі'!B32+'Березняківська сільська територ'!B32+'Білозірська сільська територіал'!B32+'Бобрицька сільська територіальн'!B32+'Будищенська сільська територіал'!B32+'Городищенська міська територіал'!B32+'Кам’янська міська територіальна'!B32+'Канівська міська територіальна '!B32+'Корсунь-Шевченківська міська те'!B32+'Леськівська сільська територіал'!B32+'Ліплявська сільська територіаль'!B32+'Медведівська сільська територіа'!B32+'Михайлівська сільська територіа'!B32+'Мліївська сільська територіальн'!B32+'Мошнівська сільська територіаль'!B32+'Набутівська сільська територіал'!B32+'Ротмістрівська сільська територ'!B32+'Руськополянська сільська терито'!B32+'Сагунівська сільська територіал'!B32+'Смілянська міська територіальна'!B32+'Степанецька сільська територіал'!B32+'Степанківська сільська територі'!B32+'Тернівська сільська територіаль'!B32+'Червонослобідська сільська тери'!B33+'Черкаська міська територіальна '!B32+'Чигиринська міська територіальн'!B32 -> 0 | C32: ='Балаклеївська сільська територі'!C32+'Березняківська сільська територ'!C32+'Білозірська сільська територіал'!C32+'Бобрицька сільська територіальн'!C32+'Будищенська сільська територіал'!C32+'Городищенська міська територіал'!C32+'Кам’янська міська територіальна'!C32+'Канівська міська територіальна '!C32+'Корсунь-Шевченківська міська те'!C32+'Леськівська сільська територіал'!C32+'Ліплявська сільська територіаль'!C32+'Медведівська сільська територіа'!C32+'Михайлівська сільська територіа'!C32+'Мліївська сільська територіальн'!C32+'Мошнівська сільська територіаль'!C32+'Набутівська сільська територіал'!C32+'Ротмістрівська сільська територ'!C32+'Руськополянська сільська терито'!C32+'Сагунівська сільська територіал'!C32+'Смілянська міська територіальна'!C32+'Степанецька сільська територіал'!C32+'Степанківська сільська територі'!C32+'Тернівська сільська територіаль'!C32+'Червонослобідська сільська тери'!C33+'Черкаська міська територіальна '!C32+'Чигиринська міська територіальн'!C32 -> 0 | D32: ='Балаклеївська сільська територі'!D32+'Березняківська сільська територ'!D32+'Білозірська сільська територіал'!D32+'Бобрицька сільська територіальн'!D32+'Будищенська сільська територіал'!D32+'Городищенська міська територіал'!D32+'Кам’янська міська територіальна'!D32+'Канівська міська територіальна '!D32+'Корсунь-Шевченківська міська те'!D32+'Леськівська сільська територіал'!D32+'Ліплявська сільська територіаль'!D32+'Медведівська сільська територіа'!D32+'Михайлівська сільська територіа'!D32+'Мліївська сільська територіальн'!D32+'Мошнівська сільська територіаль'!D32+'Набутівська сільська територіал'!D32+'Ротмістрівська сільська територ'!D32+'Руськополянська сільська терито'!D32+'Сагунівська сільська територіал'!D32+'Смілянська міська територіальна'!D32+'Степанецька сільська територіал'!D32+'Степанківська сільська територі'!D32+'Тернівська сільська територіаль'!D32+'Червонослобідська сільська тери'!D33+'Черкаська міська територіальна '!D32+'Чигиринська міська територіальн'!D32 -> 0 | E32: ='Балаклеївська сільська територі'!E32+'Березняківська сільська територ'!E32+'Білозірська сільська територіал'!E32+'Бобрицька сільська територіальн'!E32+'Будищенська сільська територіал'!E32+'Городищенська міська територіал'!E32+'Кам’янська міська територіальна'!E32+'Канівська міська територіальна '!E32+'Корсунь-Шевченківська міська те'!E32+'Леськівська сільська територіал'!E32+'Ліплявська сільська територіаль'!E32+'Медведівська сільська територіа'!E32+'Михайлівська сільська територіа'!E32+'Мліївська сільська територіальн'!E32+'Мошнівська сільська територіаль'!E32+'Набутівська сільська територіал'!E32+'Ротмістрівська сільська територ'!E32+'Руськополянська сільська терито'!E32+'Сагунівська сільська територіал'!E32+'Смілянська міська територіальна'!E32+'Степанецька сільська територіал'!E32+'Степанківська сільська територі'!E32+'Тернівська сільська територіаль'!E32+'Червонослобідська сільська тери'!E33+'Черкаська міська територіальна '!E32+'Чигиринська міська територіальн'!E32 -> 0 | F32: ='Балаклеївська сільська територі'!F32+'Березняківська сільська територ'!F32+'Білозірська сільська територіал'!F32+'Бобрицька сільська територіальн'!F32+'Будищенська сільська територіал'!F32+'Городищенська міська територіал'!F32+'Кам’янська міська територіальна'!F32+'Канівська міська територіальна '!F32+'Корсунь-Шевченківська міська те'!F32+'Леськівська сільська територіал'!F32+'Ліплявська сільська територіаль'!F32+'Медведівська сільська територіа'!F32+'Михайлівська сільська територіа'!F32+'Мліївська сільська територіальн'!F32+'Мошнівська сільська територіаль'!F32+'Набутівська сільська територіал'!F32+'Ротмістрівська сільська територ'!F32+'Руськополянська сільська терито'!F32+'Сагунівська сільська територіал'!F32+'Смілянська міська територіальна'!F32+'Степанецька сільська територіал'!F32+'Степанківська сільська територі'!F32+'Тернівська сільська територіаль'!F32+'Червонослобідська сільська тери'!F33+'Черкаська міська територіальна '!F32+'Чигиринська міська територіальн'!F32 -> 0 | G32: ='Балаклеївська сільська територі'!G32+'Березняківська сільська територ'!G32+'Білозірська сільська територіал'!G32+'Бобрицька сільська територіальн'!G32+'Будищенська сільська територіал'!G32+'Городищенська міська територіал'!G32+'Кам’янська міська територіальна'!G32+'Канівська міська територіальна '!G32+'Корсунь-Шевченківська міська те'!G32+'Леськівська сільська територіал'!G32+'Ліплявська сільська територіаль'!G32+'Медведівська сільська територіа'!G32+'Михайлівська сільська територіа'!G32+'Мліївська сільська територіальн'!G32+'Мошнівська сільська територіаль'!G32+'Набутівська сільська територіал'!G32+'Ротмістрівська сільська територ'!G32+'Руськополянська сільська терито'!G32+'Сагунівська сільська територіал'!G32+'Смілянська міська територіальна'!G32+'Степанецька сільська територіал'!G32+'Степанківська сільська територі'!G32+'Тернівська сільська територіаль'!G32+'Червонослобідська сільська тери'!G33+'Черкаська міська територіальна '!G32+'Чигиринська міська територіальн'!G32 -> 0 | H32: ='Балаклеївська сільська територі'!H32+'Березняківська сільська територ'!H32+'Білозірська сільська територіал'!H32+'Бобрицька сільська територіальн'!H32+'Будищенська сільська територіал'!H32+'Городищенська міська територіал'!H32+'Кам’янська міська територіальна'!H32+'Канівська міська територіальна '!H32+'Корсунь-Шевченківська міська те'!H32+'Леськівська сільська територіал'!H32+'Ліплявська сільська територіаль'!H32+'Медведівська сільська територіа'!H32+'Михайлівська сільська територіа'!H32+'Мліївська сільська територіальн'!H32+'Мошнівська сільська територіаль'!H32+'Набутівська сільська територіал'!H32+'Ротмістрівська сільська територ'!H32+'Руськополянська сільська терито'!H32+'Сагунівська сільська територіал'!H32+'Смілянська міська територіальна'!H32+'Степанецька сільська територіал'!H32+'Степанківська сільська територі'!H32+'Тернівська сільська територіаль'!H32+'Червонослобідська сільська тери'!H33+'Черкаська міська територіальна '!H32+'Чигиринська міська територіальн'!H32 -> 0 | I32: ='Балаклеївська сільська територі'!I32+'Березняківська сільська територ'!I32+'Білозірська сільська територіал'!I32+'Бобрицька сільська територіальн'!I32+'Будищенська сільська територіал'!I32+'Городищенська міська територіал'!I32+'Кам’янська міська територіальна'!I32+'Канівська міська територіальна '!I32+'Корсунь-Шевченківська міська те'!I32+'Леськівська сільська територіал'!I32+'Ліплявська сільська територіаль'!I32+'Медведівська сільська територіа'!I32+'Михайлівська сільська територіа'!I32+'Мліївська сільська територіальн'!I32+'Мошнівська сільська територіаль'!I32+'Набутівська сільська територіал'!I32+'Ротмістрівська сільська територ'!I32+'Руськополянська сільська терито'!I32+'Сагунівська сільська територіал'!I32+'Смілянська міська територіальна'!I32+'Степанецька сільська територіал'!I32+'Степанківська сільська територі'!I32+'Тернівська сільська територіаль'!I32+'Червонослобідська сільська тери'!I33+'Черкаська міська територіальна '!I32+'Чигиринська міська територіальн'!I32 -> 0 | J32: ='Балаклеївська сільська територі'!J32+'Березняківська сільська територ'!J32+'Білозірська сільська територіал'!J32+'Бобрицька сільська територіальн'!J32+'Будищенська сільська територіал'!J32+'Городищенська міська територіал'!J32+'Кам’янська міська територіальна'!J32+'Канівська міська територіальна '!J32+'Корсунь-Шевченківська міська те'!J32+'Леськівська сільська територіал'!J32+'Ліплявська сільська територіаль'!J32+'Медведівська сільська територіа'!J32+'Михайлівська сільська територіа'!J32+'Мліївська сільська територіальн'!J32+'Мошнівська сільська територіаль'!J32+'Набутівська сільська територіал'!J32+'Ротмістрівська сільська територ'!J32+'Руськополянська сільська терито'!J32+'Сагунівська сільська територіал'!J32+'Смілянська міська територіальна'!J32+'Степанецька сільська територіал'!J32+'Степанківська сільська територі'!J32+'Тернівська сільська територіаль'!J32+'Червонослобідська сільська тери'!J33+'Черкаська міська територіальна '!J32+'Чигиринська міська територіальн'!J32 -> 0
A33: Нічний притулок | B33: ='Балаклеївська сільська територі'!B33+'Березняківська сільська територ'!B33+'Білозірська сільська територіал'!B33+'Бобрицька сільська територіальн'!B33+'Будищенська сільська територіал'!B33+'Городищенська міська територіал'!B33+'Кам’янська міська територіальна'!B33+'Канівська міська територіальна '!B33+'Корсунь-Шевченківська міська те'!B33+'Леськівська сільська територіал'!B33+'Ліплявська сільська територіаль'!B33+'Медведівська сільська територіа'!B33+'Михайлівська сільська територіа'!B33+'Мліївська сільська територіальн'!B33+'Мошнівська сільська територіаль'!B33+'Набутівська сільська територіал'!B33+'Ротмістрівська сільська територ'!B33+'Руськополянська сільська терито'!B33+'Сагунівська сільська територіал'!B33+'Смілянська міська територіальна'!B33+'Степанецька сільська територіал'!B33+'Степанківська сільська територі'!B33+'Тернівська сільська територіаль'!B33+'Червонослобідська сільська тери'!B34+'Черкаська міська територіальна '!B33+'Чигиринська міська територіальн'!B33 -> 0 | C33: ='Балаклеївська сільська територі'!C33+'Березняківська сільська територ'!C33+'Білозірська сільська територіал'!C33+'Бобрицька сільська територіальн'!C33+'Будищенська сільська територіал'!C33+'Городищенська міська територіал'!C33+'Кам’янська міська територіальна'!C33+'Канівська міська територіальна '!C33+'Корсунь-Шевченківська міська те'!C33+'Леськівська сільська територіал'!C33+'Ліплявська сільська територіаль'!C33+'Медведівська сільська територіа'!C33+'Михайлівська сільська територіа'!C33+'Мліївська сільська територіальн'!C33+'Мошнівська сільська територіаль'!C33+'Набутівська сільська територіал'!C33+'Ротмістрівська сільська територ'!C33+'Руськополянська сільська терито'!C33+'Сагунівська сільська територіал'!C33+'Смілянська міська територіальна'!C33+'Степанецька сільська територіал'!C33+'Степанківська сільська територі'!C33+'Тернівська сільська територіаль'!C33+'Червонослобідська сільська тери'!C34+'Черкаська міська територіальна '!C33+'Чигиринська міська територіальн'!C33 -> 0 | D33: ='Балаклеївська сільська територі'!D33+'Березняківська сільська територ'!D33+'Білозірська сільська територіал'!D33+'Бобрицька сільська територіальн'!D33+'Будищенська сільська територіал'!D33+'Городищенська міська територіал'!D33+'Кам’янська міська територіальна'!D33+'Канівська міська територіальна '!D33+'Корсунь-Шевченківська міська те'!D33+'Леськівська сільська територіал'!D33+'Ліплявська сільська територіаль'!D33+'Медведівська сільська територіа'!D33+'Михайлівська сільська територіа'!D33+'Мліївська сільська територіальн'!D33+'Мошнівська сільська територіаль'!D33+'Набутівська сільська територіал'!D33+'Ротмістрівська сільська територ'!D33+'Руськополянська сільська терито'!D33+'Сагунівська сільська територіал'!D33+'Смілянська міська територіальна'!D33+'Степанецька сільська територіал'!D33+'Степанківська сільська територі'!D33+'Тернівська сільська територіаль'!D33+'Червонослобідська сільська тери'!D34+'Черкаська міська територіальна '!D33+'Чигиринська міська територіальн'!D33 -> 0 | E33: ='Балаклеївська сільська територі'!E33+'Березняківська сільська територ'!E33+'Білозірська сільська територіал'!E33+'Бобрицька сільська територіальн'!E33+'Будищенська сільська територіал'!E33+'Городищенська міська територіал'!E33+'Кам’янська міська територіальна'!E33+'Канівська міська територіальна '!E33+'Корсунь-Шевченківська міська те'!E33+'Леськівська сільська територіал'!E33+'Ліплявська сільська територіаль'!E33+'Медведівська сільська територіа'!E33+'Михайлівська сільська територіа'!E33+'Мліївська сільська територіальн'!E33+'Мошнівська сільська територіаль'!E33+'Набутівська сільська територіал'!E33+'Ротмістрівська сільська територ'!E33+'Руськополянська сільська терито'!E33+'Сагунівська сільська територіал'!E33+'Смілянська міська територіальна'!E33+'Степанецька сільська територіал'!E33+'Степанківська сільська територі'!E33+'Тернівська сільська територіаль'!E33+'Червонослобідська сільська тери'!E34+'Черкаська міська територіальна '!E33+'Чигиринська міська територіальн'!E33 -> 0 | F33: ='Балаклеївська сільська територі'!F33+'Березняківська сільська територ'!F33+'Білозірська сільська територіал'!F33+'Бобрицька сільська територіальн'!F33+'Будищенська сільська територіал'!F33+'Городищенська міська територіал'!F33+'Кам’янська міська територіальна'!F33+'Канівська міська територіальна '!F33+'Корсунь-Шевченківська міська те'!F33+'Леськівська сільська територіал'!F33+'Ліплявська сільська територіаль'!F33+'Медведівська сільська територіа'!F33+'Михайлівська сільська територіа'!F33+'Мліївська сільська територіальн'!F33+'Мошнівська сільська територіаль'!F33+'Набутівська сільська територіал'!F33+'Ротмістрівська сільська територ'!F33+'Руськополянська сільська терито'!F33+'Сагунівська сільська територіал'!F33+'Смілянська міська територіальна'!F33+'Степанецька сільська територіал'!F33+'Степанківська сільська територі'!F33+'Тернівська сільська територіаль'!F33+'Червонослобідська сільська тери'!F34+'Черкаська міська територіальна '!F33+'Чигиринська міська територіальн'!F33 -> 0 | G33: ='Балаклеївська сільська територі'!G33+'Березняківська сільська територ'!G33+'Білозірська сільська територіал'!G33+'Бобрицька сільська територіальн'!G33+'Будищенська сільська територіал'!G33+'Городищенська міська територіал'!G33+'Кам’янська міська територіальна'!G33+'Канівська міська територіальна '!G33+'Корсунь-Шевченківська міська те'!G33+'Леськівська сільська територіал'!G33+'Ліплявська сільська територіаль'!G33+'Медведівська сільська територіа'!G33+'Михайлівська сільська територіа'!G33+'Мліївська сільська територіальн'!G33+'Мошнівська сільська територіаль'!G33+'Набутівська сільська територіал'!G33+'Ротмістрівська сільська територ'!G33+'Руськополянська сільська терито'!G33+'Сагунівська сільська територіал'!G33+'Смілянська міська територіальна'!G33+'Степанецька сільська територіал'!G33+'Степанківська сільська територі'!G33+'Тернівська сільська територіаль'!G33+'Червонослобідська сільська тери'!G34+'Черкаська міська територіальна '!G33+'Чигиринська міська територіальн'!G33 -> 0 | H33: ='Балаклеївська сільська територі'!H33+'Березняківська сільська територ'!H33+'Білозірська сільська територіал'!H33+'Бобрицька сільська територіальн'!H33+'Будищенська сільська територіал'!H33+'Городищенська міська територіал'!H33+'Кам’янська міська територіальна'!H33+'Канівська міська територіальна '!H33+'Корсунь-Шевченківська міська те'!H33+'Леськівська сільська територіал'!H33+'Ліплявська сільська територіаль'!H33+'Медведівська сільська територіа'!H33+'Михайлівська сільська територіа'!H33+'Мліївська сільська територіальн'!H33+'Мошнівська сільська територіаль'!H33+'Набутівська сільська територіал'!H33+'Ротмістрівська сільська територ'!H33+'Руськополянська сільська терито'!H33+'Сагунівська сільська територіал'!H33+'Смілянська міська територіальна'!H33+'Степанецька сільська територіал'!H33+'Степанківська сільська територі'!H33+'Тернівська сільська територіаль'!H33+'Червонослобідська сільська тери'!H34+'Черкаська міська територіальна '!H33+'Чигиринська міська територіальн'!H33 -> 0 | I33: ='Балаклеївська сільська територі'!I33+'Березняківська сільська територ'!I33+'Білозірська сільська територіал'!I33+'Бобрицька сільська територіальн'!I33+'Будищенська сільська територіал'!I33+'Городищенська міська територіал'!I33+'Кам’янська міська територіальна'!I33+'Канівська міська територіальна '!I33+'Корсунь-Шевченківська міська те'!I33+'Леськівська сільська територіал'!I33+'Ліплявська сільська територіаль'!I33+'Медведівська сільська територіа'!I33+'Михайлівська сільська територіа'!I33+'Мліївська сільська територіальн'!I33+'Мошнівська сільська територіаль'!I33+'Набутівська сільська територіал'!I33+'Ротмістрівська сільська територ'!I33+'Руськополянська сільська терито'!I33+'Сагунівська сільська територіал'!I33+'Смілянська міська територіальна'!I33+'Степанецька сільська територіал'!I33+'Степанківська сільська територі'!I33+'Тернівська сільська територіаль'!I33+'Червонослобідська сільська тери'!I34+'Черкаська міська територіальна '!I33+'Чигиринська міська територіальн'!I33 -> 0 | J33: ='Балаклеївська сільська територі'!J33+'Березняківська сільська територ'!J33+'Білозірська сільська територіал'!J33+'Бобрицька сільська територіальн'!J33+'Будищенська сільська територіал'!J33+'Городищенська міська територіал'!J33+'Кам’янська міська територіальна'!J33+'Канівська міська територіальна '!J33+'Корсунь-Шевченківська міська те'!J33+'Леськівська сільська територіал'!J33+'Ліплявська сільська територіаль'!J33+'Медведівська сільська територіа'!J33+'Михайлівська сільська територіа'!J33+'Мліївська сільська територіальн'!J33+'Мошнівська сільська територіаль'!J33+'Набутівська сільська територіал'!J33+'Ротмістрівська сільська територ'!J33+'Руськополянська сільська терито'!J33+'Сагунівська сільська територіал'!J33+'Смілянська міська територіальна'!J33+'Степанецька сільська територіал'!J33+'Степанківська сільська територі'!J33+'Тернівська сільська територіаль'!J33+'Червонослобідська сільська тери'!J34+'Черкаська міська територіальна '!J33+'Чигиринська міська територіальн'!J33 -> 0
A34: Короткотермінове проживання | B34: ='Балаклеївська сільська територі'!B34+'Березняківська сільська територ'!B34+'Білозірська сільська територіал'!B34+'Бобрицька сільська територіальн'!B34+'Будищенська сільська територіал'!B34+'Городищенська міська територіал'!B34+'Кам’янська міська територіальна'!B34+'Канівська міська територіальна '!B34+'Корсунь-Шевченківська міська те'!B34+'Леськівська сільська територіал'!B34+'Ліплявська сільська територіаль'!B34+'Медведівська сільська територіа'!B34+'Михайлівська сільська територіа'!B34+'Мліївська сільська територіальн'!B34+'Мошнівська сільська територіаль'!B34+'Набутівська сільська територіал'!B34+'Ротмістрівська сільська територ'!B34+'Руськополянська сільська терито'!B34+'Сагунівська сільська територіал'!B34+'Смілянська міська територіальна'!B34+'Степанецька сільська територіал'!B34+'Степанківська сільська територі'!B34+'Тернівська сільська територіаль'!B34+'Червонослобідська сільська тери'!B35+'Черкаська міська територіальна '!B34+'Чигиринська міська територіальн'!B34 -> 0 | C34: ='Балаклеївська сільська територі'!C34+'Березняківська сільська територ'!C34+'Білозірська сільська територіал'!C34+'Бобрицька сільська територіальн'!C34+'Будищенська сільська територіал'!C34+'Городищенська міська територіал'!C34+'Кам’янська міська територіальна'!C34+'Канівська міська територіальна '!C34+'Корсунь-Шевченківська міська те'!C34+'Леськівська сільська територіал'!C34+'Ліплявська сільська територіаль'!C34+'Медведівська сільська територіа'!C34+'Михайлівська сільська територіа'!C34+'Мліївська сільська територіальн'!C34+'Мошнівська сільська територіаль'!C34+'Набутівська сільська територіал'!C34+'Ротмістрівська сільська територ'!C34+'Руськополянська сільська терито'!C34+'Сагунівська сільська територіал'!C34+'Смілянська міська територіальна'!C34+'Степанецька сільська територіал'!C34+'Степанківська сільська територі'!C34+'Тернівська сільська територіаль'!C34+'Червонослобідська сільська тери'!C35+'Черкаська міська територіальна '!C34+'Чигиринська міська територіальн'!C34 -> 0 | D34: ='Балаклеївська сільська територі'!D34+'Березняківська сільська територ'!D34+'Білозірська сільська територіал'!D34+'Бобрицька сільська територіальн'!D34+'Будищенська сільська територіал'!D34+'Городищенська міська територіал'!D34+'Кам’янська міська територіальна'!D34+'Канівська міська територіальна '!D34+'Корсунь-Шевченківська міська те'!D34+'Леськівська сільська територіал'!D34+'Ліплявська сільська територіаль'!D34+'Медведівська сільська територіа'!D34+'Михайлівська сільська територіа'!D34+'Мліївська сільська територіальн'!D34+'Мошнівська сільська територіаль'!D34+'Набутівська сільська територіал'!D34+'Ротмістрівська сільська територ'!D34+'Руськополянська сільська терито'!D34+'Сагунівська сільська територіал'!D34+'Смілянська міська територіальна'!D34+'Степанецька сільська територіал'!D34+'Степанківська сільська територі'!D34+'Тернівська сільська територіаль'!D34+'Червонослобідська сільська тери'!D35+'Черкаська міська територіальна '!D34+'Чигиринська міська територіальн'!D34 -> 0 | E34: ='Балаклеївська сільська територі'!E34+'Березняківська сільська територ'!E34+'Білозірська сільська територіал'!E34+'Бобрицька сільська територіальн'!E34+'Будищенська сільська територіал'!E34+'Городищенська міська територіал'!E34+'Кам’янська міська територіальна'!E34+'Канівська міська територіальна '!E34+'Корсунь-Шевченківська міська те'!E34+'Леськівська сільська територіал'!E34+'Ліплявська сільська територіаль'!E34+'Медведівська сільська територіа'!E34+'Михайлівська сільська територіа'!E34+'Мліївська сільська територіальн'!E34+'Мошнівська сільська територіаль'!E34+'Набутівська сільська територіал'!E34+'Ротмістрівська сільська територ'!E34+'Руськополянська сільська терито'!E34+'Сагунівська сільська територіал'!E34+'Смілянська міська територіальна'!E34+'Степанецька сільська територіал'!E34+'Степанківська сільська територі'!E34+'Тернівська сільська територіаль'!E34+'Червонослобідська сільська тери'!E34+'Черкаська міська територіальна '!E34+'Чигиринська міська територіальн'!E34 -> 0 | F34: ='Балаклеївська сільська територі'!F34+'Березняківська сільська територ'!F34+'Білозірська сільська територіал'!F34+'Бобрицька сільська територіальн'!F34+'Будищенська сільська територіал'!F34+'Городищенська міська територіал'!F34+'Кам’янська міська територіальна'!F34+'Канівська міська територіальна '!F34+'Корсунь-Шевченківська міська те'!F34+'Леськівська сільська територіал'!F34+'Ліплявська сільська територіаль'!F34+'Медведівська сільська територіа'!F34+'Михайлівська сільська територіа'!F34+'Мліївська сільська територіальн'!F34+'Мошнівська сільська територіаль'!F34+'Набутівська сільська територіал'!F34+'Ротмістрівська сільська територ'!F34+'Руськополянська сільська терито'!F34+'Сагунівська сільська територіал'!F34+'Смілянська міська територіальна'!F34+'Степанецька сільська територіал'!F34+'Степанківська сільська територі'!F34+'Тернівська сільська територіаль'!F34+'Червонослобідська сільська тери'!F34+'Черкаська міська територіальна '!F34+'Чигиринська міська територіальн'!F34 -> 0 | G34: ='Балаклеївська сільська територі'!G34+'Березняківська сільська територ'!G34+'Білозірська сільська територіал'!G34+'Бобрицька сільська територіальн'!G34+'Будищенська сільська територіал'!G34+'Городищенська міська територіал'!G34+'Кам’янська міська територіальна'!G34+'Канівська міська територіальна '!G34+'Корсунь-Шевченківська міська те'!G34+'Леськівська сільська територіал'!G34+'Ліплявська сільська територіаль'!G34+'Медведівська сільська територіа'!G34+'Михайлівська сільська територіа'!G34+'Мліївська сільська територіальн'!G34+'Мошнівська сільська територіаль'!G34+'Набутівська сільська територіал'!G34+'Ротмістрівська сільська територ'!G34+'Руськополянська сільська терито'!G34+'Сагунівська сільська територіал'!G34+'Смілянська міська територіальна'!G34+'Степанецька сільська територіал'!G34+'Степанківська сільська територі'!G34+'Тернівська сільська територіаль'!G34+'Червонослобідська сільська тери'!G34+'Черкаська міська територіальна '!G34+'Чигиринська міська територіальн'!G34 -> 0 | H34: ='Балаклеївська сільська територі'!H34+'Березняківська сільська територ'!H34+'Білозірська сільська територіал'!H34+'Бобрицька сільська територіальн'!H34+'Будищенська сільська територіал'!H34+'Городищенська міська територіал'!H34+'Кам’янська міська територіальна'!H34+'Канівська міська територіальна '!H34+'Корсунь-Шевченківська міська те'!H34+'Леськівська сільська територіал'!H34+'Ліплявська сільська територіаль'!H34+'Медведівська сільська територіа'!H34+'Михайлівська сільська територіа'!H34+'Мліївська сільська територіальн'!H34+'Мошнівська сільська територіаль'!H34+'Набутівська сільська територіал'!H34+'Ротмістрівська сільська територ'!H34+'Руськополянська сільська терито'!H34+'Сагунівська сільська територіал'!H34+'Смілянська міська територіальна'!H34+'Степанецька сільська територіал'!H34+'Степанківська сільська територі'!H34+'Тернівська сільська територіаль'!H34+'Червонослобідська сільська тери'!H34+'Черкаська міська територіальна '!H34+'Чигиринська міська територіальн'!H34 -> 0 | I34: ='Балаклеївська сільська територі'!I34+'Березняківська сільська територ'!I34+'Білозірська сільська територіал'!I34+'Бобрицька сільська територіальн'!I34+'Будищенська сільська територіал'!I34+'Городищенська міська територіал'!I34+'Кам’янська міська територіальна'!I34+'Канівська міська територіальна '!I34+'Корсунь-Шевченківська міська те'!I34+'Леськівська сільська територіал'!I34+'Ліплявська сільська територіаль'!I34+'Медведівська сільська територіа'!I34+'Михайлівська сільська територіа'!I34+'Мліївська сільська територіальн'!I34+'Мошнівська сільська територіаль'!I34+'Набутівська сільська територіал'!I34+'Ротмістрівська сільська територ'!I34+'Руськополянська сільська терито'!I34+'Сагунівська сільська територіал'!I34+'Смілянська міська територіальна'!I34+'Степанецька сільська територіал'!I34+'Степанківська сільська територі'!I34+'Тернівська сільська територіаль'!I34+'Червонослобідська сільська тери'!I34+'Черкаська міська територіальна '!I34+'Чигиринська міська територіальн'!I34 -> 0 | J34: ='Балаклеївська сільська територі'!J34+'Березняківська сільська територ'!J34+'Білозірська сільська територіал'!J34+'Бобрицька сільська територіальн'!J34+'Будищенська сільська територіал'!J34+'Городищенська міська територіал'!J34+'Кам’янська міська територіальна'!J34+'Канівська міська територіальна '!J34+'Корсунь-Шевченківська міська те'!J34+'Леськівська сільська територіал'!J34+'Ліплявська сільська територіаль'!J34+'Медведівська сільська територіа'!J34+'Михайлівська сільська територіа'!J34+'Мліївська сільська територіальн'!J34+'Мошнівська сільська територіаль'!J34+'Набутівська сільська територіал'!J34+'Ротмістрівська сільська територ'!J34+'Руськополянська сільська терито'!J34+'Сагунівська сільська територіал'!J34+'Смілянська міська територіальна'!J34+'Степанецька сільська територіал'!J34+'Степанківська сільська територі'!J34+'Тернівська сільська територіаль'!J34+'Червонослобідська сільська тери'!J34+'Черкаська міська територіальна '!J34+'Чигиринська міська територіальн'!J34 -> 0
A35: Соціально-трудова адаптація | B35: ='Балаклеївська сільська територі'!B35+'Березняківська сільська територ'!B35+'Білозірська сільська територіал'!B35+'Бобрицька сільська територіальн'!B35+'Будищенська сільська територіал'!B35+'Городищенська міська територіал'!B35+'Кам’янська міська територіальна'!B35+'Канівська міська територіальна '!B35+'Корсунь-Шевченківська міська те'!B35+'Леськівська сільська територіал'!B35+'Ліплявська сільська територіаль'!B35+'Медведівська сільська територіа'!B35+'Михайлівська сільська територіа'!B35+'Мліївська сільська територіальн'!B35+'Мошнівська сільська територіаль'!B35+'Набутівська сільська територіал'!B35+'Ротмістрівська сільська територ'!B35+'Руськополянська сільська терито'!B35+'Сагунівська сільська територіал'!B35+'Смілянська міська територіальна'!B35+'Степанецька сільська територіал'!B35+'Степанківська сільська територі'!B35+'Тернівська сільська територіаль'!B35+'Червонослобідська сільська тери'!B36+'Черкаська міська територіальна '!B35+'Чигиринська міська територіальн'!B35 -> 186 | C35: ='Балаклеївська сільська територі'!C35+'Березняківська сільська територ'!C35+'Білозірська сільська територіал'!C35+'Бобрицька сільська територіальн'!C35+'Будищенська сільська територіал'!C35+'Городищенська міська територіал'!C35+'Кам’янська міська територіальна'!C35+'Канівська міська територіальна '!C35+'Корсунь-Шевченківська міська те'!C35+'Леськівська сільська територіал'!C35+'Ліплявська сільська територіаль'!C35+'Медведівська сільська територіа'!C35+'Михайлівська сільська територіа'!C35+'Мліївська сільська територіальн'!C35+'Мошнівська сільська територіаль'!C35+'Набутівська сільська територіал'!C35+'Ротмістрівська сільська територ'!C35+'Руськополянська сільська терито'!C35+'Сагунівська сільська територіал'!C35+'Смілянська міська територіальна'!C35+'Степанецька сільська територіал'!C35+'Степанківська сільська територі'!C35+'Тернівська сільська територіаль'!C35+'Червонослобідська сільська тери'!C36+'Черкаська міська територіальна '!C35+'Чигиринська міська територіальн'!C35 -> 0 | D35: ='Балаклеївська сільська територі'!D35+'Березняківська сільська територ'!D35+'Білозірська сільська територіал'!D35+'Бобрицька сільська територіальн'!D35+'Будищенська сільська територіал'!D35+'Городищенська міська територіал'!D35+'Кам’янська міська територіальна'!D35+'Канівська міська територіальна '!D35+'Корсунь-Шевченківська міська те'!D35+'Леськівська сільська територіал'!D35+'Ліплявська сільська територіаль'!D35+'Медведівська сільська територіа'!D35+'Михайлівська сільська територіа'!D35+'Мліївська сільська територіальн'!D35+'Мошнівська сільська територіаль'!D35+'Набутівська сільська територіал'!D35+'Ротмістрівська сільська територ'!D35+'Руськополянська сільська терито'!D35+'Сагунівська сільська територіал'!D35+'Смілянська міська територіальна'!D35+'Степанецька сільська територіал'!D35+'Степанківська сільська територі'!D35+'Тернівська сільська територіаль'!D35+'Червонослобідська сільська тери'!D36+'Черкаська міська територіальна '!D35+'Чигиринська міська територіальн'!D35 -> 186 | E35: × | F35: × | G35: × | H35: × | I35: × | J35: ×
A36: Догляд стаціонарний | B36: ='Балаклеївська сільська територі'!B36+'Березняківська сільська територ'!B36+'Білозірська сільська територіал'!B36+'Бобрицька сільська територіальн'!B36+'Будищенська сільська територіал'!B36+'Городищенська міська територіал'!B36+'Кам’янська міська територіальна'!B36+'Канівська міська територіальна '!B36+'Корсунь-Шевченківська міська те'!B36+'Леськівська сільська територіал'!B36+'Ліплявська сільська територіаль'!B36+'Медведівська сільська територіа'!B36+'Михайлівська сільська територіа'!B36+'Мліївська сільська територіальн'!B36+'Мошнівська сільська територіаль'!B36+'Набутівська сільська територіал'!B36+'Ротмістрівська сільська територ'!B36+'Руськополянська сільська терито'!B36+'Сагунівська сільська територіал'!B36+'Смілянська міська територіальна'!B36+'Степанецька сільська територіал'!B36+'Степанківська сільська територі'!B36+'Тернівська сільська територіаль'!B36+'Червонослобідська сільська тери'!B37+'Черкаська міська територіальна '!B36+'Чигиринська міська територіальн'!B36 -> 156 | C36: ='Балаклеївська сільська територі'!C36+'Березняківська сільська територ'!C36+'Білозірська сільська територіал'!C36+'Бобрицька сільська територіальн'!C36+'Будищенська сільська територіал'!C36+'Городищенська міська територіал'!C36+'Кам’янська міська територіальна'!C36+'Канівська міська територіальна '!C36+'Корсунь-Шевченківська міська те'!C36+'Леськівська сільська територіал'!C36+'Ліплявська сільська територіаль'!C36+'Медведівська сільська територіа'!C36+'Михайлівська сільська територіа'!C36+'Мліївська сільська територіальн'!C36+'Мошнівська сільська територіаль'!C36+'Набутівська сільська територіал'!C36+'Ротмістрівська сільська територ'!C36+'Руськополянська сільська терито'!C36+'Сагунівська сільська територіал'!C36+'Смілянська міська територіальна'!C36+'Степанецька сільська територіал'!C36+'Степанківська сільська територі'!C36+'Тернівська сільська територіаль'!C36+'Червонослобідська сільська тери'!C37+'Черкаська міська територіальна '!C36+'Чигиринська міська територіальн'!C36 -> 154 | D36: ='Балаклеївська сільська територі'!D36+'Березняківська сільська територ'!D36+'Білозірська сільська територіал'!D36+'Бобрицька сільська територіальн'!D36+'Будищенська сільська територіал'!D36+'Городищенська міська територіал'!D36+'Кам’янська міська територіальна'!D36+'Канівська міська територіальна '!D36+'Корсунь-Шевченківська міська те'!D36+'Леськівська сільська територіал'!D36+'Ліплявська сільська територіаль'!D36+'Медведівська сільська територіа'!D36+'Михайлівська сільська територіа'!D36+'Мліївська сільська територіальн'!D36+'Мошнівська сільська територіаль'!D36+'Набутівська сільська територіал'!D36+'Ротмістрівська сільська територ'!D36+'Руськополянська сільська терито'!D36+'Сагунівська сільська територіал'!D36+'Смілянська міська територіальна'!D36+'Степанецька сільська територіал'!D36+'Степанківська сільська територі'!D36+'Тернівська сільська територіаль'!D36+'Червонослобідська сільська тери'!D37+'Черкаська міська територіальна '!D36+'Чигиринська міська територіальн'!D36 -> 214 | E36: ='Балаклеївська сільська територі'!E36+'Березняківська сільська територ'!E36+'Білозірська сільська територіал'!E36+'Бобрицька сільська територіальн'!E36+'Будищенська сільська територіал'!E36+'Городищенська міська територіал'!E36+'Кам’янська міська територіальна'!E36+'Канівська міська територіальна '!E36+'Корсунь-Шевченківська міська те'!E36+'Леськівська сільська територіал'!E36+'Ліплявська сільська територіаль'!E36+'Медведівська сільська територіа'!E36+'Михайлівська сільська територіа'!E36+'Мліївська сільська територіальн'!E36+'Мошнівська сільська територіаль'!E36+'Набутівська сільська територіал'!E36+'Ротмістрівська сільська територ'!E36+'Руськополянська сільська терито'!E36+'Сагунівська сільська територіал'!E36+'Смілянська міська територіальна'!E36+'Степанецька сільська територіал'!E36+'Степанківська сільська територі'!E36+'Тернівська сільська територіаль'!E36+'Червонослобідська сільська тери'!E36+'Черкаська міська територіальна '!E36+'Чигиринська міська територіальн'!E36 -> 3 | F36: ='Балаклеївська сільська територі'!F36+'Березняківська сільська територ'!F36+'Білозірська сільська територіал'!F36+'Бобрицька сільська територіальн'!F36+'Будищенська сільська територіал'!F36+'Городищенська міська територіал'!F36+'Кам’янська міська територіальна'!F36+'Канівська міська територіальна '!F36+'Корсунь-Шевченківська міська те'!F36+'Леськівська сільська територіал'!F36+'Ліплявська сільська територіаль'!F36+'Медведівська сільська територіа'!F36+'Михайлівська сільська територіа'!F36+'Мліївська сільська територіальн'!F36+'Мошнівська сільська територіаль'!F36+'Набутівська сільська територіал'!F36+'Ротмістрівська сільська територ'!F36+'Руськополянська сільська терито'!F36+'Сагунівська сільська територіал'!F36+'Смілянська міська територіальна'!F36+'Степанецька сільська територіал'!F36+'Степанківська сільська територі'!F36+'Тернівська сільська територіаль'!F36+'Червонослобідська сільська тери'!F36+'Черкаська міська територіальна '!F36+'Чигиринська міська територіальн'!F36 -> 1 | G36: ='Балаклеївська сільська територі'!G36+'Березняківська сільська територ'!G36+'Білозірська сільська територіал'!G36+'Бобрицька сільська територіальн'!G36+'Будищенська сільська територіал'!G36+'Городищенська міська територіал'!G36+'Кам’янська міська територіальна'!G36+'Канівська міська територіальна '!G36+'Корсунь-Шевченківська міська те'!G36+'Леськівська сільська територіал'!G36+'Ліплявська сільська територіаль'!G36+'Медведівська сільська територіа'!G36+'Михайлівська сільська територіа'!G36+'Мліївська сільська територіальн'!G36+'Мошнівська сільська територіаль'!G36+'Набутівська сільська територіал'!G36+'Ротмістрівська сільська територ'!G36+'Руськополянська сільська терито'!G36+'Сагунівська сільська територіал'!G36+'Смілянська міська територіальна'!G36+'Степанецька сільська територіал'!G36+'Степанківська сільська територі'!G36+'Тернівська сільська територіаль'!G36+'Червонослобідська сільська тери'!G36+'Черкаська міська територіальна '!G36+'Чигиринська міська територіальн'!G36 -> 0 | H36: ='Балаклеївська сільська територі'!H36+'Березняківська сільська територ'!H36+'Білозірська сільська територіал'!H36+'Бобрицька сільська територіальн'!H36+'Будищенська сільська територіал'!H36+'Городищенська міська територіал'!H36+'Кам’янська міська територіальна'!H36+'Канівська міська територіальна '!H36+'Корсунь-Шевченківська міська те'!H36+'Леськівська сільська територіал'!H36+'Ліплявська сільська територіаль'!H36+'Медведівська сільська територіа'!H36+'Михайлівська сільська територіа'!H36+'Мліївська сільська територіальн'!H36+'Мошнівська сільська територіаль'!H36+'Набутівська сільська територіал'!H36+'Ротмістрівська сільська територ'!H36+'Руськополянська сільська терито'!H36+'Сагунівська сільська територіал'!H36+'Смілянська міська територіальна'!H36+'Степанецька сільська територіал'!H36+'Степанківська сільська територі'!H36+'Тернівська сільська територіаль'!H36+'Червонослобідська сільська тери'!H36+'Черкаська міська територіальна '!H36+'Чигиринська міська територіальн'!H36 -> 3 | I36: ='Балаклеївська сільська територі'!I36+'Березняківська сільська територ'!I36+'Білозірська сільська територіал'!I36+'Бобрицька сільська територіальн'!I36+'Будищенська сільська територіал'!I36+'Городищенська міська територіал'!I36+'Кам’янська міська територіальна'!I36+'Канівська міська територіальна '!I36+'Корсунь-Шевченківська міська те'!I36+'Леськівська сільська територіал'!I36+'Ліплявська сільська територіаль'!I36+'Медведівська сільська територіа'!I36+'Михайлівська сільська територіа'!I36+'Мліївська сільська територіальн'!I36+'Мошнівська сільська територіаль'!I36+'Набутівська сільська територіал'!I36+'Ротмістрівська сільська територ'!I36+'Руськополянська сільська терито'!I36+'Сагунівська сільська територіал'!I36+'Смілянська міська територіальна'!I36+'Степанецька сільська територіал'!I36+'Степанківська сільська територі'!I36+'Тернівська сільська територіаль'!I36+'Червонослобідська сільська тери'!I36+'Черкаська міська територіальна '!I36+'Чигиринська міська територіальн'!I36 -> 1 | J36: ='Балаклеївська сільська територі'!J36+'Березняківська сільська територ'!J36+'Білозірська сільська територіал'!J36+'Бобрицька сільська територіальн'!J36+'Будищенська сільська територіал'!J36+'Городищенська міська територіал'!J36+'Кам’янська міська територіальна'!J36+'Канівська міська територіальна '!J36+'Корсунь-Шевченківська міська те'!J36+'Леськівська сільська територіал'!J36+'Ліплявська сільська територіаль'!J36+'Медведівська сільська територіа'!J36+'Михайлівська сільська територіа'!J36+'Мліївська сільська територіальн'!J36+'Мошнівська сільська територіаль'!J36+'Набутівська сільська територіал'!J36+'Ротмістрівська сільська територ'!J36+'Руськополянська сільська терито'!J36+'Сагунівська сільська територіал'!J36+'Смілянська міська територіальна'!J36+'Степанецька сільська територіал'!J36+'Степанківська сільська територі'!J36+'Тернівська сільська територіаль'!J36+'Червонослобідська сільська тери'!J36+'Черкаська міська територіальна '!J36+'Чигиринська міська територіальн'!J36 -> 0
